BEGIN:VCALENDAR
VERSION:2.0
PRODID:-//Parish of Upper Stour - ECPv6.15.20//NONSGML v1.0//EN
CALSCALE:GREGORIAN
METHOD:PUBLISH
X-WR-CALNAME:Parish of Upper Stour
X-ORIGINAL-URL:https://upperstour.co.uk
X-WR-CALDESC:Events for Parish of Upper Stour
REFRESH-INTERVAL;VALUE=DURATION:PT1H
X-Robots-Tag:noindex
X-PUBLISHED-TTL:PT1H
BEGIN:VTIMEZONE
TZID:Europe/London
BEGIN:DAYLIGHT
TZOFFSETFROM:+0000
TZOFFSETTO:+0100
TZNAME:BST
DTSTART:20210328T010000
END:DAYLIGHT
BEGIN:STANDARD
TZOFFSETFROM:+0100
TZOFFSETTO:+0000
TZNAME:GMT
DTSTART:20211031T010000
END:STANDARD
BEGIN:DAYLIGHT
TZOFFSETFROM:+0000
TZOFFSETTO:+0100
TZNAME:BST
DTSTART:20220327T010000
END:DAYLIGHT
BEGIN:STANDARD
TZOFFSETFROM:+0100
TZOFFSETTO:+0000
TZNAME:GMT
DTSTART:20221030T010000
END:STANDARD
BEGIN:DAYLIGHT
TZOFFSETFROM:+0000
TZOFFSETTO:+0100
TZNAME:BST
DTSTART:20230326T010000
END:DAYLIGHT
BEGIN:STANDARD
TZOFFSETFROM:+0100
TZOFFSETTO:+0000
TZNAME:GMT
DTSTART:20231029T010000
END:STANDARD
END:VTIMEZONE
BEGIN:VEVENT
DTSTART;TZID=Europe/London:20220529T093000
DTEND;TZID=Europe/London:20220529T103000
DTSTAMP:20260425T234057
CREATED:20220516T142758Z
LAST-MODIFIED:20220516T142758Z
UID:10000951-1653816600-1653820200@upperstour.co.uk
SUMMARY:Parish Communion at St.Martin's church\, Zeals (Sunday after Ascension)
DESCRIPTION:
URL:https://upperstour.co.uk/event/parish-communion-at-st-martins-church-zeals-sunday-after-ascension/
LOCATION:St.Martin’s Church\, Zeals\, Portnells Lane\, Zeals\, Wiltshire\, BA12 6PG\, United Kingdom
GEO:51.0849031;-2.3153286
X-APPLE-STRUCTURED-LOCATION;VALUE=URI;X-ADDRESS=St.Martin’s Church Zeals Portnells Lane Zeals Wiltshire BA12 6PG United Kingdom;X-APPLE-RADIUS=500;X-TITLE=Portnells Lane:geo:-2.3153286,51.0849031
END:VEVENT
BEGIN:VEVENT
DTSTART;TZID=Europe/London:20220528T100000
DTEND;TZID=Europe/London:20220530T170000
DTSTAMP:20260425T234057
CREATED:20220526T114049Z
LAST-MODIFIED:20220526T114317Z
UID:10000954-1653732000-1653930000@upperstour.co.uk
SUMMARY:Flower Gala at St.Peter's church\, Stourhead
DESCRIPTION:
URL:https://upperstour.co.uk/event/flower-gala-at-st-peters-church-stourhead/
LOCATION:St.Peter’s Church\, Stourton\, Church Lawn\, Stourton\, Wiltshire\, BA126QE\, United Kingdom
ORGANIZER;CN="Mrs Crin Fearon":MAILTO:via this website
GEO:51.1052227;-2.319975
X-APPLE-STRUCTURED-LOCATION;VALUE=URI;X-ADDRESS=St.Peter’s Church Stourton Church Lawn Stourton Wiltshire BA126QE United Kingdom;X-APPLE-RADIUS=500;X-TITLE=Church Lawn:geo:-2.319975,51.1052227
END:VEVENT
BEGIN:VEVENT
DTSTART;TZID=Europe/London:20220526T090000
DTEND;TZID=Europe/London:20220526T100000
DTSTAMP:20260425T234057
CREATED:20190915T105842Z
LAST-MODIFIED:20230704T113119Z
UID:10000369-1653555600-1653559200@upperstour.co.uk
SUMMARY:Morning Prayer | St.Mary's church\, Kilmington
DESCRIPTION:
URL:https://upperstour.co.uk/event/morning-prayer-st-marys-church-kilmington-10/2022-05-26/
LOCATION:St.Mary’s Church\, Kilmington\, Church Rd\, Kilmington\, Wiltshire\, BA12 6TD\, United Kingdom
CATEGORIES:Regular Church Service
GEO:51.1256794;-2.3247554
X-APPLE-STRUCTURED-LOCATION;VALUE=URI;X-ADDRESS=St.Mary’s Church Kilmington Church Rd Kilmington Wiltshire BA12 6TD United Kingdom;X-APPLE-RADIUS=500;X-TITLE=Church Rd:geo:-2.3247554,51.1256794
END:VEVENT
BEGIN:VEVENT
DTSTART;TZID=Europe/London:20220525T160000
DTEND;TZID=Europe/London:20220525T170000
DTSTAMP:20260425T234057
CREATED:20191020T105600Z
LAST-MODIFIED:20230704T110045Z
UID:10000539-1653494400-1653498000@upperstour.co.uk
SUMMARY:Afternoon Prayers | St.Martin's church\, Zeals
DESCRIPTION:
URL:https://upperstour.co.uk/event/parish-prayers-st-martins-church-zeals-6-2020-10-28-2020-11-11-2020-12-09/2022-05-25/
LOCATION:St.Martin’s Church\, Zeals\, Portnells Lane\, Zeals\, Wiltshire\, BA12 6PG\, United Kingdom
CATEGORIES:Regular Church Service
GEO:51.0849031;-2.3153286
X-APPLE-STRUCTURED-LOCATION;VALUE=URI;X-ADDRESS=St.Martin’s Church Zeals Portnells Lane Zeals Wiltshire BA12 6PG United Kingdom;X-APPLE-RADIUS=500;X-TITLE=Portnells Lane:geo:-2.3153286,51.0849031
END:VEVENT
BEGIN:VEVENT
DTSTART;TZID=Europe/London:20220525T160000
DTEND;TZID=Europe/London:20220525T170000
DTSTAMP:20260425T234057
CREATED:20191020T105600Z
LAST-MODIFIED:20230704T113559Z
UID:10000676-1653494400-1653498000@upperstour.co.uk
SUMMARY:Midweek Communion | St.Martin's church\, Zeals
DESCRIPTION:
URL:https://upperstour.co.uk/event/parish-prayers-st-martins-church-zeals-6-2020-10-28-2020-11-11-2020-12-09-2021-07-28/2022-05-25/
LOCATION:St.Martin’s Church\, Zeals\, Portnells Lane\, Zeals\, Wiltshire\, BA12 6PG\, United Kingdom
CATEGORIES:Regular Church Service
GEO:51.0849031;-2.3153286
X-APPLE-STRUCTURED-LOCATION;VALUE=URI;X-ADDRESS=St.Martin’s Church Zeals Portnells Lane Zeals Wiltshire BA12 6PG United Kingdom;X-APPLE-RADIUS=500;X-TITLE=Portnells Lane:geo:-2.3153286,51.0849031
END:VEVENT
BEGIN:VEVENT
DTSTART;TZID=Europe/London:20220523T090000
DTEND;TZID=Europe/London:20220523T100000
DTSTAMP:20260425T234057
CREATED:20190831T110029Z
LAST-MODIFIED:20201102T100603Z
UID:10000135-1653296400-1653300000@upperstour.co.uk
SUMMARY:Morning Prayers | St.George's church\, Bourton
DESCRIPTION:
URL:https://upperstour.co.uk/event/morning-prayers-st-georges-church-bourton-2020-11-09-2020-12-07/2022-05-23/
LOCATION:St.George’s Church\, Bourton\, Church Track\, Bourton\, Dorset\, SP8 5BW\, United Kingdom
GEO:51.0709798;-2.3318825
X-APPLE-STRUCTURED-LOCATION;VALUE=URI;X-ADDRESS=St.George’s Church Bourton Church Track Bourton Dorset SP8 5BW United Kingdom;X-APPLE-RADIUS=500;X-TITLE=Church Track:geo:-2.3318825,51.0709798
END:VEVENT
BEGIN:VEVENT
DTSTART;TZID=Europe/London:20220522T093000
DTEND;TZID=Europe/London:20220522T110000
DTSTAMP:20260425T234057
CREATED:20200309T103923Z
LAST-MODIFIED:20220516T140954Z
UID:10000030-1653211800-1653217200@upperstour.co.uk
SUMMARY:9.30 Parish Communion at Kilmington church
DESCRIPTION:
URL:https://upperstour.co.uk/event/parish-communion-stourton-2-2022-05-22/
LOCATION:St.Martin’s Church\, Zeals\, Portnells Lane\, Zeals\, Wiltshire\, BA12 6PG\, United Kingdom
GEO:51.0849031;-2.3153286
X-APPLE-STRUCTURED-LOCATION;VALUE=URI;X-ADDRESS=St.Martin’s Church Zeals Portnells Lane Zeals Wiltshire BA12 6PG United Kingdom;X-APPLE-RADIUS=500;X-TITLE=Portnells Lane:geo:-2.3153286,51.0849031
END:VEVENT
BEGIN:VEVENT
DTSTART;TZID=Europe/London:20220521T180000
DTEND;TZID=Europe/London:20220521T200000
DTSTAMP:20260425T234057
CREATED:20220502T102217Z
LAST-MODIFIED:20220502T103106Z
UID:10000940-1653156000-1653163200@upperstour.co.uk
SUMMARY:21st May: Ad Hoc Chorale at St.Peter's in Stourton\, (see 'attached')
DESCRIPTION:St Peter’s Concert
URL:https://upperstour.co.uk/event/ad-hoc-chorale-at-stourton-see-attached/
LOCATION:St.Peter’s Church\, Stourton\, Church Lawn\, Stourton\, Wiltshire\, BA126QE\, United Kingdom
ORGANIZER;CN="Mrs Jane Joyce":MAILTO:j-joyce@dircon.co.uk
GEO:51.1052227;-2.319975
X-APPLE-STRUCTURED-LOCATION;VALUE=URI;X-ADDRESS=St.Peter’s Church Stourton Church Lawn Stourton Wiltshire BA126QE United Kingdom;X-APPLE-RADIUS=500;X-TITLE=Church Lawn:geo:-2.319975,51.1052227
END:VEVENT
BEGIN:VEVENT
DTSTART;TZID=Europe/London:20220519T090000
DTEND;TZID=Europe/London:20220519T100000
DTSTAMP:20260425T234057
CREATED:20190915T105842Z
LAST-MODIFIED:20230704T113119Z
UID:10000368-1652950800-1652954400@upperstour.co.uk
SUMMARY:Morning Prayer | St.Mary's church\, Kilmington
DESCRIPTION:
URL:https://upperstour.co.uk/event/morning-prayer-st-marys-church-kilmington-10/2022-05-19/
LOCATION:St.Mary’s Church\, Kilmington\, Church Rd\, Kilmington\, Wiltshire\, BA12 6TD\, United Kingdom
CATEGORIES:Regular Church Service
GEO:51.1256794;-2.3247554
X-APPLE-STRUCTURED-LOCATION;VALUE=URI;X-ADDRESS=St.Mary’s Church Kilmington Church Rd Kilmington Wiltshire BA12 6TD United Kingdom;X-APPLE-RADIUS=500;X-TITLE=Church Rd:geo:-2.3247554,51.1256794
END:VEVENT
BEGIN:VEVENT
DTSTART;TZID=Europe/London:20220518T160000
DTEND;TZID=Europe/London:20220518T170000
DTSTAMP:20260425T234057
CREATED:20191020T105600Z
LAST-MODIFIED:20230704T110045Z
UID:10000538-1652889600-1652893200@upperstour.co.uk
SUMMARY:Afternoon Prayers | St.Martin's church\, Zeals
DESCRIPTION:
URL:https://upperstour.co.uk/event/parish-prayers-st-martins-church-zeals-6-2020-10-28-2020-11-11-2020-12-09/2022-05-18/
LOCATION:St.Martin’s Church\, Zeals\, Portnells Lane\, Zeals\, Wiltshire\, BA12 6PG\, United Kingdom
CATEGORIES:Regular Church Service
GEO:51.0849031;-2.3153286
X-APPLE-STRUCTURED-LOCATION;VALUE=URI;X-ADDRESS=St.Martin’s Church Zeals Portnells Lane Zeals Wiltshire BA12 6PG United Kingdom;X-APPLE-RADIUS=500;X-TITLE=Portnells Lane:geo:-2.3153286,51.0849031
END:VEVENT
BEGIN:VEVENT
DTSTART;TZID=Europe/London:20220518T160000
DTEND;TZID=Europe/London:20220518T170000
DTSTAMP:20260425T234057
CREATED:20191020T105600Z
LAST-MODIFIED:20230704T113559Z
UID:10000675-1652889600-1652893200@upperstour.co.uk
SUMMARY:Midweek Communion | St.Martin's church\, Zeals
DESCRIPTION:
URL:https://upperstour.co.uk/event/parish-prayers-st-martins-church-zeals-6-2020-10-28-2020-11-11-2020-12-09-2021-07-28/2022-05-18/
LOCATION:St.Martin’s Church\, Zeals\, Portnells Lane\, Zeals\, Wiltshire\, BA12 6PG\, United Kingdom
CATEGORIES:Regular Church Service
GEO:51.0849031;-2.3153286
X-APPLE-STRUCTURED-LOCATION;VALUE=URI;X-ADDRESS=St.Martin’s Church Zeals Portnells Lane Zeals Wiltshire BA12 6PG United Kingdom;X-APPLE-RADIUS=500;X-TITLE=Portnells Lane:geo:-2.3153286,51.0849031
END:VEVENT
BEGIN:VEVENT
DTSTART;TZID=Europe/London:20220516T120000
DTEND;TZID=Europe/London:20220516T140000
DTSTAMP:20260425T234057
CREATED:20220506T163458Z
LAST-MODIFIED:20220506T163458Z
UID:10000944-1652702400-1652709600@upperstour.co.uk
SUMMARY:Zeals Village lunch  (details attached)
DESCRIPTION:
URL:https://upperstour.co.uk/event/zeals-village-lunch-details-attached/
LOCATION:Zeals Village Hall\, New Road\, Zeals\, Wiltshire\, BA12 6NZ\, United Kingdom
GEO:51.083409;-2.314022
X-APPLE-STRUCTURED-LOCATION;VALUE=URI;X-ADDRESS=Zeals Village Hall New Road Zeals Wiltshire BA12 6NZ United Kingdom;X-APPLE-RADIUS=500;X-TITLE=New Road:geo:-2.314022,51.083409
END:VEVENT
BEGIN:VEVENT
DTSTART;TZID=Europe/London:20220516T090000
DTEND;TZID=Europe/London:20220516T100000
DTSTAMP:20260425T234057
CREATED:20190831T110029Z
LAST-MODIFIED:20201102T100603Z
UID:10000134-1652691600-1652695200@upperstour.co.uk
SUMMARY:Morning Prayers | St.George's church\, Bourton
DESCRIPTION:
URL:https://upperstour.co.uk/event/morning-prayers-st-georges-church-bourton-2020-11-09-2020-12-07/2022-05-16/
LOCATION:St.George’s Church\, Bourton\, Church Track\, Bourton\, Dorset\, SP8 5BW\, United Kingdom
GEO:51.0709798;-2.3318825
X-APPLE-STRUCTURED-LOCATION;VALUE=URI;X-ADDRESS=St.George’s Church Bourton Church Track Bourton Dorset SP8 5BW United Kingdom;X-APPLE-RADIUS=500;X-TITLE=Church Track:geo:-2.3318825,51.0709798
END:VEVENT
BEGIN:VEVENT
DTSTART;TZID=Europe/London:20220515T093000
DTEND;TZID=Europe/London:20220515T110000
DTSTAMP:20260425T234057
CREATED:20200309T103745Z
LAST-MODIFIED:20220324T122726Z
UID:10000882-1652607000-1652612400@upperstour.co.uk
SUMMARY:9.30 Stourton Parish Communion
DESCRIPTION:
URL:https://upperstour.co.uk/event/parish-communion-zeals-3-2020-11-15-2020-12-20/2022-05-15/
LOCATION:St.Peter’s Church\, Stourton\, Church Lawn\, Stourton\, Wiltshire\, BA126QE\, United Kingdom
GEO:51.1052227;-2.319975
X-APPLE-STRUCTURED-LOCATION;VALUE=URI;X-ADDRESS=St.Peter’s Church Stourton Church Lawn Stourton Wiltshire BA126QE United Kingdom;X-APPLE-RADIUS=500;X-TITLE=Church Lawn:geo:-2.319975,51.1052227
END:VEVENT
BEGIN:VEVENT
DTSTART;TZID=Europe/London:20220512T090000
DTEND;TZID=Europe/London:20220512T100000
DTSTAMP:20260425T234057
CREATED:20190915T105842Z
LAST-MODIFIED:20230704T113119Z
UID:10000367-1652346000-1652349600@upperstour.co.uk
SUMMARY:Morning Prayer | St.Mary's church\, Kilmington
DESCRIPTION:
URL:https://upperstour.co.uk/event/morning-prayer-st-marys-church-kilmington-10/2022-05-12/
LOCATION:St.Mary’s Church\, Kilmington\, Church Rd\, Kilmington\, Wiltshire\, BA12 6TD\, United Kingdom
CATEGORIES:Regular Church Service
GEO:51.1256794;-2.3247554
X-APPLE-STRUCTURED-LOCATION;VALUE=URI;X-ADDRESS=St.Mary’s Church Kilmington Church Rd Kilmington Wiltshire BA12 6TD United Kingdom;X-APPLE-RADIUS=500;X-TITLE=Church Rd:geo:-2.3247554,51.1256794
END:VEVENT
BEGIN:VEVENT
DTSTART;TZID=Europe/London:20220511T160000
DTEND;TZID=Europe/London:20220511T170000
DTSTAMP:20260425T234057
CREATED:20191020T105600Z
LAST-MODIFIED:20230704T113559Z
UID:10000674-1652284800-1652288400@upperstour.co.uk
SUMMARY:Midweek Communion | St.Martin's church\, Zeals
DESCRIPTION:
URL:https://upperstour.co.uk/event/parish-prayers-st-martins-church-zeals-6-2020-10-28-2020-11-11-2020-12-09-2021-07-28/2022-05-11/
LOCATION:St.Martin’s Church\, Zeals\, Portnells Lane\, Zeals\, Wiltshire\, BA12 6PG\, United Kingdom
CATEGORIES:Regular Church Service
GEO:51.0849031;-2.3153286
X-APPLE-STRUCTURED-LOCATION;VALUE=URI;X-ADDRESS=St.Martin’s Church Zeals Portnells Lane Zeals Wiltshire BA12 6PG United Kingdom;X-APPLE-RADIUS=500;X-TITLE=Portnells Lane:geo:-2.3153286,51.0849031
END:VEVENT
BEGIN:VEVENT
DTSTART;TZID=Europe/London:20220511T160000
DTEND;TZID=Europe/London:20220511T170000
DTSTAMP:20260425T234057
CREATED:20191020T105600Z
LAST-MODIFIED:20230704T110045Z
UID:10000537-1652284800-1652288400@upperstour.co.uk
SUMMARY:Afternoon Prayers | St.Martin's church\, Zeals
DESCRIPTION:
URL:https://upperstour.co.uk/event/parish-prayers-st-martins-church-zeals-6-2020-10-28-2020-11-11-2020-12-09/2022-05-11/
LOCATION:St.Martin’s Church\, Zeals\, Portnells Lane\, Zeals\, Wiltshire\, BA12 6PG\, United Kingdom
CATEGORIES:Regular Church Service
GEO:51.0849031;-2.3153286
X-APPLE-STRUCTURED-LOCATION;VALUE=URI;X-ADDRESS=St.Martin’s Church Zeals Portnells Lane Zeals Wiltshire BA12 6PG United Kingdom;X-APPLE-RADIUS=500;X-TITLE=Portnells Lane:geo:-2.3153286,51.0849031
END:VEVENT
BEGIN:VEVENT
DTSTART;TZID=Europe/London:20220509T093000
DTEND;TZID=Europe/London:20220509T110000
DTSTAMP:20260425T234057
CREATED:20220219T161612Z
LAST-MODIFIED:20220219T161612Z
UID:10000051-1652088600-1652094000@upperstour.co.uk
SUMMARY:Ministers meeting\, in St.Martins church\, Zeals
DESCRIPTION:
URL:https://upperstour.co.uk/event/ministers-meeting-in-st-martins-church-zeals-4/
LOCATION:St.Martin’s Church\, Zeals\, Portnells Lane\, Zeals\, Wiltshire\, BA12 6PG\, United Kingdom
ORGANIZER;CN="Rev. Mike MacCormack":MAILTO:revmac@upperstour.co.uk
GEO:51.0849031;-2.3153286
X-APPLE-STRUCTURED-LOCATION;VALUE=URI;X-ADDRESS=St.Martin’s Church Zeals Portnells Lane Zeals Wiltshire BA12 6PG United Kingdom;X-APPLE-RADIUS=500;X-TITLE=Portnells Lane:geo:-2.3153286,51.0849031
END:VEVENT
BEGIN:VEVENT
DTSTART;TZID=Europe/London:20220509T090000
DTEND;TZID=Europe/London:20220509T100000
DTSTAMP:20260425T234057
CREATED:20190831T110029Z
LAST-MODIFIED:20201102T100603Z
UID:10000133-1652086800-1652090400@upperstour.co.uk
SUMMARY:Morning Prayers | St.George's church\, Bourton
DESCRIPTION:
URL:https://upperstour.co.uk/event/morning-prayers-st-georges-church-bourton-2020-11-09-2020-12-07/2022-05-09/
LOCATION:St.George’s Church\, Bourton\, Church Track\, Bourton\, Dorset\, SP8 5BW\, United Kingdom
GEO:51.0709798;-2.3318825
X-APPLE-STRUCTURED-LOCATION;VALUE=URI;X-ADDRESS=St.George’s Church Bourton Church Track Bourton Dorset SP8 5BW United Kingdom;X-APPLE-RADIUS=500;X-TITLE=Church Track:geo:-2.3318825,51.0709798
END:VEVENT
BEGIN:VEVENT
DTSTART;TZID=Europe/London:20220508T093000
DTEND;TZID=Europe/London:20220508T110000
DTSTAMP:20260425T234057
CREATED:20200309T102858Z
LAST-MODIFIED:20220324T122423Z
UID:10000834-1652002200-1652007600@upperstour.co.uk
SUMMARY:9.30 Kilmington Parish Communion
DESCRIPTION:
URL:https://upperstour.co.uk/event/parish-communion-kilmington-3/2022-05-08/
LOCATION:St.Mary’s Church\, Kilmington\, Church Rd\, Kilmington\, Wiltshire\, BA12 6TD\, United Kingdom
GEO:51.1256794;-2.3247554
X-APPLE-STRUCTURED-LOCATION;VALUE=URI;X-ADDRESS=St.Mary’s Church Kilmington Church Rd Kilmington Wiltshire BA12 6TD United Kingdom;X-APPLE-RADIUS=500;X-TITLE=Church Rd:geo:-2.3247554,51.1256794
END:VEVENT
BEGIN:VEVENT
DTSTART;TZID=Europe/London:20220505T090000
DTEND;TZID=Europe/London:20220505T100000
DTSTAMP:20260425T234057
CREATED:20190915T105842Z
LAST-MODIFIED:20230704T113119Z
UID:10000366-1651741200-1651744800@upperstour.co.uk
SUMMARY:Morning Prayer | St.Mary's church\, Kilmington
DESCRIPTION:
URL:https://upperstour.co.uk/event/morning-prayer-st-marys-church-kilmington-10/2022-05-05/
LOCATION:St.Mary’s Church\, Kilmington\, Church Rd\, Kilmington\, Wiltshire\, BA12 6TD\, United Kingdom
CATEGORIES:Regular Church Service
GEO:51.1256794;-2.3247554
X-APPLE-STRUCTURED-LOCATION;VALUE=URI;X-ADDRESS=St.Mary’s Church Kilmington Church Rd Kilmington Wiltshire BA12 6TD United Kingdom;X-APPLE-RADIUS=500;X-TITLE=Church Rd:geo:-2.3247554,51.1256794
END:VEVENT
BEGIN:VEVENT
DTSTART;TZID=Europe/London:20220504T160000
DTEND;TZID=Europe/London:20220504T170000
DTSTAMP:20260425T234057
CREATED:20191020T105600Z
LAST-MODIFIED:20230704T113559Z
UID:10000673-1651680000-1651683600@upperstour.co.uk
SUMMARY:Midweek Communion | St.Martin's church\, Zeals
DESCRIPTION:
URL:https://upperstour.co.uk/event/parish-prayers-st-martins-church-zeals-6-2020-10-28-2020-11-11-2020-12-09-2021-07-28/2022-05-04/
LOCATION:St.Martin’s Church\, Zeals\, Portnells Lane\, Zeals\, Wiltshire\, BA12 6PG\, United Kingdom
CATEGORIES:Regular Church Service
GEO:51.0849031;-2.3153286
X-APPLE-STRUCTURED-LOCATION;VALUE=URI;X-ADDRESS=St.Martin’s Church Zeals Portnells Lane Zeals Wiltshire BA12 6PG United Kingdom;X-APPLE-RADIUS=500;X-TITLE=Portnells Lane:geo:-2.3153286,51.0849031
END:VEVENT
BEGIN:VEVENT
DTSTART;TZID=Europe/London:20220504T160000
DTEND;TZID=Europe/London:20220504T170000
DTSTAMP:20260425T234057
CREATED:20191020T105600Z
LAST-MODIFIED:20230704T110045Z
UID:10000536-1651680000-1651683600@upperstour.co.uk
SUMMARY:Afternoon Prayers | St.Martin's church\, Zeals
DESCRIPTION:
URL:https://upperstour.co.uk/event/parish-prayers-st-martins-church-zeals-6-2020-10-28-2020-11-11-2020-12-09/2022-05-04/
LOCATION:St.Martin’s Church\, Zeals\, Portnells Lane\, Zeals\, Wiltshire\, BA12 6PG\, United Kingdom
CATEGORIES:Regular Church Service
GEO:51.0849031;-2.3153286
X-APPLE-STRUCTURED-LOCATION;VALUE=URI;X-ADDRESS=St.Martin’s Church Zeals Portnells Lane Zeals Wiltshire BA12 6PG United Kingdom;X-APPLE-RADIUS=500;X-TITLE=Portnells Lane:geo:-2.3153286,51.0849031
END:VEVENT
BEGIN:VEVENT
DTSTART;TZID=Europe/London:20220502T090000
DTEND;TZID=Europe/London:20220502T100000
DTSTAMP:20260425T234057
CREATED:20190831T110029Z
LAST-MODIFIED:20201102T100603Z
UID:10000132-1651482000-1651485600@upperstour.co.uk
SUMMARY:Morning Prayers | St.George's church\, Bourton
DESCRIPTION:
URL:https://upperstour.co.uk/event/morning-prayers-st-georges-church-bourton-2020-11-09-2020-12-07/2022-05-02/
LOCATION:St.George’s Church\, Bourton\, Church Track\, Bourton\, Dorset\, SP8 5BW\, United Kingdom
GEO:51.0709798;-2.3318825
X-APPLE-STRUCTURED-LOCATION;VALUE=URI;X-ADDRESS=St.George’s Church Bourton Church Track Bourton Dorset SP8 5BW United Kingdom;X-APPLE-RADIUS=500;X-TITLE=Church Track:geo:-2.3318825,51.0709798
END:VEVENT
BEGIN:VEVENT
DTSTART;TZID=Europe/London:20220501T093000
DTEND;TZID=Europe/London:20220501T110000
DTSTAMP:20260425T234057
CREATED:20200309T102703Z
LAST-MODIFIED:20220401T132156Z
UID:10000792-1651397400-1651402800@upperstour.co.uk
SUMMARY:9.30 Bourton Parish Communion
DESCRIPTION:
URL:https://upperstour.co.uk/event/parish-communion-bourton-3/2022-05-01/
LOCATION:St.George’s Church\, Bourton\, Church Track\, Bourton\, Dorset\, SP8 5BW\, United Kingdom
GEO:51.0709798;-2.3318825
X-APPLE-STRUCTURED-LOCATION;VALUE=URI;X-ADDRESS=St.George’s Church Bourton Church Track Bourton Dorset SP8 5BW United Kingdom;X-APPLE-RADIUS=500;X-TITLE=Church Track:geo:-2.3318825,51.0709798
END:VEVENT
BEGIN:VEVENT
DTSTART;TZID=Europe/London:20220430T090000
DTEND;TZID=Europe/London:20220430T170000
DTSTAMP:20260425T234057
CREATED:20211128T124221Z
LAST-MODIFIED:20211128T124221Z
UID:10000048-1651309200-1651338000@upperstour.co.uk
SUMMARY:in St.Martin's church:  Bellringer training (Mere area)
DESCRIPTION:
URL:https://upperstour.co.uk/event/in-st-martins-church-bellringer-training-mere-area/
LOCATION:St.Martin’s Church\, Zeals\, Portnells Lane\, Zeals\, Wiltshire\, BA12 6PG\, United Kingdom
ORGANIZER;CN="Mr Len Roberts":MAILTO:leninkington@outlook.com
GEO:51.0849031;-2.3153286
X-APPLE-STRUCTURED-LOCATION;VALUE=URI;X-ADDRESS=St.Martin’s Church Zeals Portnells Lane Zeals Wiltshire BA12 6PG United Kingdom;X-APPLE-RADIUS=500;X-TITLE=Portnells Lane:geo:-2.3153286,51.0849031
END:VEVENT
BEGIN:VEVENT
DTSTART;TZID=Europe/London:20220428T090000
DTEND;TZID=Europe/London:20220428T100000
DTSTAMP:20260425T234057
CREATED:20190915T105842Z
LAST-MODIFIED:20230704T113119Z
UID:10000365-1651136400-1651140000@upperstour.co.uk
SUMMARY:Morning Prayer | St.Mary's church\, Kilmington
DESCRIPTION:
URL:https://upperstour.co.uk/event/morning-prayer-st-marys-church-kilmington-10/2022-04-28/
LOCATION:St.Mary’s Church\, Kilmington\, Church Rd\, Kilmington\, Wiltshire\, BA12 6TD\, United Kingdom
CATEGORIES:Regular Church Service
GEO:51.1256794;-2.3247554
X-APPLE-STRUCTURED-LOCATION;VALUE=URI;X-ADDRESS=St.Mary’s Church Kilmington Church Rd Kilmington Wiltshire BA12 6TD United Kingdom;X-APPLE-RADIUS=500;X-TITLE=Church Rd:geo:-2.3247554,51.1256794
END:VEVENT
BEGIN:VEVENT
DTSTART;TZID=Europe/London:20220427T160000
DTEND;TZID=Europe/London:20220427T170000
DTSTAMP:20260425T234057
CREATED:20191020T105600Z
LAST-MODIFIED:20230704T113559Z
UID:10000672-1651075200-1651078800@upperstour.co.uk
SUMMARY:Midweek Communion | St.Martin's church\, Zeals
DESCRIPTION:
URL:https://upperstour.co.uk/event/parish-prayers-st-martins-church-zeals-6-2020-10-28-2020-11-11-2020-12-09-2021-07-28/2022-04-27/
LOCATION:St.Martin’s Church\, Zeals\, Portnells Lane\, Zeals\, Wiltshire\, BA12 6PG\, United Kingdom
CATEGORIES:Regular Church Service
GEO:51.0849031;-2.3153286
X-APPLE-STRUCTURED-LOCATION;VALUE=URI;X-ADDRESS=St.Martin’s Church Zeals Portnells Lane Zeals Wiltshire BA12 6PG United Kingdom;X-APPLE-RADIUS=500;X-TITLE=Portnells Lane:geo:-2.3153286,51.0849031
END:VEVENT
BEGIN:VEVENT
DTSTART;TZID=Europe/London:20220427T160000
DTEND;TZID=Europe/London:20220427T170000
DTSTAMP:20260425T234057
CREATED:20191020T105600Z
LAST-MODIFIED:20230704T110045Z
UID:10000535-1651075200-1651078800@upperstour.co.uk
SUMMARY:Afternoon Prayers | St.Martin's church\, Zeals
DESCRIPTION:
URL:https://upperstour.co.uk/event/parish-prayers-st-martins-church-zeals-6-2020-10-28-2020-11-11-2020-12-09/2022-04-27/
LOCATION:St.Martin’s Church\, Zeals\, Portnells Lane\, Zeals\, Wiltshire\, BA12 6PG\, United Kingdom
CATEGORIES:Regular Church Service
GEO:51.0849031;-2.3153286
X-APPLE-STRUCTURED-LOCATION;VALUE=URI;X-ADDRESS=St.Martin’s Church Zeals Portnells Lane Zeals Wiltshire BA12 6PG United Kingdom;X-APPLE-RADIUS=500;X-TITLE=Portnells Lane:geo:-2.3153286,51.0849031
END:VEVENT
BEGIN:VEVENT
DTSTART;TZID=Europe/London:20220425T090000
DTEND;TZID=Europe/London:20220425T100000
DTSTAMP:20260425T234057
CREATED:20190831T110029Z
LAST-MODIFIED:20201102T100603Z
UID:10000131-1650877200-1650880800@upperstour.co.uk
SUMMARY:Morning Prayers | St.George's church\, Bourton
DESCRIPTION:
URL:https://upperstour.co.uk/event/morning-prayers-st-georges-church-bourton-2020-11-09-2020-12-07/2022-04-25/
LOCATION:St.George’s Church\, Bourton\, Church Track\, Bourton\, Dorset\, SP8 5BW\, United Kingdom
GEO:51.0709798;-2.3318825
X-APPLE-STRUCTURED-LOCATION;VALUE=URI;X-ADDRESS=St.George’s Church Bourton Church Track Bourton Dorset SP8 5BW United Kingdom;X-APPLE-RADIUS=500;X-TITLE=Church Track:geo:-2.3318825,51.0709798
END:VEVENT
END:VCALENDAR