BEGIN:VCALENDAR
VERSION:2.0
PRODID:-//Parish of Upper Stour - ECPv6.15.20//NONSGML v1.0//EN
CALSCALE:GREGORIAN
METHOD:PUBLISH
X-WR-CALNAME:Parish of Upper Stour
X-ORIGINAL-URL:https://upperstour.co.uk
X-WR-CALDESC:Events for Parish of Upper Stour
REFRESH-INTERVAL;VALUE=DURATION:PT1H
X-Robots-Tag:noindex
X-PUBLISHED-TTL:PT1H
BEGIN:VTIMEZONE
TZID:Europe/London
BEGIN:DAYLIGHT
TZOFFSETFROM:+0000
TZOFFSETTO:+0100
TZNAME:BST
DTSTART:20210328T010000
END:DAYLIGHT
BEGIN:STANDARD
TZOFFSETFROM:+0100
TZOFFSETTO:+0000
TZNAME:GMT
DTSTART:20211031T010000
END:STANDARD
BEGIN:DAYLIGHT
TZOFFSETFROM:+0000
TZOFFSETTO:+0100
TZNAME:BST
DTSTART:20220327T010000
END:DAYLIGHT
BEGIN:STANDARD
TZOFFSETFROM:+0100
TZOFFSETTO:+0000
TZNAME:GMT
DTSTART:20221030T010000
END:STANDARD
BEGIN:DAYLIGHT
TZOFFSETFROM:+0000
TZOFFSETTO:+0100
TZNAME:BST
DTSTART:20230326T010000
END:DAYLIGHT
BEGIN:STANDARD
TZOFFSETFROM:+0100
TZOFFSETTO:+0000
TZNAME:GMT
DTSTART:20231029T010000
END:STANDARD
END:VTIMEZONE
BEGIN:VEVENT
DTSTART;TZID=Europe/London:20220713T160000
DTEND;TZID=Europe/London:20220713T170000
DTSTAMP:20260425T185046
CREATED:20191020T105600Z
LAST-MODIFIED:20230704T110045Z
UID:10000546-1657728000-1657731600@upperstour.co.uk
SUMMARY:Afternoon Prayers | St.Martin's church\, Zeals
DESCRIPTION:
URL:https://upperstour.co.uk/event/parish-prayers-st-martins-church-zeals-6-2020-10-28-2020-11-11-2020-12-09/2022-07-13/
LOCATION:St.Martin’s Church\, Zeals\, Portnells Lane\, Zeals\, Wiltshire\, BA12 6PG\, United Kingdom
CATEGORIES:Regular Church Service
GEO:51.0849031;-2.3153286
X-APPLE-STRUCTURED-LOCATION;VALUE=URI;X-ADDRESS=St.Martin’s Church Zeals Portnells Lane Zeals Wiltshire BA12 6PG United Kingdom;X-APPLE-RADIUS=500;X-TITLE=Portnells Lane:geo:-2.3153286,51.0849031
END:VEVENT
BEGIN:VEVENT
DTSTART;TZID=Europe/London:20220713T160000
DTEND;TZID=Europe/London:20220713T170000
DTSTAMP:20260425T185046
CREATED:20191020T105600Z
LAST-MODIFIED:20230704T113559Z
UID:10000683-1657728000-1657731600@upperstour.co.uk
SUMMARY:Midweek Communion | St.Martin's church\, Zeals
DESCRIPTION:
URL:https://upperstour.co.uk/event/parish-prayers-st-martins-church-zeals-6-2020-10-28-2020-11-11-2020-12-09-2021-07-28/2022-07-13/
LOCATION:St.Martin’s Church\, Zeals\, Portnells Lane\, Zeals\, Wiltshire\, BA12 6PG\, United Kingdom
CATEGORIES:Regular Church Service
GEO:51.0849031;-2.3153286
X-APPLE-STRUCTURED-LOCATION;VALUE=URI;X-ADDRESS=St.Martin’s Church Zeals Portnells Lane Zeals Wiltshire BA12 6PG United Kingdom;X-APPLE-RADIUS=500;X-TITLE=Portnells Lane:geo:-2.3153286,51.0849031
END:VEVENT
BEGIN:VEVENT
DTSTART;TZID=Europe/London:20220711T093000
DTEND;TZID=Europe/London:20220711T110000
DTSTAMP:20260425T185046
CREATED:20220219T161825Z
LAST-MODIFIED:20220219T161825Z
UID:10000053-1657531800-1657537200@upperstour.co.uk
SUMMARY:Ministers meeting\, in St.Martins church\, Zeals
DESCRIPTION:
URL:https://upperstour.co.uk/event/ministers-meeting-in-st-martins-church-zeals-6/
LOCATION:St.Martin’s Church\, Zeals\, Portnells Lane\, Zeals\, Wiltshire\, BA12 6PG\, United Kingdom
ORGANIZER;CN="Rev. Mike MacCormack":MAILTO:revmac@upperstour.co.uk
GEO:51.0849031;-2.3153286
X-APPLE-STRUCTURED-LOCATION;VALUE=URI;X-ADDRESS=St.Martin’s Church Zeals Portnells Lane Zeals Wiltshire BA12 6PG United Kingdom;X-APPLE-RADIUS=500;X-TITLE=Portnells Lane:geo:-2.3153286,51.0849031
END:VEVENT
BEGIN:VEVENT
DTSTART;TZID=Europe/London:20220711T090000
DTEND;TZID=Europe/London:20220711T100000
DTSTAMP:20260425T185046
CREATED:20190831T110029Z
LAST-MODIFIED:20201102T100603Z
UID:10000142-1657530000-1657533600@upperstour.co.uk
SUMMARY:Morning Prayers | St.George's church\, Bourton
DESCRIPTION:
URL:https://upperstour.co.uk/event/morning-prayers-st-georges-church-bourton-2020-11-09-2020-12-07/2022-07-11/
LOCATION:St.George’s Church\, Bourton\, Church Track\, Bourton\, Dorset\, SP8 5BW\, United Kingdom
GEO:51.0709798;-2.3318825
X-APPLE-STRUCTURED-LOCATION;VALUE=URI;X-ADDRESS=St.George’s Church Bourton Church Track Bourton Dorset SP8 5BW United Kingdom;X-APPLE-RADIUS=500;X-TITLE=Church Track:geo:-2.3318825,51.0709798
END:VEVENT
BEGIN:VEVENT
DTSTART;TZID=Europe/London:20220710T100000
DTEND;TZID=Europe/London:20220710T110000
DTSTAMP:20260425T185046
CREATED:20200309T102858Z
LAST-MODIFIED:20220515T150803Z
UID:10000850-1657447200-1657450800@upperstour.co.uk
SUMMARY:10am Kilmington Parish Communion
DESCRIPTION:
URL:https://upperstour.co.uk/event/parish-communion-kilmington-3-2022-07-10/
LOCATION:St.Mary’s Church\, Kilmington\, Church Rd\, Kilmington\, Wiltshire\, BA12 6TD\, United Kingdom
GEO:51.1256794;-2.3247554
X-APPLE-STRUCTURED-LOCATION;VALUE=URI;X-ADDRESS=St.Mary’s Church Kilmington Church Rd Kilmington Wiltshire BA12 6TD United Kingdom;X-APPLE-RADIUS=500;X-TITLE=Church Rd:geo:-2.3247554,51.1256794
END:VEVENT
BEGIN:VEVENT
DTSTART;TZID=Europe/London:20220707T090000
DTEND;TZID=Europe/London:20220707T100000
DTSTAMP:20260425T185046
CREATED:20190915T105842Z
LAST-MODIFIED:20230704T113119Z
UID:10000375-1657184400-1657188000@upperstour.co.uk
SUMMARY:Morning Prayer | St.Mary's church\, Kilmington
DESCRIPTION:
URL:https://upperstour.co.uk/event/morning-prayer-st-marys-church-kilmington-10/2022-07-07/
LOCATION:St.Mary’s Church\, Kilmington\, Church Rd\, Kilmington\, Wiltshire\, BA12 6TD\, United Kingdom
CATEGORIES:Regular Church Service
GEO:51.1256794;-2.3247554
X-APPLE-STRUCTURED-LOCATION;VALUE=URI;X-ADDRESS=St.Mary’s Church Kilmington Church Rd Kilmington Wiltshire BA12 6TD United Kingdom;X-APPLE-RADIUS=500;X-TITLE=Church Rd:geo:-2.3247554,51.1256794
END:VEVENT
BEGIN:VEVENT
DTSTART;TZID=Europe/London:20220706T160000
DTEND;TZID=Europe/London:20220706T170000
DTSTAMP:20260425T185046
CREATED:20191020T105600Z
LAST-MODIFIED:20230704T113559Z
UID:10000682-1657123200-1657126800@upperstour.co.uk
SUMMARY:Midweek Communion | St.Martin's church\, Zeals
DESCRIPTION:
URL:https://upperstour.co.uk/event/parish-prayers-st-martins-church-zeals-6-2020-10-28-2020-11-11-2020-12-09-2021-07-28/2022-07-06/
LOCATION:St.Martin’s Church\, Zeals\, Portnells Lane\, Zeals\, Wiltshire\, BA12 6PG\, United Kingdom
CATEGORIES:Regular Church Service
GEO:51.0849031;-2.3153286
X-APPLE-STRUCTURED-LOCATION;VALUE=URI;X-ADDRESS=St.Martin’s Church Zeals Portnells Lane Zeals Wiltshire BA12 6PG United Kingdom;X-APPLE-RADIUS=500;X-TITLE=Portnells Lane:geo:-2.3153286,51.0849031
END:VEVENT
BEGIN:VEVENT
DTSTART;TZID=Europe/London:20220706T160000
DTEND;TZID=Europe/London:20220706T170000
DTSTAMP:20260425T185046
CREATED:20191020T105600Z
LAST-MODIFIED:20230704T110045Z
UID:10000545-1657123200-1657126800@upperstour.co.uk
SUMMARY:Afternoon Prayers | St.Martin's church\, Zeals
DESCRIPTION:
URL:https://upperstour.co.uk/event/parish-prayers-st-martins-church-zeals-6-2020-10-28-2020-11-11-2020-12-09/2022-07-06/
LOCATION:St.Martin’s Church\, Zeals\, Portnells Lane\, Zeals\, Wiltshire\, BA12 6PG\, United Kingdom
CATEGORIES:Regular Church Service
GEO:51.0849031;-2.3153286
X-APPLE-STRUCTURED-LOCATION;VALUE=URI;X-ADDRESS=St.Martin’s Church Zeals Portnells Lane Zeals Wiltshire BA12 6PG United Kingdom;X-APPLE-RADIUS=500;X-TITLE=Portnells Lane:geo:-2.3153286,51.0849031
END:VEVENT
BEGIN:VEVENT
DTSTART;TZID=Europe/London:20220704T090000
DTEND;TZID=Europe/London:20220704T100000
DTSTAMP:20260425T185046
CREATED:20190831T110029Z
LAST-MODIFIED:20201102T100603Z
UID:10000141-1656925200-1656928800@upperstour.co.uk
SUMMARY:Morning Prayers | St.George's church\, Bourton
DESCRIPTION:
URL:https://upperstour.co.uk/event/morning-prayers-st-georges-church-bourton-2020-11-09-2020-12-07/2022-07-04/
LOCATION:St.George’s Church\, Bourton\, Church Track\, Bourton\, Dorset\, SP8 5BW\, United Kingdom
GEO:51.0709798;-2.3318825
X-APPLE-STRUCTURED-LOCATION;VALUE=URI;X-ADDRESS=St.George’s Church Bourton Church Track Bourton Dorset SP8 5BW United Kingdom;X-APPLE-RADIUS=500;X-TITLE=Church Track:geo:-2.3318825,51.0709798
END:VEVENT
BEGIN:VEVENT
DTSTART;TZID=Europe/London:20220703T100000
DTEND;TZID=Europe/London:20220703T110000
DTSTAMP:20260425T185046
CREATED:20200309T102703Z
LAST-MODIFIED:20220515T150902Z
UID:10000805-1656842400-1656846000@upperstour.co.uk
SUMMARY:10am Bourton Parish Communion
DESCRIPTION:
URL:https://upperstour.co.uk/event/parish-communion-bourton-3-2022-07-03/
LOCATION:St.George’s Church\, Bourton\, Church Track\, Bourton\, Dorset\, SP8 5BW\, United Kingdom
GEO:51.0709798;-2.3318825
X-APPLE-STRUCTURED-LOCATION;VALUE=URI;X-ADDRESS=St.George’s Church Bourton Church Track Bourton Dorset SP8 5BW United Kingdom;X-APPLE-RADIUS=500;X-TITLE=Church Track:geo:-2.3318825,51.0709798
END:VEVENT
BEGIN:VEVENT
DTSTART;TZID=Europe/London:20220630T090000
DTEND;TZID=Europe/London:20220630T100000
DTSTAMP:20260425T185046
CREATED:20190915T105842Z
LAST-MODIFIED:20230704T113119Z
UID:10000374-1656579600-1656583200@upperstour.co.uk
SUMMARY:Morning Prayer | St.Mary's church\, Kilmington
DESCRIPTION:
URL:https://upperstour.co.uk/event/morning-prayer-st-marys-church-kilmington-10/2022-06-30/
LOCATION:St.Mary’s Church\, Kilmington\, Church Rd\, Kilmington\, Wiltshire\, BA12 6TD\, United Kingdom
CATEGORIES:Regular Church Service
GEO:51.1256794;-2.3247554
X-APPLE-STRUCTURED-LOCATION;VALUE=URI;X-ADDRESS=St.Mary’s Church Kilmington Church Rd Kilmington Wiltshire BA12 6TD United Kingdom;X-APPLE-RADIUS=500;X-TITLE=Church Rd:geo:-2.3247554,51.1256794
END:VEVENT
BEGIN:VEVENT
DTSTART;TZID=Europe/London:20220629T160000
DTEND;TZID=Europe/London:20220629T170000
DTSTAMP:20260425T185046
CREATED:20191020T105600Z
LAST-MODIFIED:20230704T113559Z
UID:10000681-1656518400-1656522000@upperstour.co.uk
SUMMARY:Midweek Communion | St.Martin's church\, Zeals
DESCRIPTION:
URL:https://upperstour.co.uk/event/parish-prayers-st-martins-church-zeals-6-2020-10-28-2020-11-11-2020-12-09-2021-07-28/2022-06-29/
LOCATION:St.Martin’s Church\, Zeals\, Portnells Lane\, Zeals\, Wiltshire\, BA12 6PG\, United Kingdom
CATEGORIES:Regular Church Service
GEO:51.0849031;-2.3153286
X-APPLE-STRUCTURED-LOCATION;VALUE=URI;X-ADDRESS=St.Martin’s Church Zeals Portnells Lane Zeals Wiltshire BA12 6PG United Kingdom;X-APPLE-RADIUS=500;X-TITLE=Portnells Lane:geo:-2.3153286,51.0849031
END:VEVENT
BEGIN:VEVENT
DTSTART;TZID=Europe/London:20220629T160000
DTEND;TZID=Europe/London:20220629T170000
DTSTAMP:20260425T185046
CREATED:20191020T105600Z
LAST-MODIFIED:20230704T110045Z
UID:10000544-1656518400-1656522000@upperstour.co.uk
SUMMARY:Afternoon Prayers | St.Martin's church\, Zeals
DESCRIPTION:
URL:https://upperstour.co.uk/event/parish-prayers-st-martins-church-zeals-6-2020-10-28-2020-11-11-2020-12-09/2022-06-29/
LOCATION:St.Martin’s Church\, Zeals\, Portnells Lane\, Zeals\, Wiltshire\, BA12 6PG\, United Kingdom
CATEGORIES:Regular Church Service
GEO:51.0849031;-2.3153286
X-APPLE-STRUCTURED-LOCATION;VALUE=URI;X-ADDRESS=St.Martin’s Church Zeals Portnells Lane Zeals Wiltshire BA12 6PG United Kingdom;X-APPLE-RADIUS=500;X-TITLE=Portnells Lane:geo:-2.3153286,51.0849031
END:VEVENT
BEGIN:VEVENT
DTSTART;TZID=Europe/London:20220627T090000
DTEND;TZID=Europe/London:20220627T100000
DTSTAMP:20260425T185046
CREATED:20190831T110029Z
LAST-MODIFIED:20201102T100603Z
UID:10000140-1656320400-1656324000@upperstour.co.uk
SUMMARY:Morning Prayers | St.George's church\, Bourton
DESCRIPTION:
URL:https://upperstour.co.uk/event/morning-prayers-st-georges-church-bourton-2020-11-09-2020-12-07/2022-06-27/
LOCATION:St.George’s Church\, Bourton\, Church Track\, Bourton\, Dorset\, SP8 5BW\, United Kingdom
GEO:51.0709798;-2.3318825
X-APPLE-STRUCTURED-LOCATION;VALUE=URI;X-ADDRESS=St.George’s Church Bourton Church Track Bourton Dorset SP8 5BW United Kingdom;X-APPLE-RADIUS=500;X-TITLE=Church Track:geo:-2.3318825,51.0709798
END:VEVENT
BEGIN:VEVENT
DTSTART;TZID=Europe/London:20220626T150000
DTEND;TZID=Europe/London:20220626T170000
DTSTAMP:20260425T185046
CREATED:20220515T160249Z
LAST-MODIFIED:20220515T163228Z
UID:10000950-1656255600-1656262800@upperstour.co.uk
SUMMARY:Songs of Praise\, Churches Together (please see 'attached' for details)
DESCRIPTION:Songs of Praise Stourhead 2022 \nStourhead-SongsofPraise-request form
URL:https://upperstour.co.uk/event/churches-together-songs-of-praise-please-see-attached-for-details/
LOCATION:Dorset
END:VEVENT
BEGIN:VEVENT
DTSTART;TZID=Europe/London:20220626T100000
DTEND;TZID=Europe/London:20220626T110000
DTSTAMP:20260425T185046
CREATED:20200309T103923Z
LAST-MODIFIED:20220515T151019Z
UID:10000031-1656237600-1656241200@upperstour.co.uk
SUMMARY:10am Zeals Parish Communion
DESCRIPTION:
URL:https://upperstour.co.uk/event/parish-communion-stourton-2-2022-06-26/
LOCATION:St.Martin’s Church\, Zeals\, Portnells Lane\, Zeals\, Wiltshire\, BA12 6PG\, United Kingdom
GEO:51.0849031;-2.3153286
X-APPLE-STRUCTURED-LOCATION;VALUE=URI;X-ADDRESS=St.Martin’s Church Zeals Portnells Lane Zeals Wiltshire BA12 6PG United Kingdom;X-APPLE-RADIUS=500;X-TITLE=Portnells Lane:geo:-2.3153286,51.0849031
END:VEVENT
BEGIN:VEVENT
DTSTART;TZID=Europe/London:20220623T090000
DTEND;TZID=Europe/London:20220623T100000
DTSTAMP:20260425T185046
CREATED:20190915T105842Z
LAST-MODIFIED:20230704T113119Z
UID:10000373-1655974800-1655978400@upperstour.co.uk
SUMMARY:Morning Prayer | St.Mary's church\, Kilmington
DESCRIPTION:
URL:https://upperstour.co.uk/event/morning-prayer-st-marys-church-kilmington-10/2022-06-23/
LOCATION:St.Mary’s Church\, Kilmington\, Church Rd\, Kilmington\, Wiltshire\, BA12 6TD\, United Kingdom
CATEGORIES:Regular Church Service
GEO:51.1256794;-2.3247554
X-APPLE-STRUCTURED-LOCATION;VALUE=URI;X-ADDRESS=St.Mary’s Church Kilmington Church Rd Kilmington Wiltshire BA12 6TD United Kingdom;X-APPLE-RADIUS=500;X-TITLE=Church Rd:geo:-2.3247554,51.1256794
END:VEVENT
BEGIN:VEVENT
DTSTART;TZID=Europe/London:20220622T160000
DTEND;TZID=Europe/London:20220622T170000
DTSTAMP:20260425T185046
CREATED:20191020T105600Z
LAST-MODIFIED:20230704T113559Z
UID:10000680-1655913600-1655917200@upperstour.co.uk
SUMMARY:Midweek Communion | St.Martin's church\, Zeals
DESCRIPTION:
URL:https://upperstour.co.uk/event/parish-prayers-st-martins-church-zeals-6-2020-10-28-2020-11-11-2020-12-09-2021-07-28/2022-06-22/
LOCATION:St.Martin’s Church\, Zeals\, Portnells Lane\, Zeals\, Wiltshire\, BA12 6PG\, United Kingdom
CATEGORIES:Regular Church Service
GEO:51.0849031;-2.3153286
X-APPLE-STRUCTURED-LOCATION;VALUE=URI;X-ADDRESS=St.Martin’s Church Zeals Portnells Lane Zeals Wiltshire BA12 6PG United Kingdom;X-APPLE-RADIUS=500;X-TITLE=Portnells Lane:geo:-2.3153286,51.0849031
END:VEVENT
BEGIN:VEVENT
DTSTART;TZID=Europe/London:20220622T160000
DTEND;TZID=Europe/London:20220622T170000
DTSTAMP:20260425T185046
CREATED:20191020T105600Z
LAST-MODIFIED:20230704T110045Z
UID:10000543-1655913600-1655917200@upperstour.co.uk
SUMMARY:Afternoon Prayers | St.Martin's church\, Zeals
DESCRIPTION:
URL:https://upperstour.co.uk/event/parish-prayers-st-martins-church-zeals-6-2020-10-28-2020-11-11-2020-12-09/2022-06-22/
LOCATION:St.Martin’s Church\, Zeals\, Portnells Lane\, Zeals\, Wiltshire\, BA12 6PG\, United Kingdom
CATEGORIES:Regular Church Service
GEO:51.0849031;-2.3153286
X-APPLE-STRUCTURED-LOCATION;VALUE=URI;X-ADDRESS=St.Martin’s Church Zeals Portnells Lane Zeals Wiltshire BA12 6PG United Kingdom;X-APPLE-RADIUS=500;X-TITLE=Portnells Lane:geo:-2.3153286,51.0849031
END:VEVENT
BEGIN:VEVENT
DTSTART;TZID=Europe/London:20220620T120000
DTEND;TZID=Europe/London:20220620T140000
DTSTAMP:20260425T185046
CREATED:20220506T163621Z
LAST-MODIFIED:20220506T163621Z
UID:10000945-1655726400-1655733600@upperstour.co.uk
SUMMARY:Zeals village lunch  (details attached)
DESCRIPTION:
URL:https://upperstour.co.uk/event/zeals-village-lunch-details-attached-2/
LOCATION:Zeals Village Hall\, New Road\, Zeals\, Wiltshire\, BA12 6NZ\, United Kingdom
GEO:51.083409;-2.314022
X-APPLE-STRUCTURED-LOCATION;VALUE=URI;X-ADDRESS=Zeals Village Hall New Road Zeals Wiltshire BA12 6NZ United Kingdom;X-APPLE-RADIUS=500;X-TITLE=New Road:geo:-2.314022,51.083409
END:VEVENT
BEGIN:VEVENT
DTSTART;TZID=Europe/London:20220620T090000
DTEND;TZID=Europe/London:20220620T100000
DTSTAMP:20260425T185046
CREATED:20190831T110029Z
LAST-MODIFIED:20201102T100603Z
UID:10000139-1655715600-1655719200@upperstour.co.uk
SUMMARY:Morning Prayers | St.George's church\, Bourton
DESCRIPTION:
URL:https://upperstour.co.uk/event/morning-prayers-st-georges-church-bourton-2020-11-09-2020-12-07/2022-06-20/
LOCATION:St.George’s Church\, Bourton\, Church Track\, Bourton\, Dorset\, SP8 5BW\, United Kingdom
GEO:51.0709798;-2.3318825
X-APPLE-STRUCTURED-LOCATION;VALUE=URI;X-ADDRESS=St.George’s Church Bourton Church Track Bourton Dorset SP8 5BW United Kingdom;X-APPLE-RADIUS=500;X-TITLE=Church Track:geo:-2.3318825,51.0709798
END:VEVENT
BEGIN:VEVENT
DTSTART;TZID=Europe/London:20220619T100000
DTEND;TZID=Europe/London:20220619T110000
DTSTAMP:20260425T185046
CREATED:20200309T103745Z
LAST-MODIFIED:20220515T151122Z
UID:10000893-1655632800-1655636400@upperstour.co.uk
SUMMARY:10am Stourton Parish Communion
DESCRIPTION:
URL:https://upperstour.co.uk/event/parish-communion-zeals-3-2020-11-15-2020-12-20-2022-06-19/
LOCATION:St.Peter’s Church\, Stourton\, Church Lawn\, Stourton\, Wiltshire\, BA126QE\, United Kingdom
GEO:51.1052227;-2.319975
X-APPLE-STRUCTURED-LOCATION;VALUE=URI;X-ADDRESS=St.Peter’s Church Stourton Church Lawn Stourton Wiltshire BA126QE United Kingdom;X-APPLE-RADIUS=500;X-TITLE=Church Lawn:geo:-2.319975,51.1052227
END:VEVENT
BEGIN:VEVENT
DTSTART;TZID=Europe/London:20220618T120000
DTEND;TZID=Europe/London:20220619T170000
DTSTAMP:20260425T185046
CREATED:20220506T155842Z
LAST-MODIFIED:20220506T155842Z
UID:10000943-1655553600-1655658000@upperstour.co.uk
SUMMARY:Zeals Open Gardens event
DESCRIPTION:Zeals Open Gardens advert 2022
URL:https://upperstour.co.uk/event/zeals-open-gardens-event/
LOCATION:Zeals Village Hall\, New Road\, Zeals\, Wiltshire\, BA12 6NZ\, United Kingdom
ORGANIZER;CN="Mrs Carol Affleck":MAILTO:carol@caffleck.com
GEO:51.083409;-2.314022
X-APPLE-STRUCTURED-LOCATION;VALUE=URI;X-ADDRESS=Zeals Village Hall New Road Zeals Wiltshire BA12 6NZ United Kingdom;X-APPLE-RADIUS=500;X-TITLE=New Road:geo:-2.314022,51.083409
END:VEVENT
BEGIN:VEVENT
DTSTART;TZID=Europe/London:20220616T090000
DTEND;TZID=Europe/London:20220616T100000
DTSTAMP:20260425T185046
CREATED:20190915T105842Z
LAST-MODIFIED:20230704T113119Z
UID:10000372-1655370000-1655373600@upperstour.co.uk
SUMMARY:Morning Prayer | St.Mary's church\, Kilmington
DESCRIPTION:
URL:https://upperstour.co.uk/event/morning-prayer-st-marys-church-kilmington-10/2022-06-16/
LOCATION:St.Mary’s Church\, Kilmington\, Church Rd\, Kilmington\, Wiltshire\, BA12 6TD\, United Kingdom
CATEGORIES:Regular Church Service
GEO:51.1256794;-2.3247554
X-APPLE-STRUCTURED-LOCATION;VALUE=URI;X-ADDRESS=St.Mary’s Church Kilmington Church Rd Kilmington Wiltshire BA12 6TD United Kingdom;X-APPLE-RADIUS=500;X-TITLE=Church Rd:geo:-2.3247554,51.1256794
END:VEVENT
BEGIN:VEVENT
DTSTART;TZID=Europe/London:20220615T160000
DTEND;TZID=Europe/London:20220615T170000
DTSTAMP:20260425T185046
CREATED:20191020T105600Z
LAST-MODIFIED:20230704T113559Z
UID:10000679-1655308800-1655312400@upperstour.co.uk
SUMMARY:Midweek Communion | St.Martin's church\, Zeals
DESCRIPTION:
URL:https://upperstour.co.uk/event/parish-prayers-st-martins-church-zeals-6-2020-10-28-2020-11-11-2020-12-09-2021-07-28/2022-06-15/
LOCATION:St.Martin’s Church\, Zeals\, Portnells Lane\, Zeals\, Wiltshire\, BA12 6PG\, United Kingdom
CATEGORIES:Regular Church Service
GEO:51.0849031;-2.3153286
X-APPLE-STRUCTURED-LOCATION;VALUE=URI;X-ADDRESS=St.Martin’s Church Zeals Portnells Lane Zeals Wiltshire BA12 6PG United Kingdom;X-APPLE-RADIUS=500;X-TITLE=Portnells Lane:geo:-2.3153286,51.0849031
END:VEVENT
BEGIN:VEVENT
DTSTART;TZID=Europe/London:20220615T160000
DTEND;TZID=Europe/London:20220615T170000
DTSTAMP:20260425T185046
CREATED:20191020T105600Z
LAST-MODIFIED:20230704T110045Z
UID:10000542-1655308800-1655312400@upperstour.co.uk
SUMMARY:Afternoon Prayers | St.Martin's church\, Zeals
DESCRIPTION:
URL:https://upperstour.co.uk/event/parish-prayers-st-martins-church-zeals-6-2020-10-28-2020-11-11-2020-12-09/2022-06-15/
LOCATION:St.Martin’s Church\, Zeals\, Portnells Lane\, Zeals\, Wiltshire\, BA12 6PG\, United Kingdom
CATEGORIES:Regular Church Service
GEO:51.0849031;-2.3153286
X-APPLE-STRUCTURED-LOCATION;VALUE=URI;X-ADDRESS=St.Martin’s Church Zeals Portnells Lane Zeals Wiltshire BA12 6PG United Kingdom;X-APPLE-RADIUS=500;X-TITLE=Portnells Lane:geo:-2.3153286,51.0849031
END:VEVENT
BEGIN:VEVENT
DTSTART;TZID=Europe/London:20220613T093000
DTEND;TZID=Europe/London:20220613T110000
DTSTAMP:20260425T185046
CREATED:20220219T161717Z
LAST-MODIFIED:20220219T161717Z
UID:10000052-1655112600-1655118000@upperstour.co.uk
SUMMARY:Ministers meeting\, in St.Martins church\, Zeals
DESCRIPTION:
URL:https://upperstour.co.uk/event/ministers-meeting-in-st-martins-church-zeals-5/
LOCATION:St.Martin’s Church\, Zeals\, Portnells Lane\, Zeals\, Wiltshire\, BA12 6PG\, United Kingdom
ORGANIZER;CN="Rev. Mike MacCormack":MAILTO:revmac@upperstour.co.uk
GEO:51.0849031;-2.3153286
X-APPLE-STRUCTURED-LOCATION;VALUE=URI;X-ADDRESS=St.Martin’s Church Zeals Portnells Lane Zeals Wiltshire BA12 6PG United Kingdom;X-APPLE-RADIUS=500;X-TITLE=Portnells Lane:geo:-2.3153286,51.0849031
END:VEVENT
BEGIN:VEVENT
DTSTART;TZID=Europe/London:20220613T090000
DTEND;TZID=Europe/London:20220613T100000
DTSTAMP:20260425T185046
CREATED:20190831T110029Z
LAST-MODIFIED:20201102T100603Z
UID:10000138-1655110800-1655114400@upperstour.co.uk
SUMMARY:Morning Prayers | St.George's church\, Bourton
DESCRIPTION:
URL:https://upperstour.co.uk/event/morning-prayers-st-georges-church-bourton-2020-11-09-2020-12-07/2022-06-13/
LOCATION:St.George’s Church\, Bourton\, Church Track\, Bourton\, Dorset\, SP8 5BW\, United Kingdom
GEO:51.0709798;-2.3318825
X-APPLE-STRUCTURED-LOCATION;VALUE=URI;X-ADDRESS=St.George’s Church Bourton Church Track Bourton Dorset SP8 5BW United Kingdom;X-APPLE-RADIUS=500;X-TITLE=Church Track:geo:-2.3318825,51.0709798
END:VEVENT
BEGIN:VEVENT
DTSTART;TZID=Europe/London:20220612T100000
DTEND;TZID=Europe/London:20220612T110000
DTSTAMP:20260425T185046
CREATED:20200309T102858Z
LAST-MODIFIED:20220515T151224Z
UID:10000847-1655028000-1655031600@upperstour.co.uk
SUMMARY:10am Kilmington Parish Communion
DESCRIPTION:
URL:https://upperstour.co.uk/event/parish-communion-kilmington-3-2022-06-12/
LOCATION:St.Mary’s Church\, Kilmington\, Church Rd\, Kilmington\, Wiltshire\, BA12 6TD\, United Kingdom
GEO:51.1256794;-2.3247554
X-APPLE-STRUCTURED-LOCATION;VALUE=URI;X-ADDRESS=St.Mary’s Church Kilmington Church Rd Kilmington Wiltshire BA12 6TD United Kingdom;X-APPLE-RADIUS=500;X-TITLE=Church Rd:geo:-2.3247554,51.1256794
END:VEVENT
BEGIN:VEVENT
DTSTART;TZID=Europe/London:20220611T103000
DTEND;TZID=Europe/London:20220611T120000
DTSTAMP:20260425T185046
CREATED:20220506T155432Z
LAST-MODIFIED:20220506T155432Z
UID:10000942-1654943400-1654948800@upperstour.co.uk
SUMMARY:Coffee Morning fund-raising
DESCRIPTION:Zeals COFFEE MORNING notice
URL:https://upperstour.co.uk/event/coffee-morning-fund-raising/
LOCATION:Zeals Village Hall\, New Road\, Zeals\, Wiltshire\, BA12 6NZ\, United Kingdom
GEO:51.083409;-2.314022
X-APPLE-STRUCTURED-LOCATION;VALUE=URI;X-ADDRESS=Zeals Village Hall New Road Zeals Wiltshire BA12 6NZ United Kingdom;X-APPLE-RADIUS=500;X-TITLE=New Road:geo:-2.314022,51.083409
END:VEVENT
END:VCALENDAR