BEGIN:VCALENDAR
VERSION:2.0
PRODID:-//Parish of Upper Stour - ECPv6.15.20//NONSGML v1.0//EN
CALSCALE:GREGORIAN
METHOD:PUBLISH
X-WR-CALNAME:Parish of Upper Stour
X-ORIGINAL-URL:https://upperstour.co.uk
X-WR-CALDESC:Events for Parish of Upper Stour
REFRESH-INTERVAL;VALUE=DURATION:PT1H
X-Robots-Tag:noindex
X-PUBLISHED-TTL:PT1H
BEGIN:VTIMEZONE
TZID:Europe/London
BEGIN:DAYLIGHT
TZOFFSETFROM:+0000
TZOFFSETTO:+0100
TZNAME:BST
DTSTART:20240331T010000
END:DAYLIGHT
BEGIN:STANDARD
TZOFFSETFROM:+0100
TZOFFSETTO:+0000
TZNAME:GMT
DTSTART:20241027T010000
END:STANDARD
BEGIN:DAYLIGHT
TZOFFSETFROM:+0000
TZOFFSETTO:+0100
TZNAME:BST
DTSTART:20250330T010000
END:DAYLIGHT
BEGIN:STANDARD
TZOFFSETFROM:+0100
TZOFFSETTO:+0000
TZNAME:GMT
DTSTART:20251026T010000
END:STANDARD
BEGIN:DAYLIGHT
TZOFFSETFROM:+0000
TZOFFSETTO:+0100
TZNAME:BST
DTSTART:20260329T010000
END:DAYLIGHT
BEGIN:STANDARD
TZOFFSETFROM:+0100
TZOFFSETTO:+0000
TZNAME:GMT
DTSTART:20261025T010000
END:STANDARD
END:VTIMEZONE
BEGIN:VEVENT
DTSTART;TZID=Europe/London:20250312T160000
DTEND;TZID=Europe/London:20250312T170000
DTSTAMP:20260423T222001
CREATED:20191020T105600Z
LAST-MODIFIED:20230704T113559Z
UID:10001724-1741795200-1741798800@upperstour.co.uk
SUMMARY:Midweek Communion | St.Martin's church\, Zeals
DESCRIPTION:
URL:https://upperstour.co.uk/event/parish-prayers-st-martins-church-zeals-6-2020-10-28-2020-11-11-2020-12-09-2021-07-28/2025-03-12/
LOCATION:St.Martin’s Church\, Zeals\, Portnells Lane\, Zeals\, Wiltshire\, BA12 6PG\, United Kingdom
CATEGORIES:Regular Church Service
GEO:51.0849031;-2.3153286
X-APPLE-STRUCTURED-LOCATION;VALUE=URI;X-ADDRESS=St.Martin’s Church Zeals Portnells Lane Zeals Wiltshire BA12 6PG United Kingdom;X-APPLE-RADIUS=500;X-TITLE=Portnells Lane:geo:-2.3153286,51.0849031
END:VEVENT
BEGIN:VEVENT
DTSTART;TZID=Europe/London:20250313T090000
DTEND;TZID=Europe/London:20250313T100000
DTSTAMP:20260423T222001
CREATED:20190915T105842Z
LAST-MODIFIED:20230704T113119Z
UID:10001499-1741856400-1741860000@upperstour.co.uk
SUMMARY:Morning Prayer | St.Mary's church\, Kilmington
DESCRIPTION:
URL:https://upperstour.co.uk/event/morning-prayer-st-marys-church-kilmington-10/2025-03-13/
LOCATION:St.Mary’s Church\, Kilmington\, Church Rd\, Kilmington\, Wiltshire\, BA12 6TD\, United Kingdom
CATEGORIES:Regular Church Service
GEO:51.1256794;-2.3247554
X-APPLE-STRUCTURED-LOCATION;VALUE=URI;X-ADDRESS=St.Mary’s Church Kilmington Church Rd Kilmington Wiltshire BA12 6TD United Kingdom;X-APPLE-RADIUS=500;X-TITLE=Church Rd:geo:-2.3247554,51.1256794
END:VEVENT
BEGIN:VEVENT
DTSTART;TZID=Europe/London:20250314T110000
DTEND;TZID=Europe/London:20250314T233000
DTSTAMP:20260423T222001
CREATED:20250314T171443Z
LAST-MODIFIED:20250314T171612Z
UID:10002894-1741950000-1741995000@upperstour.co.uk
SUMMARY:USA Coastguard cadets choir visited St Peter's church
DESCRIPTION:A lovely group of cadets\, gave a brilliant performance.
URL:https://upperstour.co.uk/event/usa-coastguard-cadets-choir-visited-st-peters-church/
LOCATION:St.Peter’s Church\, Stourton\, Church Lawn\, Stourton\, Wiltshire\, BA126QE\, United Kingdom
ORGANIZER;CN="Mrs Jane Parker":MAILTO:jane.homefarm@gmail.com
GEO:51.1052227;-2.319975
X-APPLE-STRUCTURED-LOCATION;VALUE=URI;X-ADDRESS=St.Peter’s Church Stourton Church Lawn Stourton Wiltshire BA126QE United Kingdom;X-APPLE-RADIUS=500;X-TITLE=Church Lawn:geo:-2.319975,51.1052227
END:VEVENT
BEGIN:VEVENT
DTSTART;TZID=Europe/London:20250316T100000
DTEND;TZID=Europe/London:20250316T110000
DTSTAMP:20260423T222001
CREATED:20241206T144157Z
LAST-MODIFIED:20241206T144157Z
UID:10002675-1742119200-1742122800@upperstour.co.uk
SUMMARY:Stourton Parish Communion
DESCRIPTION:
URL:https://upperstour.co.uk/event/stourton-parish-communion-9/2025-03-16/
LOCATION:St.Peter’s Church\, Stourton\, Church Lawn\, Stourton\, Wiltshire\, BA126QE\, United Kingdom
CATEGORIES:Regular Church Service
GEO:51.1052227;-2.319975
X-APPLE-STRUCTURED-LOCATION;VALUE=URI;X-ADDRESS=St.Peter’s Church Stourton Church Lawn Stourton Wiltshire BA126QE United Kingdom;X-APPLE-RADIUS=500;X-TITLE=Church Lawn:geo:-2.319975,51.1052227
END:VEVENT
BEGIN:VEVENT
DTSTART;TZID=Europe/London:20250317T090000
DTEND;TZID=Europe/London:20250317T100000
DTSTAMP:20260423T222001
CREATED:20230704T113930Z
LAST-MODIFIED:20230704T114113Z
UID:10001950-1742202000-1742205600@upperstour.co.uk
SUMMARY:Morning Prayers | St.George's church\, Bourton
DESCRIPTION:
URL:https://upperstour.co.uk/event/morning-prayers-st-georges-church-bourton-2020-11-09-2020-12-07-2/2025-03-17/
LOCATION:St.George’s Church\, Bourton\, Church Track\, Bourton\, Dorset\, SP8 5BW\, United Kingdom
CATEGORIES:Regular Church Service
GEO:51.0709798;-2.3318825
X-APPLE-STRUCTURED-LOCATION;VALUE=URI;X-ADDRESS=St.George’s Church Bourton Church Track Bourton Dorset SP8 5BW United Kingdom;X-APPLE-RADIUS=500;X-TITLE=Church Track:geo:-2.3318825,51.0709798
END:VEVENT
BEGIN:VEVENT
DTSTART;TZID=Europe/London:20250318T193000
DTEND;TZID=Europe/London:20250318T210000
DTSTAMP:20260423T222001
CREATED:20250301T174749Z
LAST-MODIFIED:20250301T174749Z
UID:10002893-1742326200-1742331600@upperstour.co.uk
SUMMARY:Stourton Castle  talk arranged by Gillingham Museum
DESCRIPTION:Stourton Castle Talk Mar25 Papworth
URL:https://upperstour.co.uk/event/stourton-castle-talk-arranged-by-gillingham-museum/
LOCATION:Dorset
CATEGORIES:Community
END:VEVENT
BEGIN:VEVENT
DTSTART;TZID=Europe/London:20250319T160000
DTEND;TZID=Europe/London:20250319T170000
DTSTAMP:20260423T222001
CREATED:20191020T105600Z
LAST-MODIFIED:20230704T113559Z
UID:10001725-1742400000-1742403600@upperstour.co.uk
SUMMARY:Midweek Communion | St.Martin's church\, Zeals
DESCRIPTION:
URL:https://upperstour.co.uk/event/parish-prayers-st-martins-church-zeals-6-2020-10-28-2020-11-11-2020-12-09-2021-07-28/2025-03-19/
LOCATION:St.Martin’s Church\, Zeals\, Portnells Lane\, Zeals\, Wiltshire\, BA12 6PG\, United Kingdom
CATEGORIES:Regular Church Service
GEO:51.0849031;-2.3153286
X-APPLE-STRUCTURED-LOCATION;VALUE=URI;X-ADDRESS=St.Martin’s Church Zeals Portnells Lane Zeals Wiltshire BA12 6PG United Kingdom;X-APPLE-RADIUS=500;X-TITLE=Portnells Lane:geo:-2.3153286,51.0849031
END:VEVENT
BEGIN:VEVENT
DTSTART;TZID=Europe/London:20250320T090000
DTEND;TZID=Europe/London:20250320T100000
DTSTAMP:20260423T222001
CREATED:20190915T105842Z
LAST-MODIFIED:20230704T113119Z
UID:10001500-1742461200-1742464800@upperstour.co.uk
SUMMARY:Morning Prayer | St.Mary's church\, Kilmington
DESCRIPTION:
URL:https://upperstour.co.uk/event/morning-prayer-st-marys-church-kilmington-10/2025-03-20/
LOCATION:St.Mary’s Church\, Kilmington\, Church Rd\, Kilmington\, Wiltshire\, BA12 6TD\, United Kingdom
CATEGORIES:Regular Church Service
GEO:51.1256794;-2.3247554
X-APPLE-STRUCTURED-LOCATION;VALUE=URI;X-ADDRESS=St.Mary’s Church Kilmington Church Rd Kilmington Wiltshire BA12 6TD United Kingdom;X-APPLE-RADIUS=500;X-TITLE=Church Rd:geo:-2.3247554,51.1256794
END:VEVENT
BEGIN:VEVENT
DTSTART;TZID=Europe/London:20250324T090000
DTEND;TZID=Europe/London:20250324T100000
DTSTAMP:20260423T222001
CREATED:20230704T113930Z
LAST-MODIFIED:20230704T114113Z
UID:10001951-1742806800-1742810400@upperstour.co.uk
SUMMARY:Morning Prayers | St.George's church\, Bourton
DESCRIPTION:
URL:https://upperstour.co.uk/event/morning-prayers-st-georges-church-bourton-2020-11-09-2020-12-07-2/2025-03-24/
LOCATION:St.George’s Church\, Bourton\, Church Track\, Bourton\, Dorset\, SP8 5BW\, United Kingdom
CATEGORIES:Regular Church Service
GEO:51.0709798;-2.3318825
X-APPLE-STRUCTURED-LOCATION;VALUE=URI;X-ADDRESS=St.George’s Church Bourton Church Track Bourton Dorset SP8 5BW United Kingdom;X-APPLE-RADIUS=500;X-TITLE=Church Track:geo:-2.3318825,51.0709798
END:VEVENT
BEGIN:VEVENT
DTSTART;TZID=Europe/London:20250326T160000
DTEND;TZID=Europe/London:20250326T170000
DTSTAMP:20260423T222001
CREATED:20191020T105600Z
LAST-MODIFIED:20230704T113559Z
UID:10001726-1743004800-1743008400@upperstour.co.uk
SUMMARY:Midweek Communion | St.Martin's church\, Zeals
DESCRIPTION:
URL:https://upperstour.co.uk/event/parish-prayers-st-martins-church-zeals-6-2020-10-28-2020-11-11-2020-12-09-2021-07-28/2025-03-26/
LOCATION:St.Martin’s Church\, Zeals\, Portnells Lane\, Zeals\, Wiltshire\, BA12 6PG\, United Kingdom
CATEGORIES:Regular Church Service
GEO:51.0849031;-2.3153286
X-APPLE-STRUCTURED-LOCATION;VALUE=URI;X-ADDRESS=St.Martin’s Church Zeals Portnells Lane Zeals Wiltshire BA12 6PG United Kingdom;X-APPLE-RADIUS=500;X-TITLE=Portnells Lane:geo:-2.3153286,51.0849031
END:VEVENT
BEGIN:VEVENT
DTSTART;TZID=Europe/London:20250327T090000
DTEND;TZID=Europe/London:20250327T100000
DTSTAMP:20260423T222001
CREATED:20190915T105842Z
LAST-MODIFIED:20230704T113119Z
UID:10001501-1743066000-1743069600@upperstour.co.uk
SUMMARY:Morning Prayer | St.Mary's church\, Kilmington
DESCRIPTION:
URL:https://upperstour.co.uk/event/morning-prayer-st-marys-church-kilmington-10/2025-03-27/
LOCATION:St.Mary’s Church\, Kilmington\, Church Rd\, Kilmington\, Wiltshire\, BA12 6TD\, United Kingdom
CATEGORIES:Regular Church Service
GEO:51.1256794;-2.3247554
X-APPLE-STRUCTURED-LOCATION;VALUE=URI;X-ADDRESS=St.Mary’s Church Kilmington Church Rd Kilmington Wiltshire BA12 6TD United Kingdom;X-APPLE-RADIUS=500;X-TITLE=Church Rd:geo:-2.3247554,51.1256794
END:VEVENT
BEGIN:VEVENT
DTSTART;TZID=Europe/London:20250330T100000
DTEND;TZID=Europe/London:20250330T110000
DTSTAMP:20260423T222001
CREATED:20241031T153450Z
LAST-MODIFIED:20250110T130628Z
UID:10002456-1743328800-1743332400@upperstour.co.uk
SUMMARY:Mothering Sunday Service - Zeals
DESCRIPTION:
URL:https://upperstour.co.uk/event/mothering-sunday-service/
LOCATION:St.Martin’s Church\, Zeals\, Portnells Lane\, Zeals\, Wiltshire\, BA12 6PG\, United Kingdom
CATEGORIES:Regular Church Service
GEO:51.0849031;-2.3153286
X-APPLE-STRUCTURED-LOCATION;VALUE=URI;X-ADDRESS=St.Martin’s Church Zeals Portnells Lane Zeals Wiltshire BA12 6PG United Kingdom;X-APPLE-RADIUS=500;X-TITLE=Portnells Lane:geo:-2.3153286,51.0849031
END:VEVENT
BEGIN:VEVENT
DTSTART;TZID=Europe/London:20250331T090000
DTEND;TZID=Europe/London:20250331T100000
DTSTAMP:20260423T222001
CREATED:20230704T113930Z
LAST-MODIFIED:20230704T114113Z
UID:10001952-1743411600-1743415200@upperstour.co.uk
SUMMARY:Morning Prayers | St.George's church\, Bourton
DESCRIPTION:
URL:https://upperstour.co.uk/event/morning-prayers-st-georges-church-bourton-2020-11-09-2020-12-07-2/2025-03-31/
LOCATION:St.George’s Church\, Bourton\, Church Track\, Bourton\, Dorset\, SP8 5BW\, United Kingdom
CATEGORIES:Regular Church Service
GEO:51.0709798;-2.3318825
X-APPLE-STRUCTURED-LOCATION;VALUE=URI;X-ADDRESS=St.George’s Church Bourton Church Track Bourton Dorset SP8 5BW United Kingdom;X-APPLE-RADIUS=500;X-TITLE=Church Track:geo:-2.3318825,51.0709798
END:VEVENT
BEGIN:VEVENT
DTSTART;TZID=Europe/London:20250402T160000
DTEND;TZID=Europe/London:20250402T170000
DTSTAMP:20260423T222001
CREATED:20191020T105600Z
LAST-MODIFIED:20230704T113559Z
UID:10001727-1743609600-1743613200@upperstour.co.uk
SUMMARY:Midweek Communion | St.Martin's church\, Zeals
DESCRIPTION:
URL:https://upperstour.co.uk/event/parish-prayers-st-martins-church-zeals-6-2020-10-28-2020-11-11-2020-12-09-2021-07-28/2025-04-02/
LOCATION:St.Martin’s Church\, Zeals\, Portnells Lane\, Zeals\, Wiltshire\, BA12 6PG\, United Kingdom
CATEGORIES:Regular Church Service
GEO:51.0849031;-2.3153286
X-APPLE-STRUCTURED-LOCATION;VALUE=URI;X-ADDRESS=St.Martin’s Church Zeals Portnells Lane Zeals Wiltshire BA12 6PG United Kingdom;X-APPLE-RADIUS=500;X-TITLE=Portnells Lane:geo:-2.3153286,51.0849031
END:VEVENT
BEGIN:VEVENT
DTSTART;TZID=Europe/London:20250403T090000
DTEND;TZID=Europe/London:20250403T100000
DTSTAMP:20260423T222001
CREATED:20190915T105842Z
LAST-MODIFIED:20230704T113119Z
UID:10001502-1743670800-1743674400@upperstour.co.uk
SUMMARY:Morning Prayer | St.Mary's church\, Kilmington
DESCRIPTION:
URL:https://upperstour.co.uk/event/morning-prayer-st-marys-church-kilmington-10/2025-04-03/
LOCATION:St.Mary’s Church\, Kilmington\, Church Rd\, Kilmington\, Wiltshire\, BA12 6TD\, United Kingdom
CATEGORIES:Regular Church Service
GEO:51.1256794;-2.3247554
X-APPLE-STRUCTURED-LOCATION;VALUE=URI;X-ADDRESS=St.Mary’s Church Kilmington Church Rd Kilmington Wiltshire BA12 6TD United Kingdom;X-APPLE-RADIUS=500;X-TITLE=Church Rd:geo:-2.3247554,51.1256794
END:VEVENT
BEGIN:VEVENT
DTSTART;TZID=Europe/London:20250406T100000
DTEND;TZID=Europe/London:20250406T110000
DTSTAMP:20260423T222001
CREATED:20241206T143015Z
LAST-MODIFIED:20260218T153344Z
UID:10002559-1743933600-1743937200@upperstour.co.uk
SUMMARY:Bourton Parish Communion
DESCRIPTION:
URL:https://upperstour.co.uk/event/bourton-parish-communion-12/2025-04-06/
LOCATION:St.George’s Church\, Bourton\, Church Track\, Bourton\, Dorset\, SP8 5BW\, United Kingdom
CATEGORIES:Regular Church Service
GEO:51.0709798;-2.3318825
X-APPLE-STRUCTURED-LOCATION;VALUE=URI;X-ADDRESS=St.George’s Church Bourton Church Track Bourton Dorset SP8 5BW United Kingdom;X-APPLE-RADIUS=500;X-TITLE=Church Track:geo:-2.3318825,51.0709798
END:VEVENT
BEGIN:VEVENT
DTSTART;TZID=Europe/London:20250407T090000
DTEND;TZID=Europe/London:20250407T100000
DTSTAMP:20260423T222001
CREATED:20230704T113930Z
LAST-MODIFIED:20230704T114113Z
UID:10001953-1744016400-1744020000@upperstour.co.uk
SUMMARY:Morning Prayers | St.George's church\, Bourton
DESCRIPTION:
URL:https://upperstour.co.uk/event/morning-prayers-st-georges-church-bourton-2020-11-09-2020-12-07-2/2025-04-07/
LOCATION:St.George’s Church\, Bourton\, Church Track\, Bourton\, Dorset\, SP8 5BW\, United Kingdom
CATEGORIES:Regular Church Service
GEO:51.0709798;-2.3318825
X-APPLE-STRUCTURED-LOCATION;VALUE=URI;X-ADDRESS=St.George’s Church Bourton Church Track Bourton Dorset SP8 5BW United Kingdom;X-APPLE-RADIUS=500;X-TITLE=Church Track:geo:-2.3318825,51.0709798
END:VEVENT
BEGIN:VEVENT
DTSTART;TZID=Europe/London:20250409T160000
DTEND;TZID=Europe/London:20250409T170000
DTSTAMP:20260423T222001
CREATED:20191020T105600Z
LAST-MODIFIED:20230704T113559Z
UID:10001728-1744214400-1744218000@upperstour.co.uk
SUMMARY:Midweek Communion | St.Martin's church\, Zeals
DESCRIPTION:
URL:https://upperstour.co.uk/event/parish-prayers-st-martins-church-zeals-6-2020-10-28-2020-11-11-2020-12-09-2021-07-28/2025-04-09/
LOCATION:St.Martin’s Church\, Zeals\, Portnells Lane\, Zeals\, Wiltshire\, BA12 6PG\, United Kingdom
CATEGORIES:Regular Church Service
GEO:51.0849031;-2.3153286
X-APPLE-STRUCTURED-LOCATION;VALUE=URI;X-ADDRESS=St.Martin’s Church Zeals Portnells Lane Zeals Wiltshire BA12 6PG United Kingdom;X-APPLE-RADIUS=500;X-TITLE=Portnells Lane:geo:-2.3153286,51.0849031
END:VEVENT
BEGIN:VEVENT
DTSTART;TZID=Europe/London:20250410T090000
DTEND;TZID=Europe/London:20250410T100000
DTSTAMP:20260423T222001
CREATED:20190915T105842Z
LAST-MODIFIED:20230704T113119Z
UID:10001503-1744275600-1744279200@upperstour.co.uk
SUMMARY:Morning Prayer | St.Mary's church\, Kilmington
DESCRIPTION:
URL:https://upperstour.co.uk/event/morning-prayer-st-marys-church-kilmington-10/2025-04-10/
LOCATION:St.Mary’s Church\, Kilmington\, Church Rd\, Kilmington\, Wiltshire\, BA12 6TD\, United Kingdom
CATEGORIES:Regular Church Service
GEO:51.1256794;-2.3247554
X-APPLE-STRUCTURED-LOCATION;VALUE=URI;X-ADDRESS=St.Mary’s Church Kilmington Church Rd Kilmington Wiltshire BA12 6TD United Kingdom;X-APPLE-RADIUS=500;X-TITLE=Church Rd:geo:-2.3247554,51.1256794
END:VEVENT
BEGIN:VEVENT
DTSTART;TZID=Europe/London:20250412T130000
DTEND;TZID=Europe/London:20250412T153000
DTSTAMP:20260423T222001
CREATED:20240116T115635Z
LAST-MODIFIED:20250130T112420Z
UID:10002383-1744462800-1744471800@upperstour.co.uk
SUMMARY:Wedding - Stourton
DESCRIPTION:
URL:https://upperstour.co.uk/event/wedding-stourton-14/
LOCATION:St.Peter’s Church\, Stourton\, Church Lawn\, Stourton\, Wiltshire\, BA126QE\, United Kingdom
CATEGORIES:Life Events
ORGANIZER;CN="Parish Administrator":MAILTO:parishoffice@upperstour.co.uk
GEO:51.1052227;-2.319975
X-APPLE-STRUCTURED-LOCATION;VALUE=URI;X-ADDRESS=St.Peter’s Church Stourton Church Lawn Stourton Wiltshire BA126QE United Kingdom;X-APPLE-RADIUS=500;X-TITLE=Church Lawn:geo:-2.319975,51.1052227
END:VEVENT
BEGIN:VEVENT
DTSTART;TZID=Europe/London:20250413T100000
DTEND;TZID=Europe/London:20250413T110000
DTSTAMP:20260423T222001
CREATED:20250110T130735Z
LAST-MODIFIED:20250110T130752Z
UID:10002618-1744538400-1744542000@upperstour.co.uk
SUMMARY:Kilmington Palm Sunday Service
DESCRIPTION:
URL:https://upperstour.co.uk/event/kilmington-parish-communion-10/
LOCATION:Dorset
CATEGORIES:Regular Church Service
END:VEVENT
BEGIN:VEVENT
DTSTART;TZID=Europe/London:20250414T090000
DTEND;TZID=Europe/London:20250414T100000
DTSTAMP:20260423T222001
CREATED:20230704T113930Z
LAST-MODIFIED:20230704T114113Z
UID:10001954-1744621200-1744624800@upperstour.co.uk
SUMMARY:Morning Prayers | St.George's church\, Bourton
DESCRIPTION:
URL:https://upperstour.co.uk/event/morning-prayers-st-georges-church-bourton-2020-11-09-2020-12-07-2/2025-04-14/
LOCATION:St.George’s Church\, Bourton\, Church Track\, Bourton\, Dorset\, SP8 5BW\, United Kingdom
CATEGORIES:Regular Church Service
GEO:51.0709798;-2.3318825
X-APPLE-STRUCTURED-LOCATION;VALUE=URI;X-ADDRESS=St.George’s Church Bourton Church Track Bourton Dorset SP8 5BW United Kingdom;X-APPLE-RADIUS=500;X-TITLE=Church Track:geo:-2.3318825,51.0709798
END:VEVENT
BEGIN:VEVENT
DTSTART;TZID=Europe/London:20250416T160000
DTEND;TZID=Europe/London:20250416T170000
DTSTAMP:20260423T222001
CREATED:20191020T105600Z
LAST-MODIFIED:20230704T113559Z
UID:10001729-1744819200-1744822800@upperstour.co.uk
SUMMARY:Midweek Communion | St.Martin's church\, Zeals
DESCRIPTION:
URL:https://upperstour.co.uk/event/parish-prayers-st-martins-church-zeals-6-2020-10-28-2020-11-11-2020-12-09-2021-07-28/2025-04-16/
LOCATION:St.Martin’s Church\, Zeals\, Portnells Lane\, Zeals\, Wiltshire\, BA12 6PG\, United Kingdom
CATEGORIES:Regular Church Service
GEO:51.0849031;-2.3153286
X-APPLE-STRUCTURED-LOCATION;VALUE=URI;X-ADDRESS=St.Martin’s Church Zeals Portnells Lane Zeals Wiltshire BA12 6PG United Kingdom;X-APPLE-RADIUS=500;X-TITLE=Portnells Lane:geo:-2.3153286,51.0849031
END:VEVENT
BEGIN:VEVENT
DTSTART;TZID=Europe/London:20250417T090000
DTEND;TZID=Europe/London:20250417T100000
DTSTAMP:20260423T222001
CREATED:20190915T105842Z
LAST-MODIFIED:20230704T113119Z
UID:10001504-1744880400-1744884000@upperstour.co.uk
SUMMARY:Morning Prayer | St.Mary's church\, Kilmington
DESCRIPTION:
URL:https://upperstour.co.uk/event/morning-prayer-st-marys-church-kilmington-10/2025-04-17/
LOCATION:St.Mary’s Church\, Kilmington\, Church Rd\, Kilmington\, Wiltshire\, BA12 6TD\, United Kingdom
CATEGORIES:Regular Church Service
GEO:51.1256794;-2.3247554
X-APPLE-STRUCTURED-LOCATION;VALUE=URI;X-ADDRESS=St.Mary’s Church Kilmington Church Rd Kilmington Wiltshire BA12 6TD United Kingdom;X-APPLE-RADIUS=500;X-TITLE=Church Rd:geo:-2.3247554,51.1256794
END:VEVENT
BEGIN:VEVENT
DTSTART;TZID=Europe/London:20250417T180000
DTEND;TZID=Europe/London:20250417T190000
DTSTAMP:20260423T222001
CREATED:20250110T130902Z
LAST-MODIFIED:20250110T130902Z
UID:10002876-1744912800-1744916400@upperstour.co.uk
SUMMARY:Maundy Thursday Communion Service - Bourton
DESCRIPTION:
URL:https://upperstour.co.uk/event/maundy-thursday-communion-service-bourton/
LOCATION:St.George’s Church\, Bourton\, Church Track\, Bourton\, Dorset\, SP8 5BW\, United Kingdom
CATEGORIES:Regular Church Service
ORGANIZER;CN="Parish Administrator":MAILTO:parishoffice@upperstour.co.uk
GEO:51.0709798;-2.3318825
X-APPLE-STRUCTURED-LOCATION;VALUE=URI;X-ADDRESS=St.George’s Church Bourton Church Track Bourton Dorset SP8 5BW United Kingdom;X-APPLE-RADIUS=500;X-TITLE=Church Track:geo:-2.3318825,51.0709798
END:VEVENT
BEGIN:VEVENT
DTSTART;TZID=Europe/London:20250418T140000
DTEND;TZID=Europe/London:20250418T150000
DTSTAMP:20260423T222001
CREATED:20250110T130950Z
LAST-MODIFIED:20250110T130950Z
UID:10002877-1744984800-1744988400@upperstour.co.uk
SUMMARY:Good Friday Last Hour service
DESCRIPTION:
URL:https://upperstour.co.uk/event/good-friday-last-hour-service-2/
LOCATION:St.Peter’s Church\, Stourton\, Church Lawn\, Stourton\, Wiltshire\, BA126QE\, United Kingdom
CATEGORIES:Regular Church Service
ORGANIZER;CN="Parish Administrator":MAILTO:parishoffice@upperstour.co.uk
GEO:51.1052227;-2.319975
X-APPLE-STRUCTURED-LOCATION;VALUE=URI;X-ADDRESS=St.Peter’s Church Stourton Church Lawn Stourton Wiltshire BA126QE United Kingdom;X-APPLE-RADIUS=500;X-TITLE=Church Lawn:geo:-2.319975,51.1052227
END:VEVENT
BEGIN:VEVENT
DTSTART;TZID=Europe/London:20250420T063000
DTEND;TZID=Europe/London:20250420T073000
DTSTAMP:20260423T222001
CREATED:20250110T131039Z
LAST-MODIFIED:20250110T131039Z
UID:10002878-1745130600-1745134200@upperstour.co.uk
SUMMARY:Sonrise Service at Search Farm
DESCRIPTION:
URL:https://upperstour.co.uk/event/sonrise-service-at-search-farm/
LOCATION:Search Farm\, Stourton\, BA12 6QQ\, United Kingdom
CATEGORIES:Regular Church Service
ORGANIZER;CN="Parish Administrator":MAILTO:parishoffice@upperstour.co.uk
END:VEVENT
BEGIN:VEVENT
DTSTART;TZID=Europe/London:20250420T100000
DTEND;TZID=Europe/London:20250420T110000
DTSTAMP:20260423T222001
CREATED:20250110T131532Z
LAST-MODIFIED:20250110T131605Z
UID:10002676-1745143200-1745146800@upperstour.co.uk
SUMMARY:Easter Communion - Bourton
DESCRIPTION:
URL:https://upperstour.co.uk/event/stourton-parish-communion-10/
LOCATION:St.George’s Church\, Bourton\, Church Track\, Bourton\, Dorset\, SP8 5BW\, United Kingdom
CATEGORIES:Regular Church Service
GEO:51.0709798;-2.3318825
X-APPLE-STRUCTURED-LOCATION;VALUE=URI;X-ADDRESS=St.George’s Church Bourton Church Track Bourton Dorset SP8 5BW United Kingdom;X-APPLE-RADIUS=500;X-TITLE=Church Track:geo:-2.3318825,51.0709798
END:VEVENT
BEGIN:VEVENT
DTSTART;TZID=Europe/London:20250421T090000
DTEND;TZID=Europe/London:20250421T100000
DTSTAMP:20260423T222001
CREATED:20230704T113930Z
LAST-MODIFIED:20230704T114113Z
UID:10001955-1745226000-1745229600@upperstour.co.uk
SUMMARY:Morning Prayers | St.George's church\, Bourton
DESCRIPTION:
URL:https://upperstour.co.uk/event/morning-prayers-st-georges-church-bourton-2020-11-09-2020-12-07-2/2025-04-21/
LOCATION:St.George’s Church\, Bourton\, Church Track\, Bourton\, Dorset\, SP8 5BW\, United Kingdom
CATEGORIES:Regular Church Service
GEO:51.0709798;-2.3318825
X-APPLE-STRUCTURED-LOCATION;VALUE=URI;X-ADDRESS=St.George’s Church Bourton Church Track Bourton Dorset SP8 5BW United Kingdom;X-APPLE-RADIUS=500;X-TITLE=Church Track:geo:-2.3318825,51.0709798
END:VEVENT
BEGIN:VEVENT
DTSTART;TZID=Europe/London:20250423T160000
DTEND;TZID=Europe/London:20250423T170000
DTSTAMP:20260423T222001
CREATED:20191020T105600Z
LAST-MODIFIED:20230704T113559Z
UID:10001730-1745424000-1745427600@upperstour.co.uk
SUMMARY:Midweek Communion | St.Martin's church\, Zeals
DESCRIPTION:
URL:https://upperstour.co.uk/event/parish-prayers-st-martins-church-zeals-6-2020-10-28-2020-11-11-2020-12-09-2021-07-28/2025-04-23/
LOCATION:St.Martin’s Church\, Zeals\, Portnells Lane\, Zeals\, Wiltshire\, BA12 6PG\, United Kingdom
CATEGORIES:Regular Church Service
GEO:51.0849031;-2.3153286
X-APPLE-STRUCTURED-LOCATION;VALUE=URI;X-ADDRESS=St.Martin’s Church Zeals Portnells Lane Zeals Wiltshire BA12 6PG United Kingdom;X-APPLE-RADIUS=500;X-TITLE=Portnells Lane:geo:-2.3153286,51.0849031
END:VEVENT
END:VCALENDAR