BEGIN:VCALENDAR
VERSION:2.0
PRODID:-//Parish of Upper Stour - ECPv6.15.20//NONSGML v1.0//EN
CALSCALE:GREGORIAN
METHOD:PUBLISH
X-WR-CALNAME:Parish of Upper Stour
X-ORIGINAL-URL:https://upperstour.co.uk
X-WR-CALDESC:Events for Parish of Upper Stour
REFRESH-INTERVAL;VALUE=DURATION:PT1H
X-Robots-Tag:noindex
X-PUBLISHED-TTL:PT1H
BEGIN:VTIMEZONE
TZID:Europe/London
BEGIN:DAYLIGHT
TZOFFSETFROM:+0000
TZOFFSETTO:+0100
TZNAME:BST
DTSTART:20240331T010000
END:DAYLIGHT
BEGIN:STANDARD
TZOFFSETFROM:+0100
TZOFFSETTO:+0000
TZNAME:GMT
DTSTART:20241027T010000
END:STANDARD
BEGIN:DAYLIGHT
TZOFFSETFROM:+0000
TZOFFSETTO:+0100
TZNAME:BST
DTSTART:20250330T010000
END:DAYLIGHT
BEGIN:STANDARD
TZOFFSETFROM:+0100
TZOFFSETTO:+0000
TZNAME:GMT
DTSTART:20251026T010000
END:STANDARD
BEGIN:DAYLIGHT
TZOFFSETFROM:+0000
TZOFFSETTO:+0100
TZNAME:BST
DTSTART:20260329T010000
END:DAYLIGHT
BEGIN:STANDARD
TZOFFSETFROM:+0100
TZOFFSETTO:+0000
TZNAME:GMT
DTSTART:20261025T010000
END:STANDARD
END:VTIMEZONE
BEGIN:VEVENT
DTSTART;TZID=Europe/London:20250706T100000
DTEND;TZID=Europe/London:20250706T110000
DTSTAMP:20260423T182058
CREATED:20250617T130444Z
LAST-MODIFIED:20250617T130444Z
UID:10002909-1751796000-1751799600@upperstour.co.uk
SUMMARY:Parish Communion at St.George's church\, Bourton
DESCRIPTION:
URL:https://upperstour.co.uk/event/parish-communion-at-st-georges-church-bourton/
LOCATION:St.George’s Church\, Bourton\, Church Track\, Bourton\, Dorset\, SP8 5BW\, United Kingdom
GEO:51.0709798;-2.3318825
X-APPLE-STRUCTURED-LOCATION;VALUE=URI;X-ADDRESS=St.George’s Church Bourton Church Track Bourton Dorset SP8 5BW United Kingdom;X-APPLE-RADIUS=500;X-TITLE=Church Track:geo:-2.3318825,51.0709798
END:VEVENT
BEGIN:VEVENT
DTSTART;TZID=Europe/London:20250706T100000
DTEND;TZID=Europe/London:20250706T110000
DTSTAMP:20260423T182058
CREATED:20241206T143015Z
LAST-MODIFIED:20260218T153344Z
UID:10002562-1751796000-1751799600@upperstour.co.uk
SUMMARY:Bourton Parish Communion
DESCRIPTION:
URL:https://upperstour.co.uk/event/bourton-parish-communion-12/2025-07-06/
LOCATION:St.George’s Church\, Bourton\, Church Track\, Bourton\, Dorset\, SP8 5BW\, United Kingdom
CATEGORIES:Regular Church Service
GEO:51.0709798;-2.3318825
X-APPLE-STRUCTURED-LOCATION;VALUE=URI;X-ADDRESS=St.George’s Church Bourton Church Track Bourton Dorset SP8 5BW United Kingdom;X-APPLE-RADIUS=500;X-TITLE=Church Track:geo:-2.3318825,51.0709798
END:VEVENT
BEGIN:VEVENT
DTSTART;TZID=Europe/London:20250703T090000
DTEND;TZID=Europe/London:20250703T100000
DTSTAMP:20260423T182058
CREATED:20190915T105842Z
LAST-MODIFIED:20230704T113119Z
UID:10001515-1751533200-1751536800@upperstour.co.uk
SUMMARY:Morning Prayer | St.Mary's church\, Kilmington
DESCRIPTION:
URL:https://upperstour.co.uk/event/morning-prayer-st-marys-church-kilmington-10/2025-07-03/
LOCATION:St.Mary’s Church\, Kilmington\, Church Rd\, Kilmington\, Wiltshire\, BA12 6TD\, United Kingdom
CATEGORIES:Regular Church Service
GEO:51.1256794;-2.3247554
X-APPLE-STRUCTURED-LOCATION;VALUE=URI;X-ADDRESS=St.Mary’s Church Kilmington Church Rd Kilmington Wiltshire BA12 6TD United Kingdom;X-APPLE-RADIUS=500;X-TITLE=Church Rd:geo:-2.3247554,51.1256794
END:VEVENT
BEGIN:VEVENT
DTSTART;TZID=Europe/London:20250702T160000
DTEND;TZID=Europe/London:20250702T170000
DTSTAMP:20260423T182058
CREATED:20191020T105600Z
LAST-MODIFIED:20230704T113559Z
UID:10001740-1751472000-1751475600@upperstour.co.uk
SUMMARY:Midweek Communion | St.Martin's church\, Zeals
DESCRIPTION:
URL:https://upperstour.co.uk/event/parish-prayers-st-martins-church-zeals-6-2020-10-28-2020-11-11-2020-12-09-2021-07-28/2025-07-02/
LOCATION:St.Martin’s Church\, Zeals\, Portnells Lane\, Zeals\, Wiltshire\, BA12 6PG\, United Kingdom
CATEGORIES:Regular Church Service
GEO:51.0849031;-2.3153286
X-APPLE-STRUCTURED-LOCATION;VALUE=URI;X-ADDRESS=St.Martin’s Church Zeals Portnells Lane Zeals Wiltshire BA12 6PG United Kingdom;X-APPLE-RADIUS=500;X-TITLE=Portnells Lane:geo:-2.3153286,51.0849031
END:VEVENT
BEGIN:VEVENT
DTSTART;TZID=Europe/London:20250630T090000
DTEND;TZID=Europe/London:20250630T100000
DTSTAMP:20260423T182058
CREATED:20230704T113930Z
LAST-MODIFIED:20230704T114113Z
UID:10001965-1751274000-1751277600@upperstour.co.uk
SUMMARY:Morning Prayers | St.George's church\, Bourton
DESCRIPTION:
URL:https://upperstour.co.uk/event/morning-prayers-st-georges-church-bourton-2020-11-09-2020-12-07-2/2025-06-30/
LOCATION:St.George’s Church\, Bourton\, Church Track\, Bourton\, Dorset\, SP8 5BW\, United Kingdom
CATEGORIES:Regular Church Service
GEO:51.0709798;-2.3318825
X-APPLE-STRUCTURED-LOCATION;VALUE=URI;X-ADDRESS=St.George’s Church Bourton Church Track Bourton Dorset SP8 5BW United Kingdom;X-APPLE-RADIUS=500;X-TITLE=Church Track:geo:-2.3318825,51.0709798
END:VEVENT
BEGIN:VEVENT
DTSTART;TZID=Europe/London:20250629T100000
DTEND;TZID=Europe/London:20250629T110000
DTSTAMP:20260423T182058
CREATED:20250617T130200Z
LAST-MODIFIED:20250617T130200Z
UID:10002908-1751191200-1751194800@upperstour.co.uk
SUMMARY:Parish Communion\, at St Mary's\, Kilmington
DESCRIPTION:
URL:https://upperstour.co.uk/event/parish-communion-at-st-marys-kilmington/
LOCATION:St.Mary’s Church\, Kilmington\, Church Rd\, Kilmington\, Wiltshire\, BA12 6TD\, United Kingdom
CATEGORIES:Regular Church Service
ORGANIZER;CN="Mr Chris Reeves":MAILTO:c.reeves110@btinternet.com
GEO:51.1256794;-2.3247554
X-APPLE-STRUCTURED-LOCATION;VALUE=URI;X-ADDRESS=St.Mary’s Church Kilmington Church Rd Kilmington Wiltshire BA12 6TD United Kingdom;X-APPLE-RADIUS=500;X-TITLE=Church Rd:geo:-2.3247554,51.1256794
END:VEVENT
BEGIN:VEVENT
DTSTART;TZID=Europe/London:20250626T090000
DTEND;TZID=Europe/London:20250626T100000
DTSTAMP:20260423T182058
CREATED:20190915T105842Z
LAST-MODIFIED:20230704T113119Z
UID:10001514-1750928400-1750932000@upperstour.co.uk
SUMMARY:Morning Prayer | St.Mary's church\, Kilmington
DESCRIPTION:
URL:https://upperstour.co.uk/event/morning-prayer-st-marys-church-kilmington-10/2025-06-26/
LOCATION:St.Mary’s Church\, Kilmington\, Church Rd\, Kilmington\, Wiltshire\, BA12 6TD\, United Kingdom
CATEGORIES:Regular Church Service
GEO:51.1256794;-2.3247554
X-APPLE-STRUCTURED-LOCATION;VALUE=URI;X-ADDRESS=St.Mary’s Church Kilmington Church Rd Kilmington Wiltshire BA12 6TD United Kingdom;X-APPLE-RADIUS=500;X-TITLE=Church Rd:geo:-2.3247554,51.1256794
END:VEVENT
BEGIN:VEVENT
DTSTART;TZID=Europe/London:20250625T160000
DTEND;TZID=Europe/London:20250625T170000
DTSTAMP:20260423T182058
CREATED:20191020T105600Z
LAST-MODIFIED:20230704T113559Z
UID:10001739-1750867200-1750870800@upperstour.co.uk
SUMMARY:Midweek Communion | St.Martin's church\, Zeals
DESCRIPTION:
URL:https://upperstour.co.uk/event/parish-prayers-st-martins-church-zeals-6-2020-10-28-2020-11-11-2020-12-09-2021-07-28/2025-06-25/
LOCATION:St.Martin’s Church\, Zeals\, Portnells Lane\, Zeals\, Wiltshire\, BA12 6PG\, United Kingdom
CATEGORIES:Regular Church Service
GEO:51.0849031;-2.3153286
X-APPLE-STRUCTURED-LOCATION;VALUE=URI;X-ADDRESS=St.Martin’s Church Zeals Portnells Lane Zeals Wiltshire BA12 6PG United Kingdom;X-APPLE-RADIUS=500;X-TITLE=Portnells Lane:geo:-2.3153286,51.0849031
END:VEVENT
BEGIN:VEVENT
DTSTART;TZID=Europe/London:20250623T090000
DTEND;TZID=Europe/London:20250623T100000
DTSTAMP:20260423T182058
CREATED:20230704T113930Z
LAST-MODIFIED:20230704T114113Z
UID:10001964-1750669200-1750672800@upperstour.co.uk
SUMMARY:Morning Prayers | St.George's church\, Bourton
DESCRIPTION:
URL:https://upperstour.co.uk/event/morning-prayers-st-georges-church-bourton-2020-11-09-2020-12-07-2/2025-06-23/
LOCATION:St.George’s Church\, Bourton\, Church Track\, Bourton\, Dorset\, SP8 5BW\, United Kingdom
CATEGORIES:Regular Church Service
GEO:51.0709798;-2.3318825
X-APPLE-STRUCTURED-LOCATION;VALUE=URI;X-ADDRESS=St.George’s Church Bourton Church Track Bourton Dorset SP8 5BW United Kingdom;X-APPLE-RADIUS=500;X-TITLE=Church Track:geo:-2.3318825,51.0709798
END:VEVENT
BEGIN:VEVENT
DTSTART;TZID=Europe/London:20250622T100000
DTEND;TZID=Europe/London:20250622T110000
DTSTAMP:20260423T182058
CREATED:20250601T165104Z
LAST-MODIFIED:20250601T165104Z
UID:10002907-1750586400-1750590000@upperstour.co.uk
SUMMARY:Parish Communion\, St Martin's church\, Zeals
DESCRIPTION:
URL:https://upperstour.co.uk/event/parish-communion-st-martins-church-zeals/
LOCATION:St.Martin’s Church\, Zeals\, Portnells Lane\, Zeals\, Wiltshire\, BA12 6PG\, United Kingdom
CATEGORIES:Regular Church Service
ORGANIZER;CN="Mrs Val Rowe":MAILTO:valrowe@btinternet.com
GEO:51.0849031;-2.3153286
X-APPLE-STRUCTURED-LOCATION;VALUE=URI;X-ADDRESS=St.Martin’s Church Zeals Portnells Lane Zeals Wiltshire BA12 6PG United Kingdom;X-APPLE-RADIUS=500;X-TITLE=Portnells Lane:geo:-2.3153286,51.0849031
END:VEVENT
BEGIN:VEVENT
DTSTART;TZID=Europe/London:20250619T090000
DTEND;TZID=Europe/London:20250619T100000
DTSTAMP:20260423T182058
CREATED:20190915T105842Z
LAST-MODIFIED:20230704T113119Z
UID:10001513-1750323600-1750327200@upperstour.co.uk
SUMMARY:Morning Prayer | St.Mary's church\, Kilmington
DESCRIPTION:
URL:https://upperstour.co.uk/event/morning-prayer-st-marys-church-kilmington-10/2025-06-19/
LOCATION:St.Mary’s Church\, Kilmington\, Church Rd\, Kilmington\, Wiltshire\, BA12 6TD\, United Kingdom
CATEGORIES:Regular Church Service
GEO:51.1256794;-2.3247554
X-APPLE-STRUCTURED-LOCATION;VALUE=URI;X-ADDRESS=St.Mary’s Church Kilmington Church Rd Kilmington Wiltshire BA12 6TD United Kingdom;X-APPLE-RADIUS=500;X-TITLE=Church Rd:geo:-2.3247554,51.1256794
END:VEVENT
BEGIN:VEVENT
DTSTART;TZID=Europe/London:20250618T160000
DTEND;TZID=Europe/London:20250618T170000
DTSTAMP:20260423T182058
CREATED:20191020T105600Z
LAST-MODIFIED:20230704T113559Z
UID:10001738-1750262400-1750266000@upperstour.co.uk
SUMMARY:Midweek Communion | St.Martin's church\, Zeals
DESCRIPTION:
URL:https://upperstour.co.uk/event/parish-prayers-st-martins-church-zeals-6-2020-10-28-2020-11-11-2020-12-09-2021-07-28/2025-06-18/
LOCATION:St.Martin’s Church\, Zeals\, Portnells Lane\, Zeals\, Wiltshire\, BA12 6PG\, United Kingdom
CATEGORIES:Regular Church Service
GEO:51.0849031;-2.3153286
X-APPLE-STRUCTURED-LOCATION;VALUE=URI;X-ADDRESS=St.Martin’s Church Zeals Portnells Lane Zeals Wiltshire BA12 6PG United Kingdom;X-APPLE-RADIUS=500;X-TITLE=Portnells Lane:geo:-2.3153286,51.0849031
END:VEVENT
BEGIN:VEVENT
DTSTART;TZID=Europe/London:20250616T120000
DTEND;TZID=Europe/London:20250616T140000
DTSTAMP:20260423T182058
CREATED:20250601T161036Z
LAST-MODIFIED:20250601T164556Z
UID:10002906-1750075200-1750082400@upperstour.co.uk
SUMMARY:Zeals village Lunch\, tickets in advance\, from Zeals Post Office
DESCRIPTION:
URL:https://upperstour.co.uk/event/zeals-village-lunch/
LOCATION:Zeals Village Hall\, New Road\, Zeals\, Wiltshire\, BA12 6NZ\, United Kingdom
CATEGORIES:Community
ORGANIZER;CN="Mrs Vicky Goodfellow":MAILTO:vicky.zeals@gmail.com
GEO:51.083409;-2.314022
X-APPLE-STRUCTURED-LOCATION;VALUE=URI;X-ADDRESS=Zeals Village Hall New Road Zeals Wiltshire BA12 6NZ United Kingdom;X-APPLE-RADIUS=500;X-TITLE=New Road:geo:-2.314022,51.083409
END:VEVENT
BEGIN:VEVENT
DTSTART;TZID=Europe/London:20250616T090000
DTEND;TZID=Europe/London:20250616T100000
DTSTAMP:20260423T182058
CREATED:20230704T113930Z
LAST-MODIFIED:20230704T114113Z
UID:10001963-1750064400-1750068000@upperstour.co.uk
SUMMARY:Morning Prayers | St.George's church\, Bourton
DESCRIPTION:
URL:https://upperstour.co.uk/event/morning-prayers-st-georges-church-bourton-2020-11-09-2020-12-07-2/2025-06-16/
LOCATION:St.George’s Church\, Bourton\, Church Track\, Bourton\, Dorset\, SP8 5BW\, United Kingdom
CATEGORIES:Regular Church Service
GEO:51.0709798;-2.3318825
X-APPLE-STRUCTURED-LOCATION;VALUE=URI;X-ADDRESS=St.George’s Church Bourton Church Track Bourton Dorset SP8 5BW United Kingdom;X-APPLE-RADIUS=500;X-TITLE=Church Track:geo:-2.3318825,51.0709798
END:VEVENT
BEGIN:VEVENT
DTSTART;TZID=Europe/London:20250615T100000
DTEND;TZID=Europe/London:20250615T110000
DTSTAMP:20260423T182058
CREATED:20250503T104717Z
LAST-MODIFIED:20250503T104717Z
UID:10002901-1749981600-1749985200@upperstour.co.uk
SUMMARY:Stourton Parish Communion & Baptism
DESCRIPTION:Baptism of Sienna Parker-Tavernor
URL:https://upperstour.co.uk/event/stourton-parish-communion-baptism/
LOCATION:St.Peter’s Church\, Stourton\, Church Lawn\, Stourton\, Wiltshire\, BA126QE\, United Kingdom
CATEGORIES:Regular Church Service
GEO:51.1052227;-2.319975
X-APPLE-STRUCTURED-LOCATION;VALUE=URI;X-ADDRESS=St.Peter’s Church Stourton Church Lawn Stourton Wiltshire BA126QE United Kingdom;X-APPLE-RADIUS=500;X-TITLE=Church Lawn:geo:-2.319975,51.1052227
END:VEVENT
BEGIN:VEVENT
DTSTART;TZID=Europe/London:20250615T100000
DTEND;TZID=Europe/London:20250615T110000
DTSTAMP:20260423T182058
CREATED:20241206T144157Z
LAST-MODIFIED:20241206T144157Z
UID:10002678-1749981600-1749985200@upperstour.co.uk
SUMMARY:Stourton Parish Communion
DESCRIPTION:
URL:https://upperstour.co.uk/event/stourton-parish-communion-9/2025-06-15/
LOCATION:St.Peter’s Church\, Stourton\, Church Lawn\, Stourton\, Wiltshire\, BA126QE\, United Kingdom
CATEGORIES:Regular Church Service
GEO:51.1052227;-2.319975
X-APPLE-STRUCTURED-LOCATION;VALUE=URI;X-ADDRESS=St.Peter’s Church Stourton Church Lawn Stourton Wiltshire BA126QE United Kingdom;X-APPLE-RADIUS=500;X-TITLE=Church Lawn:geo:-2.319975,51.1052227
END:VEVENT
BEGIN:VEVENT
DTSTART;TZID=Europe/London:20250614T130000
DTEND;TZID=Europe/London:20250614T153000
DTSTAMP:20260423T182058
CREATED:20240105T091011Z
LAST-MODIFIED:20240105T091011Z
UID:10002382-1749906000-1749915000@upperstour.co.uk
SUMMARY:Wedding - Stourton
DESCRIPTION:
URL:https://upperstour.co.uk/event/wedding-stourton-13/
LOCATION:St.Peter’s Church\, Stourton\, Church Lawn\, Stourton\, Wiltshire\, BA126QE\, United Kingdom
CATEGORIES:Life Events
ORGANIZER;CN="Parish Administrator":MAILTO:parishoffice@upperstour.co.uk
GEO:51.1052227;-2.319975
X-APPLE-STRUCTURED-LOCATION;VALUE=URI;X-ADDRESS=St.Peter’s Church Stourton Church Lawn Stourton Wiltshire BA126QE United Kingdom;X-APPLE-RADIUS=500;X-TITLE=Church Lawn:geo:-2.319975,51.1052227
END:VEVENT
BEGIN:VEVENT
DTSTART;TZID=Europe/London:20250612T090000
DTEND;TZID=Europe/London:20250612T100000
DTSTAMP:20260423T182058
CREATED:20190915T105842Z
LAST-MODIFIED:20230704T113119Z
UID:10001512-1749718800-1749722400@upperstour.co.uk
SUMMARY:Morning Prayer | St.Mary's church\, Kilmington
DESCRIPTION:
URL:https://upperstour.co.uk/event/morning-prayer-st-marys-church-kilmington-10/2025-06-12/
LOCATION:St.Mary’s Church\, Kilmington\, Church Rd\, Kilmington\, Wiltshire\, BA12 6TD\, United Kingdom
CATEGORIES:Regular Church Service
GEO:51.1256794;-2.3247554
X-APPLE-STRUCTURED-LOCATION;VALUE=URI;X-ADDRESS=St.Mary’s Church Kilmington Church Rd Kilmington Wiltshire BA12 6TD United Kingdom;X-APPLE-RADIUS=500;X-TITLE=Church Rd:geo:-2.3247554,51.1256794
END:VEVENT
BEGIN:VEVENT
DTSTART;TZID=Europe/London:20250611T160000
DTEND;TZID=Europe/London:20250611T170000
DTSTAMP:20260423T182058
CREATED:20191020T105600Z
LAST-MODIFIED:20230704T113559Z
UID:10001737-1749657600-1749661200@upperstour.co.uk
SUMMARY:Midweek Communion | St.Martin's church\, Zeals
DESCRIPTION:
URL:https://upperstour.co.uk/event/parish-prayers-st-martins-church-zeals-6-2020-10-28-2020-11-11-2020-12-09-2021-07-28/2025-06-11/
LOCATION:St.Martin’s Church\, Zeals\, Portnells Lane\, Zeals\, Wiltshire\, BA12 6PG\, United Kingdom
CATEGORIES:Regular Church Service
GEO:51.0849031;-2.3153286
X-APPLE-STRUCTURED-LOCATION;VALUE=URI;X-ADDRESS=St.Martin’s Church Zeals Portnells Lane Zeals Wiltshire BA12 6PG United Kingdom;X-APPLE-RADIUS=500;X-TITLE=Portnells Lane:geo:-2.3153286,51.0849031
END:VEVENT
BEGIN:VEVENT
DTSTART;TZID=Europe/London:20250609T090000
DTEND;TZID=Europe/London:20250609T100000
DTSTAMP:20260423T182058
CREATED:20230704T113930Z
LAST-MODIFIED:20230704T114113Z
UID:10001962-1749459600-1749463200@upperstour.co.uk
SUMMARY:Morning Prayers | St.George's church\, Bourton
DESCRIPTION:
URL:https://upperstour.co.uk/event/morning-prayers-st-georges-church-bourton-2020-11-09-2020-12-07-2/2025-06-09/
LOCATION:St.George’s Church\, Bourton\, Church Track\, Bourton\, Dorset\, SP8 5BW\, United Kingdom
CATEGORIES:Regular Church Service
GEO:51.0709798;-2.3318825
X-APPLE-STRUCTURED-LOCATION;VALUE=URI;X-ADDRESS=St.George’s Church Bourton Church Track Bourton Dorset SP8 5BW United Kingdom;X-APPLE-RADIUS=500;X-TITLE=Church Track:geo:-2.3318825,51.0709798
END:VEVENT
BEGIN:VEVENT
DTSTART;TZID=Europe/London:20250608T100000
DTEND;TZID=Europe/London:20250608T110000
DTSTAMP:20260423T182058
CREATED:20250601T143731Z
LAST-MODIFIED:20250601T164853Z
UID:10002904-1749376800-1749380400@upperstour.co.uk
SUMMARY:Service\,  at Pentecost
DESCRIPTION:
URL:https://upperstour.co.uk/event/service-at-pentecost/
LOCATION:St.Mary’s Church\, Kilmington\, Church Rd\, Kilmington\, Wiltshire\, BA12 6TD\, United Kingdom
CATEGORIES:Regular Church Service
GEO:51.1256794;-2.3247554
X-APPLE-STRUCTURED-LOCATION;VALUE=URI;X-ADDRESS=St.Mary’s Church Kilmington Church Rd Kilmington Wiltshire BA12 6TD United Kingdom;X-APPLE-RADIUS=500;X-TITLE=Church Rd:geo:-2.3247554,51.1256794
END:VEVENT
BEGIN:VEVENT
DTSTART;TZID=Europe/London:20250608T100000
DTEND;TZID=Europe/London:20250608T110000
DTSTAMP:20260423T182058
CREATED:20241206T143813Z
LAST-MODIFIED:20241206T143813Z
UID:10002620-1749376800-1749380400@upperstour.co.uk
SUMMARY:Kilmington Parish Communion
DESCRIPTION:
URL:https://upperstour.co.uk/event/kilmington-parish-communion-9/2025-06-08/
LOCATION:Wiltshire
CATEGORIES:Regular Church Service
END:VEVENT
BEGIN:VEVENT
DTSTART;TZID=Europe/London:20250607T190000
DTEND;TZID=Europe/London:20250607T220000
DTSTAMP:20260423T182058
CREATED:20250528T094658Z
LAST-MODIFIED:20250528T095035Z
UID:10002903-1749322800-1749333600@upperstour.co.uk
SUMMARY:Quiz Night for PCC funds\, at Bourton Village Hall
DESCRIPTION:
URL:https://upperstour.co.uk/event/quiz-night-for-pcc-funds/
LOCATION:Bourton Village Hall\, Primrose Lane\, Bourton\, Dorset\, SP8 5BJ\, United Kingdom
ORGANIZER;CN="Mr George Bullivant":MAILTO:events@upperstour.co.uk
GEO:50.9588589;-2.6067009
X-APPLE-STRUCTURED-LOCATION;VALUE=URI;X-ADDRESS=Bourton Village Hall Primrose Lane Bourton Dorset SP8 5BJ United Kingdom;X-APPLE-RADIUS=500;X-TITLE=Primrose Lane:geo:-2.6067009,50.9588589
END:VEVENT
BEGIN:VEVENT
DTSTART;TZID=Europe/London:20250607T123000
DTEND;TZID=Europe/London:20250607T150000
DTSTAMP:20260423T182058
CREATED:20231124T101114Z
LAST-MODIFIED:20231124T101114Z
UID:10002372-1749299400-1749308400@upperstour.co.uk
SUMMARY:Wedding - Stourton
DESCRIPTION:
URL:https://upperstour.co.uk/event/wedding-stourton-11/
LOCATION:St.Peter’s Church\, Stourton\, Church Lawn\, Stourton\, Wiltshire\, BA126QE\, United Kingdom
CATEGORIES:Life Events
ORGANIZER;CN="Parish Administrator":MAILTO:parishoffice@upperstour.co.uk
GEO:51.1052227;-2.319975
X-APPLE-STRUCTURED-LOCATION;VALUE=URI;X-ADDRESS=St.Peter’s Church Stourton Church Lawn Stourton Wiltshire BA126QE United Kingdom;X-APPLE-RADIUS=500;X-TITLE=Church Lawn:geo:-2.319975,51.1052227
END:VEVENT
BEGIN:VEVENT
DTSTART;TZID=Europe/London:20250605T090000
DTEND;TZID=Europe/London:20250605T100000
DTSTAMP:20260423T182058
CREATED:20190915T105842Z
LAST-MODIFIED:20230704T113119Z
UID:10001511-1749114000-1749117600@upperstour.co.uk
SUMMARY:Morning Prayer | St.Mary's church\, Kilmington
DESCRIPTION:
URL:https://upperstour.co.uk/event/morning-prayer-st-marys-church-kilmington-10/2025-06-05/
LOCATION:St.Mary’s Church\, Kilmington\, Church Rd\, Kilmington\, Wiltshire\, BA12 6TD\, United Kingdom
CATEGORIES:Regular Church Service
GEO:51.1256794;-2.3247554
X-APPLE-STRUCTURED-LOCATION;VALUE=URI;X-ADDRESS=St.Mary’s Church Kilmington Church Rd Kilmington Wiltshire BA12 6TD United Kingdom;X-APPLE-RADIUS=500;X-TITLE=Church Rd:geo:-2.3247554,51.1256794
END:VEVENT
BEGIN:VEVENT
DTSTART;TZID=Europe/London:20250604T160000
DTEND;TZID=Europe/London:20250604T170000
DTSTAMP:20260423T182058
CREATED:20191020T105600Z
LAST-MODIFIED:20230704T113559Z
UID:10001736-1749052800-1749056400@upperstour.co.uk
SUMMARY:Midweek Communion | St.Martin's church\, Zeals
DESCRIPTION:
URL:https://upperstour.co.uk/event/parish-prayers-st-martins-church-zeals-6-2020-10-28-2020-11-11-2020-12-09-2021-07-28/2025-06-04/
LOCATION:St.Martin’s Church\, Zeals\, Portnells Lane\, Zeals\, Wiltshire\, BA12 6PG\, United Kingdom
CATEGORIES:Regular Church Service
GEO:51.0849031;-2.3153286
X-APPLE-STRUCTURED-LOCATION;VALUE=URI;X-ADDRESS=St.Martin’s Church Zeals Portnells Lane Zeals Wiltshire BA12 6PG United Kingdom;X-APPLE-RADIUS=500;X-TITLE=Portnells Lane:geo:-2.3153286,51.0849031
END:VEVENT
BEGIN:VEVENT
DTSTART;TZID=Europe/London:20250602T090000
DTEND;TZID=Europe/London:20250602T100000
DTSTAMP:20260423T182058
CREATED:20230704T113930Z
LAST-MODIFIED:20230704T114113Z
UID:10001961-1748854800-1748858400@upperstour.co.uk
SUMMARY:Morning Prayers | St.George's church\, Bourton
DESCRIPTION:
URL:https://upperstour.co.uk/event/morning-prayers-st-georges-church-bourton-2020-11-09-2020-12-07-2/2025-06-02/
LOCATION:St.George’s Church\, Bourton\, Church Track\, Bourton\, Dorset\, SP8 5BW\, United Kingdom
CATEGORIES:Regular Church Service
GEO:51.0709798;-2.3318825
X-APPLE-STRUCTURED-LOCATION;VALUE=URI;X-ADDRESS=St.George’s Church Bourton Church Track Bourton Dorset SP8 5BW United Kingdom;X-APPLE-RADIUS=500;X-TITLE=Church Track:geo:-2.3318825,51.0709798
END:VEVENT
BEGIN:VEVENT
DTSTART;TZID=Europe/London:20250601T100000
DTEND;TZID=Europe/London:20250601T110000
DTSTAMP:20260423T182058
CREATED:20241206T143015Z
LAST-MODIFIED:20260218T153344Z
UID:10002561-1748772000-1748775600@upperstour.co.uk
SUMMARY:Bourton Parish Communion
DESCRIPTION:
URL:https://upperstour.co.uk/event/bourton-parish-communion-12/2025-06-01/
LOCATION:St.George’s Church\, Bourton\, Church Track\, Bourton\, Dorset\, SP8 5BW\, United Kingdom
CATEGORIES:Regular Church Service
GEO:51.0709798;-2.3318825
X-APPLE-STRUCTURED-LOCATION;VALUE=URI;X-ADDRESS=St.George’s Church Bourton Church Track Bourton Dorset SP8 5BW United Kingdom;X-APPLE-RADIUS=500;X-TITLE=Church Track:geo:-2.3318825,51.0709798
END:VEVENT
BEGIN:VEVENT
DTSTART;TZID=Europe/London:20250531T130000
DTEND;TZID=Europe/London:20250531T153000
DTSTAMP:20260423T182058
CREATED:20241029T211322Z
LAST-MODIFIED:20241104T113424Z
UID:10002442-1748696400-1748705400@upperstour.co.uk
SUMMARY:Wedding - Stourton
DESCRIPTION:
URL:https://upperstour.co.uk/event/wedding-stourton-19/
LOCATION:St.Peter’s Church\, Stourton\, Church Lawn\, Stourton\, Wiltshire\, BA126QE\, United Kingdom
CATEGORIES:Life Events
ORGANIZER;CN="Parish Administrator":MAILTO:parishoffice@upperstour.co.uk
GEO:51.1052227;-2.319975
X-APPLE-STRUCTURED-LOCATION;VALUE=URI;X-ADDRESS=St.Peter’s Church Stourton Church Lawn Stourton Wiltshire BA126QE United Kingdom;X-APPLE-RADIUS=500;X-TITLE=Church Lawn:geo:-2.319975,51.1052227
END:VEVENT
BEGIN:VEVENT
DTSTART;TZID=Europe/London:20250529T180000
DTEND;TZID=Europe/London:20250529T190000
DTSTAMP:20260423T182058
CREATED:20250110T131351Z
LAST-MODIFIED:20250110T131351Z
UID:10002879-1748541600-1748545200@upperstour.co.uk
SUMMARY:Ascension Day Parish Communion - Kilmington
DESCRIPTION:
URL:https://upperstour.co.uk/event/ascension-day-parish-communion-kilmington/
LOCATION:St.Mary’s Church\, Kilmington\, Church Rd\, Kilmington\, Wiltshire\, BA12 6TD\, United Kingdom
CATEGORIES:Regular Church Service
GEO:51.1256794;-2.3247554
X-APPLE-STRUCTURED-LOCATION;VALUE=URI;X-ADDRESS=St.Mary’s Church Kilmington Church Rd Kilmington Wiltshire BA12 6TD United Kingdom;X-APPLE-RADIUS=500;X-TITLE=Church Rd:geo:-2.3247554,51.1256794
END:VEVENT
END:VCALENDAR