BEGIN:VCALENDAR
VERSION:2.0
PRODID:-//Parish of Upper Stour - ECPv6.15.20//NONSGML v1.0//EN
CALSCALE:GREGORIAN
METHOD:PUBLISH
X-ORIGINAL-URL:https://upperstour.co.uk
X-WR-CALDESC:Events for Parish of Upper Stour
REFRESH-INTERVAL;VALUE=DURATION:PT1H
X-Robots-Tag:noindex
X-PUBLISHED-TTL:PT1H
BEGIN:VTIMEZONE
TZID:Europe/London
BEGIN:DAYLIGHT
TZOFFSETFROM:+0000
TZOFFSETTO:+0100
TZNAME:BST
DTSTART:20230326T010000
END:DAYLIGHT
BEGIN:STANDARD
TZOFFSETFROM:+0100
TZOFFSETTO:+0000
TZNAME:GMT
DTSTART:20231029T010000
END:STANDARD
BEGIN:DAYLIGHT
TZOFFSETFROM:+0000
TZOFFSETTO:+0100
TZNAME:BST
DTSTART:20240331T010000
END:DAYLIGHT
BEGIN:STANDARD
TZOFFSETFROM:+0100
TZOFFSETTO:+0000
TZNAME:GMT
DTSTART:20241027T010000
END:STANDARD
BEGIN:DAYLIGHT
TZOFFSETFROM:+0000
TZOFFSETTO:+0100
TZNAME:BST
DTSTART:20250330T010000
END:DAYLIGHT
BEGIN:STANDARD
TZOFFSETFROM:+0100
TZOFFSETTO:+0000
TZNAME:GMT
DTSTART:20251026T010000
END:STANDARD
BEGIN:DAYLIGHT
TZOFFSETFROM:+0000
TZOFFSETTO:+0100
TZNAME:BST
DTSTART:20260329T010000
END:DAYLIGHT
BEGIN:STANDARD
TZOFFSETFROM:+0100
TZOFFSETTO:+0000
TZNAME:GMT
DTSTART:20261025T010000
END:STANDARD
END:VTIMEZONE
BEGIN:VEVENT
DTSTART;TZID=Europe/London:20241225T100000
DTEND;TZID=Europe/London:20241225T110000
DTSTAMP:20260423T162723
CREATED:20241031T153052Z
LAST-MODIFIED:20241031T153052Z
UID:10002453-1735120800-1735124400@upperstour.co.uk
SUMMARY:Bourton Christmas Day Communion Service
DESCRIPTION:
URL:https://upperstour.co.uk/event/bourton-christmas-day-communion-service/
LOCATION:St.George’s Church\, Bourton\, Church Track\, Bourton\, Dorset\, SP8 5BW\, United Kingdom
CATEGORIES:Regular Church Service
GEO:51.0709798;-2.3318825
X-APPLE-STRUCTURED-LOCATION;VALUE=URI;X-ADDRESS=St.George’s Church Bourton Church Track Bourton Dorset SP8 5BW United Kingdom;X-APPLE-RADIUS=500;X-TITLE=Church Track:geo:-2.3318825,51.0709798
END:VEVENT
BEGIN:VEVENT
DTSTART;TZID=Europe/London:20241229T100000
DTEND;TZID=Europe/London:20241229T170000
DTSTAMP:20260423T162723
CREATED:20241129T103733Z
LAST-MODIFIED:20241129T103733Z
UID:10002533-1735466400-1735491600@upperstour.co.uk
SUMMARY:Zeals Parish Communion
DESCRIPTION:
URL:https://upperstour.co.uk/event/zeals-parish-communion-9/
LOCATION:St.Martin’s Church\, Zeals\, Portnells Lane\, Zeals\, Wiltshire\, BA12 6PG\, United Kingdom
CATEGORIES:Regular Church Service
ORGANIZER;CN="Parish Administrator":MAILTO:parishoffice@upperstour.co.uk
GEO:51.0849031;-2.3153286
X-APPLE-STRUCTURED-LOCATION;VALUE=URI;X-ADDRESS=St.Martin’s Church Zeals Portnells Lane Zeals Wiltshire BA12 6PG United Kingdom;X-APPLE-RADIUS=500;X-TITLE=Portnells Lane:geo:-2.3153286,51.0849031
END:VEVENT
BEGIN:VEVENT
DTSTART;TZID=Europe/London:20241230T090000
DTEND;TZID=Europe/London:20241230T100000
DTSTAMP:20260423T162723
CREATED:20230704T113930Z
LAST-MODIFIED:20230704T114113Z
UID:10001939-1735549200-1735552800@upperstour.co.uk
SUMMARY:Morning Prayers | St.George's church\, Bourton
DESCRIPTION:
URL:https://upperstour.co.uk/event/morning-prayers-st-georges-church-bourton-2020-11-09-2020-12-07-2/2024-12-30/
LOCATION:St.George’s Church\, Bourton\, Church Track\, Bourton\, Dorset\, SP8 5BW\, United Kingdom
CATEGORIES:Regular Church Service
GEO:51.0709798;-2.3318825
X-APPLE-STRUCTURED-LOCATION;VALUE=URI;X-ADDRESS=St.George’s Church Bourton Church Track Bourton Dorset SP8 5BW United Kingdom;X-APPLE-RADIUS=500;X-TITLE=Church Track:geo:-2.3318825,51.0709798
END:VEVENT
BEGIN:VEVENT
DTSTART;TZID=Europe/London:20250101T160000
DTEND;TZID=Europe/London:20250101T170000
DTSTAMP:20260423T162723
CREATED:20191020T105600Z
LAST-MODIFIED:20230704T113559Z
UID:10001714-1735747200-1735750800@upperstour.co.uk
SUMMARY:Midweek Communion | St.Martin's church\, Zeals
DESCRIPTION:
URL:https://upperstour.co.uk/event/parish-prayers-st-martins-church-zeals-6-2020-10-28-2020-11-11-2020-12-09-2021-07-28/2025-01-01/
LOCATION:St.Martin’s Church\, Zeals\, Portnells Lane\, Zeals\, Wiltshire\, BA12 6PG\, United Kingdom
CATEGORIES:Regular Church Service
GEO:51.0849031;-2.3153286
X-APPLE-STRUCTURED-LOCATION;VALUE=URI;X-ADDRESS=St.Martin’s Church Zeals Portnells Lane Zeals Wiltshire BA12 6PG United Kingdom;X-APPLE-RADIUS=500;X-TITLE=Portnells Lane:geo:-2.3153286,51.0849031
END:VEVENT
BEGIN:VEVENT
DTSTART;TZID=Europe/London:20250102T090000
DTEND;TZID=Europe/London:20250102T100000
DTSTAMP:20260423T162723
CREATED:20190915T105842Z
LAST-MODIFIED:20230704T113119Z
UID:10001489-1735808400-1735812000@upperstour.co.uk
SUMMARY:Morning Prayer | St.Mary's church\, Kilmington
DESCRIPTION:
URL:https://upperstour.co.uk/event/morning-prayer-st-marys-church-kilmington-10/2025-01-02/
LOCATION:St.Mary’s Church\, Kilmington\, Church Rd\, Kilmington\, Wiltshire\, BA12 6TD\, United Kingdom
CATEGORIES:Regular Church Service
GEO:51.1256794;-2.3247554
X-APPLE-STRUCTURED-LOCATION;VALUE=URI;X-ADDRESS=St.Mary’s Church Kilmington Church Rd Kilmington Wiltshire BA12 6TD United Kingdom;X-APPLE-RADIUS=500;X-TITLE=Church Rd:geo:-2.3247554,51.1256794
END:VEVENT
BEGIN:VEVENT
DTSTART;TZID=Europe/London:20250105T100000
DTEND;TZID=Europe/London:20250105T110000
DTSTAMP:20260423T162723
CREATED:20241206T143257Z
LAST-MODIFIED:20241206T143257Z
UID:10002556-1736071200-1736074800@upperstour.co.uk
SUMMARY:Bourton Parish Communion for Epiphany
DESCRIPTION:
URL:https://upperstour.co.uk/event/bourton-parish-communion-12-2/
LOCATION:St.George’s Church\, Bourton\, Church Track\, Bourton\, Dorset\, SP8 5BW\, United Kingdom
CATEGORIES:Regular Church Service
GEO:51.0709798;-2.3318825
X-APPLE-STRUCTURED-LOCATION;VALUE=URI;X-ADDRESS=St.George’s Church Bourton Church Track Bourton Dorset SP8 5BW United Kingdom;X-APPLE-RADIUS=500;X-TITLE=Church Track:geo:-2.3318825,51.0709798
END:VEVENT
BEGIN:VEVENT
DTSTART;TZID=Europe/London:20250106T090000
DTEND;TZID=Europe/London:20250106T100000
DTSTAMP:20260423T162723
CREATED:20230704T113930Z
LAST-MODIFIED:20230704T114113Z
UID:10001940-1736154000-1736157600@upperstour.co.uk
SUMMARY:Morning Prayers | St.George's church\, Bourton
DESCRIPTION:
URL:https://upperstour.co.uk/event/morning-prayers-st-georges-church-bourton-2020-11-09-2020-12-07-2/2025-01-06/
LOCATION:St.George’s Church\, Bourton\, Church Track\, Bourton\, Dorset\, SP8 5BW\, United Kingdom
CATEGORIES:Regular Church Service
GEO:51.0709798;-2.3318825
X-APPLE-STRUCTURED-LOCATION;VALUE=URI;X-ADDRESS=St.George’s Church Bourton Church Track Bourton Dorset SP8 5BW United Kingdom;X-APPLE-RADIUS=500;X-TITLE=Church Track:geo:-2.3318825,51.0709798
END:VEVENT
BEGIN:VEVENT
DTSTART;TZID=Europe/London:20250108T160000
DTEND;TZID=Europe/London:20250108T170000
DTSTAMP:20260423T162723
CREATED:20191020T105600Z
LAST-MODIFIED:20230704T113559Z
UID:10001715-1736352000-1736355600@upperstour.co.uk
SUMMARY:Midweek Communion | St.Martin's church\, Zeals
DESCRIPTION:
URL:https://upperstour.co.uk/event/parish-prayers-st-martins-church-zeals-6-2020-10-28-2020-11-11-2020-12-09-2021-07-28/2025-01-08/
LOCATION:St.Martin’s Church\, Zeals\, Portnells Lane\, Zeals\, Wiltshire\, BA12 6PG\, United Kingdom
CATEGORIES:Regular Church Service
GEO:51.0849031;-2.3153286
X-APPLE-STRUCTURED-LOCATION;VALUE=URI;X-ADDRESS=St.Martin’s Church Zeals Portnells Lane Zeals Wiltshire BA12 6PG United Kingdom;X-APPLE-RADIUS=500;X-TITLE=Portnells Lane:geo:-2.3153286,51.0849031
END:VEVENT
BEGIN:VEVENT
DTSTART;TZID=Europe/London:20250109T090000
DTEND;TZID=Europe/London:20250109T100000
DTSTAMP:20260423T162723
CREATED:20190915T105842Z
LAST-MODIFIED:20230704T113119Z
UID:10001490-1736413200-1736416800@upperstour.co.uk
SUMMARY:Morning Prayer | St.Mary's church\, Kilmington
DESCRIPTION:
URL:https://upperstour.co.uk/event/morning-prayer-st-marys-church-kilmington-10/2025-01-09/
LOCATION:St.Mary’s Church\, Kilmington\, Church Rd\, Kilmington\, Wiltshire\, BA12 6TD\, United Kingdom
CATEGORIES:Regular Church Service
GEO:51.1256794;-2.3247554
X-APPLE-STRUCTURED-LOCATION;VALUE=URI;X-ADDRESS=St.Mary’s Church Kilmington Church Rd Kilmington Wiltshire BA12 6TD United Kingdom;X-APPLE-RADIUS=500;X-TITLE=Church Rd:geo:-2.3247554,51.1256794
END:VEVENT
BEGIN:VEVENT
DTSTART;TZID=Europe/London:20250112T100000
DTEND;TZID=Europe/London:20250112T110000
DTSTAMP:20260423T162723
CREATED:20241031T153339Z
LAST-MODIFIED:20241031T153339Z
UID:10002455-1736676000-1736679600@upperstour.co.uk
SUMMARY:Plough Sunday Service & Sharing Lunch
DESCRIPTION:
URL:https://upperstour.co.uk/event/plough-sunday-service-sharing-lunch/
LOCATION:Stourton Memorial Hall\, High Street\, Stourton\, Wilts\, BA12 6QE\, United Kingdom
CATEGORIES:Community
GEO:51.1041924;-2.3220114
X-APPLE-STRUCTURED-LOCATION;VALUE=URI;X-ADDRESS=Stourton Memorial Hall High Street Stourton Wilts BA12 6QE United Kingdom;X-APPLE-RADIUS=500;X-TITLE=High Street:geo:-2.3220114,51.1041924
END:VEVENT
BEGIN:VEVENT
DTSTART;TZID=Europe/London:20250113T090000
DTEND;TZID=Europe/London:20250113T100000
DTSTAMP:20260423T162723
CREATED:20230704T113930Z
LAST-MODIFIED:20230704T114113Z
UID:10001941-1736758800-1736762400@upperstour.co.uk
SUMMARY:Morning Prayers | St.George's church\, Bourton
DESCRIPTION:
URL:https://upperstour.co.uk/event/morning-prayers-st-georges-church-bourton-2020-11-09-2020-12-07-2/2025-01-13/
LOCATION:St.George’s Church\, Bourton\, Church Track\, Bourton\, Dorset\, SP8 5BW\, United Kingdom
CATEGORIES:Regular Church Service
GEO:51.0709798;-2.3318825
X-APPLE-STRUCTURED-LOCATION;VALUE=URI;X-ADDRESS=St.George’s Church Bourton Church Track Bourton Dorset SP8 5BW United Kingdom;X-APPLE-RADIUS=500;X-TITLE=Church Track:geo:-2.3318825,51.0709798
END:VEVENT
BEGIN:VEVENT
DTSTART;TZID=Europe/London:20250115T160000
DTEND;TZID=Europe/London:20250115T170000
DTSTAMP:20260423T162723
CREATED:20191020T105600Z
LAST-MODIFIED:20230704T113559Z
UID:10001716-1736956800-1736960400@upperstour.co.uk
SUMMARY:Midweek Communion | St.Martin's church\, Zeals
DESCRIPTION:
URL:https://upperstour.co.uk/event/parish-prayers-st-martins-church-zeals-6-2020-10-28-2020-11-11-2020-12-09-2021-07-28/2025-01-15/
LOCATION:St.Martin’s Church\, Zeals\, Portnells Lane\, Zeals\, Wiltshire\, BA12 6PG\, United Kingdom
CATEGORIES:Regular Church Service
GEO:51.0849031;-2.3153286
X-APPLE-STRUCTURED-LOCATION;VALUE=URI;X-ADDRESS=St.Martin’s Church Zeals Portnells Lane Zeals Wiltshire BA12 6PG United Kingdom;X-APPLE-RADIUS=500;X-TITLE=Portnells Lane:geo:-2.3153286,51.0849031
END:VEVENT
BEGIN:VEVENT
DTSTART;TZID=Europe/London:20250116T090000
DTEND;TZID=Europe/London:20250116T100000
DTSTAMP:20260423T162723
CREATED:20190915T105842Z
LAST-MODIFIED:20230704T113119Z
UID:10001491-1737018000-1737021600@upperstour.co.uk
SUMMARY:Morning Prayer | St.Mary's church\, Kilmington
DESCRIPTION:
URL:https://upperstour.co.uk/event/morning-prayer-st-marys-church-kilmington-10/2025-01-16/
LOCATION:St.Mary’s Church\, Kilmington\, Church Rd\, Kilmington\, Wiltshire\, BA12 6TD\, United Kingdom
CATEGORIES:Regular Church Service
GEO:51.1256794;-2.3247554
X-APPLE-STRUCTURED-LOCATION;VALUE=URI;X-ADDRESS=St.Mary’s Church Kilmington Church Rd Kilmington Wiltshire BA12 6TD United Kingdom;X-APPLE-RADIUS=500;X-TITLE=Church Rd:geo:-2.3247554,51.1256794
END:VEVENT
BEGIN:VEVENT
DTSTART;TZID=Europe/London:20250117T143000
DTEND;TZID=Europe/London:20250117T153000
DTSTAMP:20260423T162723
CREATED:20241227T113338Z
LAST-MODIFIED:20241227T113338Z
UID:10002871-1737124200-1737127800@upperstour.co.uk
SUMMARY:Funeral - Stourton
DESCRIPTION:Funeral for the late Rupert Farrington
URL:https://upperstour.co.uk/event/funeral-stourton/
LOCATION:St.Peter’s Church\, Stourton\, Church Lawn\, Stourton\, Wiltshire\, BA126QE\, United Kingdom
CATEGORIES:Life Events
GEO:51.1052227;-2.319975
X-APPLE-STRUCTURED-LOCATION;VALUE=URI;X-ADDRESS=St.Peter’s Church Stourton Church Lawn Stourton Wiltshire BA126QE United Kingdom;X-APPLE-RADIUS=500;X-TITLE=Church Lawn:geo:-2.319975,51.1052227
END:VEVENT
BEGIN:VEVENT
DTSTART;TZID=Europe/London:20250119T110000
DTEND;TZID=Europe/London:20250119T120000
DTSTAMP:20260423T162723
CREATED:20241206T145217Z
LAST-MODIFIED:20250110T125929Z
UID:10002733-1737284400-1737288000@upperstour.co.uk
SUMMARY:Churches Together Service - Mere
DESCRIPTION:
URL:https://upperstour.co.uk/event/churches-together-service-mere/
LOCATION:United Reform Church\, Mere
CATEGORIES:Community
END:VEVENT
BEGIN:VEVENT
DTSTART;TZID=Europe/London:20250120T090000
DTEND;TZID=Europe/London:20250120T100000
DTSTAMP:20260423T162723
CREATED:20230704T113930Z
LAST-MODIFIED:20230704T114113Z
UID:10001942-1737363600-1737367200@upperstour.co.uk
SUMMARY:Morning Prayers | St.George's church\, Bourton
DESCRIPTION:
URL:https://upperstour.co.uk/event/morning-prayers-st-georges-church-bourton-2020-11-09-2020-12-07-2/2025-01-20/
LOCATION:St.George’s Church\, Bourton\, Church Track\, Bourton\, Dorset\, SP8 5BW\, United Kingdom
CATEGORIES:Regular Church Service
GEO:51.0709798;-2.3318825
X-APPLE-STRUCTURED-LOCATION;VALUE=URI;X-ADDRESS=St.George’s Church Bourton Church Track Bourton Dorset SP8 5BW United Kingdom;X-APPLE-RADIUS=500;X-TITLE=Church Track:geo:-2.3318825,51.0709798
END:VEVENT
BEGIN:VEVENT
DTSTART;TZID=Europe/London:20250122T160000
DTEND;TZID=Europe/London:20250122T170000
DTSTAMP:20260423T162723
CREATED:20191020T105600Z
LAST-MODIFIED:20230704T113559Z
UID:10001717-1737561600-1737565200@upperstour.co.uk
SUMMARY:Midweek Communion | St.Martin's church\, Zeals
DESCRIPTION:
URL:https://upperstour.co.uk/event/parish-prayers-st-martins-church-zeals-6-2020-10-28-2020-11-11-2020-12-09-2021-07-28/2025-01-22/
LOCATION:St.Martin’s Church\, Zeals\, Portnells Lane\, Zeals\, Wiltshire\, BA12 6PG\, United Kingdom
CATEGORIES:Regular Church Service
GEO:51.0849031;-2.3153286
X-APPLE-STRUCTURED-LOCATION;VALUE=URI;X-ADDRESS=St.Martin’s Church Zeals Portnells Lane Zeals Wiltshire BA12 6PG United Kingdom;X-APPLE-RADIUS=500;X-TITLE=Portnells Lane:geo:-2.3153286,51.0849031
END:VEVENT
BEGIN:VEVENT
DTSTART;TZID=Europe/London:20250123T090000
DTEND;TZID=Europe/London:20250123T100000
DTSTAMP:20260423T162723
CREATED:20190915T105842Z
LAST-MODIFIED:20230704T113119Z
UID:10001492-1737622800-1737626400@upperstour.co.uk
SUMMARY:Morning Prayer | St.Mary's church\, Kilmington
DESCRIPTION:
URL:https://upperstour.co.uk/event/morning-prayer-st-marys-church-kilmington-10/2025-01-23/
LOCATION:St.Mary’s Church\, Kilmington\, Church Rd\, Kilmington\, Wiltshire\, BA12 6TD\, United Kingdom
CATEGORIES:Regular Church Service
GEO:51.1256794;-2.3247554
X-APPLE-STRUCTURED-LOCATION;VALUE=URI;X-ADDRESS=St.Mary’s Church Kilmington Church Rd Kilmington Wiltshire BA12 6TD United Kingdom;X-APPLE-RADIUS=500;X-TITLE=Church Rd:geo:-2.3247554,51.1256794
END:VEVENT
BEGIN:VEVENT
DTSTART;TZID=Europe/London:20250127T090000
DTEND;TZID=Europe/London:20250127T100000
DTSTAMP:20260423T162723
CREATED:20230704T113930Z
LAST-MODIFIED:20230704T114113Z
UID:10001943-1737968400-1737972000@upperstour.co.uk
SUMMARY:Morning Prayers | St.George's church\, Bourton
DESCRIPTION:
URL:https://upperstour.co.uk/event/morning-prayers-st-georges-church-bourton-2020-11-09-2020-12-07-2/2025-01-27/
LOCATION:St.George’s Church\, Bourton\, Church Track\, Bourton\, Dorset\, SP8 5BW\, United Kingdom
CATEGORIES:Regular Church Service
GEO:51.0709798;-2.3318825
X-APPLE-STRUCTURED-LOCATION;VALUE=URI;X-ADDRESS=St.George’s Church Bourton Church Track Bourton Dorset SP8 5BW United Kingdom;X-APPLE-RADIUS=500;X-TITLE=Church Track:geo:-2.3318825,51.0709798
END:VEVENT
BEGIN:VEVENT
DTSTART;TZID=Europe/London:20250129T160000
DTEND;TZID=Europe/London:20250129T170000
DTSTAMP:20260423T162723
CREATED:20191020T105600Z
LAST-MODIFIED:20230704T113559Z
UID:10001718-1738166400-1738170000@upperstour.co.uk
SUMMARY:Midweek Communion | St.Martin's church\, Zeals
DESCRIPTION:
URL:https://upperstour.co.uk/event/parish-prayers-st-martins-church-zeals-6-2020-10-28-2020-11-11-2020-12-09-2021-07-28/2025-01-29/
LOCATION:St.Martin’s Church\, Zeals\, Portnells Lane\, Zeals\, Wiltshire\, BA12 6PG\, United Kingdom
CATEGORIES:Regular Church Service
GEO:51.0849031;-2.3153286
X-APPLE-STRUCTURED-LOCATION;VALUE=URI;X-ADDRESS=St.Martin’s Church Zeals Portnells Lane Zeals Wiltshire BA12 6PG United Kingdom;X-APPLE-RADIUS=500;X-TITLE=Portnells Lane:geo:-2.3153286,51.0849031
END:VEVENT
BEGIN:VEVENT
DTSTART;TZID=Europe/London:20250130T090000
DTEND;TZID=Europe/London:20250130T100000
DTSTAMP:20260423T162723
CREATED:20190915T105842Z
LAST-MODIFIED:20230704T113119Z
UID:10001493-1738227600-1738231200@upperstour.co.uk
SUMMARY:Morning Prayer | St.Mary's church\, Kilmington
DESCRIPTION:
URL:https://upperstour.co.uk/event/morning-prayer-st-marys-church-kilmington-10/2025-01-30/
LOCATION:St.Mary’s Church\, Kilmington\, Church Rd\, Kilmington\, Wiltshire\, BA12 6TD\, United Kingdom
CATEGORIES:Regular Church Service
GEO:51.1256794;-2.3247554
X-APPLE-STRUCTURED-LOCATION;VALUE=URI;X-ADDRESS=St.Mary’s Church Kilmington Church Rd Kilmington Wiltshire BA12 6TD United Kingdom;X-APPLE-RADIUS=500;X-TITLE=Church Rd:geo:-2.3247554,51.1256794
END:VEVENT
BEGIN:VEVENT
DTSTART;TZID=Europe/London:20250130T160000
DTEND;TZID=Europe/London:20250130T183000
DTSTAMP:20260423T162723
CREATED:20250110T130105Z
LAST-MODIFIED:20250110T130105Z
UID:10002872-1738252800-1738261800@upperstour.co.uk
SUMMARY:PCC Meeting in the Parish Room
DESCRIPTION:
URL:https://upperstour.co.uk/event/pcc-meeting-in-the-parish-room-9/
LOCATION:St.Martin’s Church\, Zeals\, Portnells Lane\, Zeals\, Wiltshire\, BA12 6PG\, United Kingdom
CATEGORIES:Community
ORGANIZER;CN="Mrs Jane Joyce":MAILTO:j-joyce@dircon.co.uk
GEO:51.0849031;-2.3153286
X-APPLE-STRUCTURED-LOCATION;VALUE=URI;X-ADDRESS=St.Martin’s Church Zeals Portnells Lane Zeals Wiltshire BA12 6PG United Kingdom;X-APPLE-RADIUS=500;X-TITLE=Portnells Lane:geo:-2.3153286,51.0849031
END:VEVENT
BEGIN:VEVENT
DTSTART;TZID=Europe/London:20250202T100000
DTEND;TZID=Europe/London:20250202T110000
DTSTAMP:20260423T162723
CREATED:20241206T143015Z
LAST-MODIFIED:20260218T153344Z
UID:10002557-1738490400-1738494000@upperstour.co.uk
SUMMARY:Bourton Parish Communion
DESCRIPTION:
URL:https://upperstour.co.uk/event/bourton-parish-communion-12/2025-02-02/
LOCATION:St.George’s Church\, Bourton\, Church Track\, Bourton\, Dorset\, SP8 5BW\, United Kingdom
CATEGORIES:Regular Church Service
GEO:51.0709798;-2.3318825
X-APPLE-STRUCTURED-LOCATION;VALUE=URI;X-ADDRESS=St.George’s Church Bourton Church Track Bourton Dorset SP8 5BW United Kingdom;X-APPLE-RADIUS=500;X-TITLE=Church Track:geo:-2.3318825,51.0709798
END:VEVENT
BEGIN:VEVENT
DTSTART;TZID=Europe/London:20250202T160000
DTEND;TZID=Europe/London:20250202T170000
DTSTAMP:20260423T162723
CREATED:20241206T145635Z
LAST-MODIFIED:20241206T145822Z
UID:10002793-1738512000-1738515600@upperstour.co.uk
SUMMARY:Christingle Service
DESCRIPTION:
URL:https://upperstour.co.uk/event/christingle-service/
LOCATION:St.George’s Church\, Bourton\, Church Track\, Bourton\, Dorset\, SP8 5BW\, United Kingdom
CATEGORIES:Regular Church Service
ORGANIZER;CN="Barbara Borwell":MAILTO:barbaraborwell@gmail.com
GEO:51.0709798;-2.3318825
X-APPLE-STRUCTURED-LOCATION;VALUE=URI;X-ADDRESS=St.George’s Church Bourton Church Track Bourton Dorset SP8 5BW United Kingdom;X-APPLE-RADIUS=500;X-TITLE=Church Track:geo:-2.3318825,51.0709798
END:VEVENT
BEGIN:VEVENT
DTSTART;TZID=Europe/London:20250203T090000
DTEND;TZID=Europe/London:20250203T100000
DTSTAMP:20260423T162723
CREATED:20230704T113930Z
LAST-MODIFIED:20230704T114113Z
UID:10001944-1738573200-1738576800@upperstour.co.uk
SUMMARY:Morning Prayers | St.George's church\, Bourton
DESCRIPTION:
URL:https://upperstour.co.uk/event/morning-prayers-st-georges-church-bourton-2020-11-09-2020-12-07-2/2025-02-03/
LOCATION:St.George’s Church\, Bourton\, Church Track\, Bourton\, Dorset\, SP8 5BW\, United Kingdom
CATEGORIES:Regular Church Service
GEO:51.0709798;-2.3318825
X-APPLE-STRUCTURED-LOCATION;VALUE=URI;X-ADDRESS=St.George’s Church Bourton Church Track Bourton Dorset SP8 5BW United Kingdom;X-APPLE-RADIUS=500;X-TITLE=Church Track:geo:-2.3318825,51.0709798
END:VEVENT
BEGIN:VEVENT
DTSTART;TZID=Europe/London:20250205T160000
DTEND;TZID=Europe/London:20250205T170000
DTSTAMP:20260423T162723
CREATED:20191020T105600Z
LAST-MODIFIED:20230704T113559Z
UID:10001719-1738771200-1738774800@upperstour.co.uk
SUMMARY:Midweek Communion | St.Martin's church\, Zeals
DESCRIPTION:
URL:https://upperstour.co.uk/event/parish-prayers-st-martins-church-zeals-6-2020-10-28-2020-11-11-2020-12-09-2021-07-28/2025-02-05/
LOCATION:St.Martin’s Church\, Zeals\, Portnells Lane\, Zeals\, Wiltshire\, BA12 6PG\, United Kingdom
CATEGORIES:Regular Church Service
GEO:51.0849031;-2.3153286
X-APPLE-STRUCTURED-LOCATION;VALUE=URI;X-ADDRESS=St.Martin’s Church Zeals Portnells Lane Zeals Wiltshire BA12 6PG United Kingdom;X-APPLE-RADIUS=500;X-TITLE=Portnells Lane:geo:-2.3153286,51.0849031
END:VEVENT
BEGIN:VEVENT
DTSTART;TZID=Europe/London:20250206T090000
DTEND;TZID=Europe/London:20250206T100000
DTSTAMP:20260423T162723
CREATED:20190915T105842Z
LAST-MODIFIED:20230704T113119Z
UID:10001494-1738832400-1738836000@upperstour.co.uk
SUMMARY:Morning Prayer | St.Mary's church\, Kilmington
DESCRIPTION:
URL:https://upperstour.co.uk/event/morning-prayer-st-marys-church-kilmington-10/2025-02-06/
LOCATION:St.Mary’s Church\, Kilmington\, Church Rd\, Kilmington\, Wiltshire\, BA12 6TD\, United Kingdom
CATEGORIES:Regular Church Service
GEO:51.1256794;-2.3247554
X-APPLE-STRUCTURED-LOCATION;VALUE=URI;X-ADDRESS=St.Mary’s Church Kilmington Church Rd Kilmington Wiltshire BA12 6TD United Kingdom;X-APPLE-RADIUS=500;X-TITLE=Church Rd:geo:-2.3247554,51.1256794
END:VEVENT
BEGIN:VEVENT
DTSTART;TZID=Europe/London:20250208T143000
DTEND;TZID=Europe/London:20250208T150000
DTSTAMP:20260423T162723
CREATED:20250127T120944Z
LAST-MODIFIED:20250127T120944Z
UID:10002884-1739025000-1739026800@upperstour.co.uk
SUMMARY:Baptism - Bourton
DESCRIPTION:Private baptism service
URL:https://upperstour.co.uk/event/baptism-bourton-2/
LOCATION:St.George’s Church\, Bourton\, Church Track\, Bourton\, Dorset\, SP8 5BW\, United Kingdom
CATEGORIES:Life Events
GEO:51.0709798;-2.3318825
X-APPLE-STRUCTURED-LOCATION;VALUE=URI;X-ADDRESS=St.George’s Church Bourton Church Track Bourton Dorset SP8 5BW United Kingdom;X-APPLE-RADIUS=500;X-TITLE=Church Track:geo:-2.3318825,51.0709798
END:VEVENT
BEGIN:VEVENT
DTSTART;TZID=Europe/London:20250209T100000
DTEND;TZID=Europe/London:20250209T110000
DTSTAMP:20260423T162723
CREATED:20250210T095206Z
LAST-MODIFIED:20250210T095218Z
UID:10002616-1739095200-1739098800@upperstour.co.uk
SUMMARY:Kilmington Morning Worship
DESCRIPTION:
URL:https://upperstour.co.uk/event/kilmington-parish-communion-11/
LOCATION:Wiltshire
CATEGORIES:Regular Church Service
END:VEVENT
BEGIN:VEVENT
DTSTART;TZID=Europe/London:20250210T090000
DTEND;TZID=Europe/London:20250210T100000
DTSTAMP:20260423T162723
CREATED:20230704T113930Z
LAST-MODIFIED:20230704T114113Z
UID:10001945-1739178000-1739181600@upperstour.co.uk
SUMMARY:Morning Prayers | St.George's church\, Bourton
DESCRIPTION:
URL:https://upperstour.co.uk/event/morning-prayers-st-georges-church-bourton-2020-11-09-2020-12-07-2/2025-02-10/
LOCATION:St.George’s Church\, Bourton\, Church Track\, Bourton\, Dorset\, SP8 5BW\, United Kingdom
CATEGORIES:Regular Church Service
GEO:51.0709798;-2.3318825
X-APPLE-STRUCTURED-LOCATION;VALUE=URI;X-ADDRESS=St.George’s Church Bourton Church Track Bourton Dorset SP8 5BW United Kingdom;X-APPLE-RADIUS=500;X-TITLE=Church Track:geo:-2.3318825,51.0709798
END:VEVENT
END:VCALENDAR