BEGIN:VCALENDAR
VERSION:2.0
PRODID:-//Parish of Upper Stour - ECPv6.15.20//NONSGML v1.0//EN
CALSCALE:GREGORIAN
METHOD:PUBLISH
X-WR-CALNAME:Parish of Upper Stour
X-ORIGINAL-URL:https://upperstour.co.uk
X-WR-CALDESC:Events for Parish of Upper Stour
REFRESH-INTERVAL;VALUE=DURATION:PT1H
X-Robots-Tag:noindex
X-PUBLISHED-TTL:PT1H
BEGIN:VTIMEZONE
TZID:Europe/London
BEGIN:DAYLIGHT
TZOFFSETFROM:+0000
TZOFFSETTO:+0100
TZNAME:BST
DTSTART:20240331T010000
END:DAYLIGHT
BEGIN:STANDARD
TZOFFSETFROM:+0100
TZOFFSETTO:+0000
TZNAME:GMT
DTSTART:20241027T010000
END:STANDARD
BEGIN:DAYLIGHT
TZOFFSETFROM:+0000
TZOFFSETTO:+0100
TZNAME:BST
DTSTART:20250330T010000
END:DAYLIGHT
BEGIN:STANDARD
TZOFFSETFROM:+0100
TZOFFSETTO:+0000
TZNAME:GMT
DTSTART:20251026T010000
END:STANDARD
BEGIN:DAYLIGHT
TZOFFSETFROM:+0000
TZOFFSETTO:+0100
TZNAME:BST
DTSTART:20260329T010000
END:DAYLIGHT
BEGIN:STANDARD
TZOFFSETFROM:+0100
TZOFFSETTO:+0000
TZNAME:GMT
DTSTART:20261025T010000
END:STANDARD
END:VTIMEZONE
BEGIN:VEVENT
DTSTART;TZID=Europe/London:20250806T160000
DTEND;TZID=Europe/London:20250806T170000
DTSTAMP:20260423T161229
CREATED:20191020T105600Z
LAST-MODIFIED:20230704T113559Z
UID:10001745-1754496000-1754499600@upperstour.co.uk
SUMMARY:Midweek Communion | St.Martin's church\, Zeals
DESCRIPTION:
URL:https://upperstour.co.uk/event/parish-prayers-st-martins-church-zeals-6-2020-10-28-2020-11-11-2020-12-09-2021-07-28/2025-08-06/
LOCATION:St.Martin’s Church\, Zeals\, Portnells Lane\, Zeals\, Wiltshire\, BA12 6PG\, United Kingdom
CATEGORIES:Regular Church Service
GEO:51.0849031;-2.3153286
X-APPLE-STRUCTURED-LOCATION;VALUE=URI;X-ADDRESS=St.Martin’s Church Zeals Portnells Lane Zeals Wiltshire BA12 6PG United Kingdom;X-APPLE-RADIUS=500;X-TITLE=Portnells Lane:geo:-2.3153286,51.0849031
END:VEVENT
BEGIN:VEVENT
DTSTART;TZID=Europe/London:20250804T090000
DTEND;TZID=Europe/London:20250804T100000
DTSTAMP:20260423T161229
CREATED:20230704T113930Z
LAST-MODIFIED:20230704T114113Z
UID:10001970-1754298000-1754301600@upperstour.co.uk
SUMMARY:Morning Prayers | St.George's church\, Bourton
DESCRIPTION:
URL:https://upperstour.co.uk/event/morning-prayers-st-georges-church-bourton-2020-11-09-2020-12-07-2/2025-08-04/
LOCATION:St.George’s Church\, Bourton\, Church Track\, Bourton\, Dorset\, SP8 5BW\, United Kingdom
CATEGORIES:Regular Church Service
GEO:51.0709798;-2.3318825
X-APPLE-STRUCTURED-LOCATION;VALUE=URI;X-ADDRESS=St.George’s Church Bourton Church Track Bourton Dorset SP8 5BW United Kingdom;X-APPLE-RADIUS=500;X-TITLE=Church Track:geo:-2.3318825,51.0709798
END:VEVENT
BEGIN:VEVENT
DTSTART;TZID=Europe/London:20250803T100000
DTEND;TZID=Europe/London:20250803T110000
DTSTAMP:20260423T161229
CREATED:20241206T143015Z
LAST-MODIFIED:20260218T153344Z
UID:10002563-1754215200-1754218800@upperstour.co.uk
SUMMARY:Bourton Parish Communion
DESCRIPTION:
URL:https://upperstour.co.uk/event/bourton-parish-communion-12/2025-08-03/
LOCATION:St.George’s Church\, Bourton\, Church Track\, Bourton\, Dorset\, SP8 5BW\, United Kingdom
CATEGORIES:Regular Church Service
GEO:51.0709798;-2.3318825
X-APPLE-STRUCTURED-LOCATION;VALUE=URI;X-ADDRESS=St.George’s Church Bourton Church Track Bourton Dorset SP8 5BW United Kingdom;X-APPLE-RADIUS=500;X-TITLE=Church Track:geo:-2.3318825,51.0709798
END:VEVENT
BEGIN:VEVENT
DTSTART;TZID=Europe/London:20250802T110000
DTEND;TZID=Europe/London:20250802T133000
DTSTAMP:20260423T161229
CREATED:20240829T063044Z
LAST-MODIFIED:20250130T112248Z
UID:10002430-1754132400-1754141400@upperstour.co.uk
SUMMARY:Wedding - Stourton
DESCRIPTION:
URL:https://upperstour.co.uk/event/wedding-stourton-18/
LOCATION:St.Peter’s Church\, Stourton\, Church Lawn\, Stourton\, Wiltshire\, BA126QE\, United Kingdom
CATEGORIES:Life Events
ORGANIZER;CN="Parish Administrator":MAILTO:parishoffice@upperstour.co.uk
GEO:51.1052227;-2.319975
X-APPLE-STRUCTURED-LOCATION;VALUE=URI;X-ADDRESS=St.Peter’s Church Stourton Church Lawn Stourton Wiltshire BA126QE United Kingdom;X-APPLE-RADIUS=500;X-TITLE=Church Lawn:geo:-2.319975,51.1052227
END:VEVENT
BEGIN:VEVENT
DTSTART;TZID=Europe/London:20250731T180000
DTEND;TZID=Europe/London:20250731T203000
DTSTAMP:20260423T161229
CREATED:20250729T143534Z
LAST-MODIFIED:20250729T143601Z
UID:10002911-1753984800-1753993800@upperstour.co.uk
SUMMARY:St Mary's Church   Summer Bar-B-Q
DESCRIPTION:
URL:https://upperstour.co.uk/event/st-marys-church-summer-bar-b-q/
LOCATION:Street Farm\, Street farm\, Kilmington\, Wilts\, Wiltshire\, BA12 6RW\, United Kingdom
CATEGORIES:Community
ORGANIZER;CN="Mrs Elizabeth Hames":MAILTO:elizabeth.hames@hotmail.co.uk
END:VEVENT
BEGIN:VEVENT
DTSTART;TZID=Europe/London:20250731T090000
DTEND;TZID=Europe/London:20250731T100000
DTSTAMP:20260423T161229
CREATED:20190915T105842Z
LAST-MODIFIED:20230704T113119Z
UID:10001519-1753952400-1753956000@upperstour.co.uk
SUMMARY:Morning Prayer | St.Mary's church\, Kilmington
DESCRIPTION:
URL:https://upperstour.co.uk/event/morning-prayer-st-marys-church-kilmington-10/2025-07-31/
LOCATION:St.Mary’s Church\, Kilmington\, Church Rd\, Kilmington\, Wiltshire\, BA12 6TD\, United Kingdom
CATEGORIES:Regular Church Service
GEO:51.1256794;-2.3247554
X-APPLE-STRUCTURED-LOCATION;VALUE=URI;X-ADDRESS=St.Mary’s Church Kilmington Church Rd Kilmington Wiltshire BA12 6TD United Kingdom;X-APPLE-RADIUS=500;X-TITLE=Church Rd:geo:-2.3247554,51.1256794
END:VEVENT
BEGIN:VEVENT
DTSTART;TZID=Europe/London:20250730T160000
DTEND;TZID=Europe/London:20250730T170000
DTSTAMP:20260423T161229
CREATED:20191020T105600Z
LAST-MODIFIED:20230704T113559Z
UID:10001744-1753891200-1753894800@upperstour.co.uk
SUMMARY:Midweek Communion | St.Martin's church\, Zeals
DESCRIPTION:
URL:https://upperstour.co.uk/event/parish-prayers-st-martins-church-zeals-6-2020-10-28-2020-11-11-2020-12-09-2021-07-28/2025-07-30/
LOCATION:St.Martin’s Church\, Zeals\, Portnells Lane\, Zeals\, Wiltshire\, BA12 6PG\, United Kingdom
CATEGORIES:Regular Church Service
GEO:51.0849031;-2.3153286
X-APPLE-STRUCTURED-LOCATION;VALUE=URI;X-ADDRESS=St.Martin’s Church Zeals Portnells Lane Zeals Wiltshire BA12 6PG United Kingdom;X-APPLE-RADIUS=500;X-TITLE=Portnells Lane:geo:-2.3153286,51.0849031
END:VEVENT
BEGIN:VEVENT
DTSTART;TZID=Europe/London:20250728T090000
DTEND;TZID=Europe/London:20250728T100000
DTSTAMP:20260423T161229
CREATED:20230704T113930Z
LAST-MODIFIED:20230704T114113Z
UID:10001969-1753693200-1753696800@upperstour.co.uk
SUMMARY:Morning Prayers | St.George's church\, Bourton
DESCRIPTION:
URL:https://upperstour.co.uk/event/morning-prayers-st-georges-church-bourton-2020-11-09-2020-12-07-2/2025-07-28/
LOCATION:St.George’s Church\, Bourton\, Church Track\, Bourton\, Dorset\, SP8 5BW\, United Kingdom
CATEGORIES:Regular Church Service
GEO:51.0709798;-2.3318825
X-APPLE-STRUCTURED-LOCATION;VALUE=URI;X-ADDRESS=St.George’s Church Bourton Church Track Bourton Dorset SP8 5BW United Kingdom;X-APPLE-RADIUS=500;X-TITLE=Church Track:geo:-2.3318825,51.0709798
END:VEVENT
BEGIN:VEVENT
DTSTART;TZID=Europe/London:20250724T090000
DTEND;TZID=Europe/London:20250724T100000
DTSTAMP:20260423T161229
CREATED:20190915T105842Z
LAST-MODIFIED:20230704T113119Z
UID:10001518-1753347600-1753351200@upperstour.co.uk
SUMMARY:Morning Prayer | St.Mary's church\, Kilmington
DESCRIPTION:
URL:https://upperstour.co.uk/event/morning-prayer-st-marys-church-kilmington-10/2025-07-24/
LOCATION:St.Mary’s Church\, Kilmington\, Church Rd\, Kilmington\, Wiltshire\, BA12 6TD\, United Kingdom
CATEGORIES:Regular Church Service
GEO:51.1256794;-2.3247554
X-APPLE-STRUCTURED-LOCATION;VALUE=URI;X-ADDRESS=St.Mary’s Church Kilmington Church Rd Kilmington Wiltshire BA12 6TD United Kingdom;X-APPLE-RADIUS=500;X-TITLE=Church Rd:geo:-2.3247554,51.1256794
END:VEVENT
BEGIN:VEVENT
DTSTART;TZID=Europe/London:20250723T160000
DTEND;TZID=Europe/London:20250723T170000
DTSTAMP:20260423T161229
CREATED:20191020T105600Z
LAST-MODIFIED:20230704T113559Z
UID:10001743-1753286400-1753290000@upperstour.co.uk
SUMMARY:Midweek Communion | St.Martin's church\, Zeals
DESCRIPTION:
URL:https://upperstour.co.uk/event/parish-prayers-st-martins-church-zeals-6-2020-10-28-2020-11-11-2020-12-09-2021-07-28/2025-07-23/
LOCATION:St.Martin’s Church\, Zeals\, Portnells Lane\, Zeals\, Wiltshire\, BA12 6PG\, United Kingdom
CATEGORIES:Regular Church Service
GEO:51.0849031;-2.3153286
X-APPLE-STRUCTURED-LOCATION;VALUE=URI;X-ADDRESS=St.Martin’s Church Zeals Portnells Lane Zeals Wiltshire BA12 6PG United Kingdom;X-APPLE-RADIUS=500;X-TITLE=Portnells Lane:geo:-2.3153286,51.0849031
END:VEVENT
BEGIN:VEVENT
DTSTART;TZID=Europe/London:20250721T090000
DTEND;TZID=Europe/London:20250721T100000
DTSTAMP:20260423T161229
CREATED:20230704T113930Z
LAST-MODIFIED:20230704T114113Z
UID:10001968-1753088400-1753092000@upperstour.co.uk
SUMMARY:Morning Prayers | St.George's church\, Bourton
DESCRIPTION:
URL:https://upperstour.co.uk/event/morning-prayers-st-georges-church-bourton-2020-11-09-2020-12-07-2/2025-07-21/
LOCATION:St.George’s Church\, Bourton\, Church Track\, Bourton\, Dorset\, SP8 5BW\, United Kingdom
CATEGORIES:Regular Church Service
GEO:51.0709798;-2.3318825
X-APPLE-STRUCTURED-LOCATION;VALUE=URI;X-ADDRESS=St.George’s Church Bourton Church Track Bourton Dorset SP8 5BW United Kingdom;X-APPLE-RADIUS=500;X-TITLE=Church Track:geo:-2.3318825,51.0709798
END:VEVENT
BEGIN:VEVENT
DTSTART;TZID=Europe/London:20250720T100000
DTEND;TZID=Europe/London:20250720T110000
DTSTAMP:20260423T161229
CREATED:20250617T131152Z
LAST-MODIFIED:20250617T131309Z
UID:10002910-1753005600-1753009200@upperstour.co.uk
SUMMARY:Parish Communion at St.Peter's\, Stourton        Mona Tyler
DESCRIPTION:
URL:https://upperstour.co.uk/event/parish-communion-at-st-marys-kilmington-rev-mac/
LOCATION:St.Peter’s Church\, Stourton\, Church Lawn\, Stourton\, Wiltshire\, BA126QE\, United Kingdom
ORGANIZER;CN="Mrs Jane Parker":MAILTO:jane.homefarm@gmail.com
GEO:51.1052227;-2.319975
X-APPLE-STRUCTURED-LOCATION;VALUE=URI;X-ADDRESS=St.Peter’s Church Stourton Church Lawn Stourton Wiltshire BA126QE United Kingdom;X-APPLE-RADIUS=500;X-TITLE=Church Lawn:geo:-2.319975,51.1052227
END:VEVENT
BEGIN:VEVENT
DTSTART;TZID=Europe/London:20250720T100000
DTEND;TZID=Europe/London:20250720T110000
DTSTAMP:20260423T161229
CREATED:20241206T144157Z
LAST-MODIFIED:20241206T144157Z
UID:10002679-1753005600-1753009200@upperstour.co.uk
SUMMARY:Stourton Parish Communion
DESCRIPTION:
URL:https://upperstour.co.uk/event/stourton-parish-communion-9/2025-07-20/
LOCATION:St.Peter’s Church\, Stourton\, Church Lawn\, Stourton\, Wiltshire\, BA126QE\, United Kingdom
CATEGORIES:Regular Church Service
GEO:51.1052227;-2.319975
X-APPLE-STRUCTURED-LOCATION;VALUE=URI;X-ADDRESS=St.Peter’s Church Stourton Church Lawn Stourton Wiltshire BA126QE United Kingdom;X-APPLE-RADIUS=500;X-TITLE=Church Lawn:geo:-2.319975,51.1052227
END:VEVENT
BEGIN:VEVENT
DTSTART;TZID=Europe/London:20250717T090000
DTEND;TZID=Europe/London:20250717T100000
DTSTAMP:20260423T161229
CREATED:20190915T105842Z
LAST-MODIFIED:20230704T113119Z
UID:10001517-1752742800-1752746400@upperstour.co.uk
SUMMARY:Morning Prayer | St.Mary's church\, Kilmington
DESCRIPTION:
URL:https://upperstour.co.uk/event/morning-prayer-st-marys-church-kilmington-10/2025-07-17/
LOCATION:St.Mary’s Church\, Kilmington\, Church Rd\, Kilmington\, Wiltshire\, BA12 6TD\, United Kingdom
CATEGORIES:Regular Church Service
GEO:51.1256794;-2.3247554
X-APPLE-STRUCTURED-LOCATION;VALUE=URI;X-ADDRESS=St.Mary’s Church Kilmington Church Rd Kilmington Wiltshire BA12 6TD United Kingdom;X-APPLE-RADIUS=500;X-TITLE=Church Rd:geo:-2.3247554,51.1256794
END:VEVENT
BEGIN:VEVENT
DTSTART;TZID=Europe/London:20250716T160000
DTEND;TZID=Europe/London:20250716T170000
DTSTAMP:20260423T161229
CREATED:20191020T105600Z
LAST-MODIFIED:20230704T113559Z
UID:10001742-1752681600-1752685200@upperstour.co.uk
SUMMARY:Midweek Communion | St.Martin's church\, Zeals
DESCRIPTION:
URL:https://upperstour.co.uk/event/parish-prayers-st-martins-church-zeals-6-2020-10-28-2020-11-11-2020-12-09-2021-07-28/2025-07-16/
LOCATION:St.Martin’s Church\, Zeals\, Portnells Lane\, Zeals\, Wiltshire\, BA12 6PG\, United Kingdom
CATEGORIES:Regular Church Service
GEO:51.0849031;-2.3153286
X-APPLE-STRUCTURED-LOCATION;VALUE=URI;X-ADDRESS=St.Martin’s Church Zeals Portnells Lane Zeals Wiltshire BA12 6PG United Kingdom;X-APPLE-RADIUS=500;X-TITLE=Portnells Lane:geo:-2.3153286,51.0849031
END:VEVENT
BEGIN:VEVENT
DTSTART;TZID=Europe/London:20250714T090000
DTEND;TZID=Europe/London:20250714T100000
DTSTAMP:20260423T161229
CREATED:20230704T113930Z
LAST-MODIFIED:20230704T114113Z
UID:10001967-1752483600-1752487200@upperstour.co.uk
SUMMARY:Morning Prayers | St.George's church\, Bourton
DESCRIPTION:
URL:https://upperstour.co.uk/event/morning-prayers-st-georges-church-bourton-2020-11-09-2020-12-07-2/2025-07-14/
LOCATION:St.George’s Church\, Bourton\, Church Track\, Bourton\, Dorset\, SP8 5BW\, United Kingdom
CATEGORIES:Regular Church Service
GEO:51.0709798;-2.3318825
X-APPLE-STRUCTURED-LOCATION;VALUE=URI;X-ADDRESS=St.George’s Church Bourton Church Track Bourton Dorset SP8 5BW United Kingdom;X-APPLE-RADIUS=500;X-TITLE=Church Track:geo:-2.3318825,51.0709798
END:VEVENT
BEGIN:VEVENT
DTSTART;TZID=Europe/London:20250713T100000
DTEND;TZID=Europe/London:20250713T110000
DTSTAMP:20260423T161229
CREATED:20241206T143813Z
LAST-MODIFIED:20241206T143813Z
UID:10002621-1752400800-1752404400@upperstour.co.uk
SUMMARY:Kilmington Parish Communion
DESCRIPTION:
URL:https://upperstour.co.uk/event/kilmington-parish-communion-9/2025-07-13/
LOCATION:Wiltshire
CATEGORIES:Regular Church Service
END:VEVENT
BEGIN:VEVENT
DTSTART;TZID=Europe/London:20250710T090000
DTEND;TZID=Europe/London:20250710T100000
DTSTAMP:20260423T161229
CREATED:20190915T105842Z
LAST-MODIFIED:20230704T113119Z
UID:10001516-1752138000-1752141600@upperstour.co.uk
SUMMARY:Morning Prayer | St.Mary's church\, Kilmington
DESCRIPTION:
URL:https://upperstour.co.uk/event/morning-prayer-st-marys-church-kilmington-10/2025-07-10/
LOCATION:St.Mary’s Church\, Kilmington\, Church Rd\, Kilmington\, Wiltshire\, BA12 6TD\, United Kingdom
CATEGORIES:Regular Church Service
GEO:51.1256794;-2.3247554
X-APPLE-STRUCTURED-LOCATION;VALUE=URI;X-ADDRESS=St.Mary’s Church Kilmington Church Rd Kilmington Wiltshire BA12 6TD United Kingdom;X-APPLE-RADIUS=500;X-TITLE=Church Rd:geo:-2.3247554,51.1256794
END:VEVENT
BEGIN:VEVENT
DTSTART;TZID=Europe/London:20250709T160000
DTEND;TZID=Europe/London:20250709T170000
DTSTAMP:20260423T161229
CREATED:20191020T105600Z
LAST-MODIFIED:20230704T113559Z
UID:10001741-1752076800-1752080400@upperstour.co.uk
SUMMARY:Midweek Communion | St.Martin's church\, Zeals
DESCRIPTION:
URL:https://upperstour.co.uk/event/parish-prayers-st-martins-church-zeals-6-2020-10-28-2020-11-11-2020-12-09-2021-07-28/2025-07-09/
LOCATION:St.Martin’s Church\, Zeals\, Portnells Lane\, Zeals\, Wiltshire\, BA12 6PG\, United Kingdom
CATEGORIES:Regular Church Service
GEO:51.0849031;-2.3153286
X-APPLE-STRUCTURED-LOCATION;VALUE=URI;X-ADDRESS=St.Martin’s Church Zeals Portnells Lane Zeals Wiltshire BA12 6PG United Kingdom;X-APPLE-RADIUS=500;X-TITLE=Portnells Lane:geo:-2.3153286,51.0849031
END:VEVENT
BEGIN:VEVENT
DTSTART;TZID=Europe/London:20250707T090000
DTEND;TZID=Europe/London:20250707T100000
DTSTAMP:20260423T161229
CREATED:20230704T113930Z
LAST-MODIFIED:20230704T114113Z
UID:10001966-1751878800-1751882400@upperstour.co.uk
SUMMARY:Morning Prayers | St.George's church\, Bourton
DESCRIPTION:
URL:https://upperstour.co.uk/event/morning-prayers-st-georges-church-bourton-2020-11-09-2020-12-07-2/2025-07-07/
LOCATION:St.George’s Church\, Bourton\, Church Track\, Bourton\, Dorset\, SP8 5BW\, United Kingdom
CATEGORIES:Regular Church Service
GEO:51.0709798;-2.3318825
X-APPLE-STRUCTURED-LOCATION;VALUE=URI;X-ADDRESS=St.George’s Church Bourton Church Track Bourton Dorset SP8 5BW United Kingdom;X-APPLE-RADIUS=500;X-TITLE=Church Track:geo:-2.3318825,51.0709798
END:VEVENT
BEGIN:VEVENT
DTSTART;TZID=Europe/London:20250706T100000
DTEND;TZID=Europe/London:20250706T110000
DTSTAMP:20260423T161229
CREATED:20250617T130444Z
LAST-MODIFIED:20250617T130444Z
UID:10002909-1751796000-1751799600@upperstour.co.uk
SUMMARY:Parish Communion at St.George's church\, Bourton
DESCRIPTION:
URL:https://upperstour.co.uk/event/parish-communion-at-st-georges-church-bourton/
LOCATION:St.George’s Church\, Bourton\, Church Track\, Bourton\, Dorset\, SP8 5BW\, United Kingdom
GEO:51.0709798;-2.3318825
X-APPLE-STRUCTURED-LOCATION;VALUE=URI;X-ADDRESS=St.George’s Church Bourton Church Track Bourton Dorset SP8 5BW United Kingdom;X-APPLE-RADIUS=500;X-TITLE=Church Track:geo:-2.3318825,51.0709798
END:VEVENT
BEGIN:VEVENT
DTSTART;TZID=Europe/London:20250706T100000
DTEND;TZID=Europe/London:20250706T110000
DTSTAMP:20260423T161229
CREATED:20241206T143015Z
LAST-MODIFIED:20260218T153344Z
UID:10002562-1751796000-1751799600@upperstour.co.uk
SUMMARY:Bourton Parish Communion
DESCRIPTION:
URL:https://upperstour.co.uk/event/bourton-parish-communion-12/2025-07-06/
LOCATION:St.George’s Church\, Bourton\, Church Track\, Bourton\, Dorset\, SP8 5BW\, United Kingdom
CATEGORIES:Regular Church Service
GEO:51.0709798;-2.3318825
X-APPLE-STRUCTURED-LOCATION;VALUE=URI;X-ADDRESS=St.George’s Church Bourton Church Track Bourton Dorset SP8 5BW United Kingdom;X-APPLE-RADIUS=500;X-TITLE=Church Track:geo:-2.3318825,51.0709798
END:VEVENT
BEGIN:VEVENT
DTSTART;TZID=Europe/London:20250703T090000
DTEND;TZID=Europe/London:20250703T100000
DTSTAMP:20260423T161229
CREATED:20190915T105842Z
LAST-MODIFIED:20230704T113119Z
UID:10001515-1751533200-1751536800@upperstour.co.uk
SUMMARY:Morning Prayer | St.Mary's church\, Kilmington
DESCRIPTION:
URL:https://upperstour.co.uk/event/morning-prayer-st-marys-church-kilmington-10/2025-07-03/
LOCATION:St.Mary’s Church\, Kilmington\, Church Rd\, Kilmington\, Wiltshire\, BA12 6TD\, United Kingdom
CATEGORIES:Regular Church Service
GEO:51.1256794;-2.3247554
X-APPLE-STRUCTURED-LOCATION;VALUE=URI;X-ADDRESS=St.Mary’s Church Kilmington Church Rd Kilmington Wiltshire BA12 6TD United Kingdom;X-APPLE-RADIUS=500;X-TITLE=Church Rd:geo:-2.3247554,51.1256794
END:VEVENT
BEGIN:VEVENT
DTSTART;TZID=Europe/London:20250702T160000
DTEND;TZID=Europe/London:20250702T170000
DTSTAMP:20260423T161229
CREATED:20191020T105600Z
LAST-MODIFIED:20230704T113559Z
UID:10001740-1751472000-1751475600@upperstour.co.uk
SUMMARY:Midweek Communion | St.Martin's church\, Zeals
DESCRIPTION:
URL:https://upperstour.co.uk/event/parish-prayers-st-martins-church-zeals-6-2020-10-28-2020-11-11-2020-12-09-2021-07-28/2025-07-02/
LOCATION:St.Martin’s Church\, Zeals\, Portnells Lane\, Zeals\, Wiltshire\, BA12 6PG\, United Kingdom
CATEGORIES:Regular Church Service
GEO:51.0849031;-2.3153286
X-APPLE-STRUCTURED-LOCATION;VALUE=URI;X-ADDRESS=St.Martin’s Church Zeals Portnells Lane Zeals Wiltshire BA12 6PG United Kingdom;X-APPLE-RADIUS=500;X-TITLE=Portnells Lane:geo:-2.3153286,51.0849031
END:VEVENT
BEGIN:VEVENT
DTSTART;TZID=Europe/London:20250630T090000
DTEND;TZID=Europe/London:20250630T100000
DTSTAMP:20260423T161229
CREATED:20230704T113930Z
LAST-MODIFIED:20230704T114113Z
UID:10001965-1751274000-1751277600@upperstour.co.uk
SUMMARY:Morning Prayers | St.George's church\, Bourton
DESCRIPTION:
URL:https://upperstour.co.uk/event/morning-prayers-st-georges-church-bourton-2020-11-09-2020-12-07-2/2025-06-30/
LOCATION:St.George’s Church\, Bourton\, Church Track\, Bourton\, Dorset\, SP8 5BW\, United Kingdom
CATEGORIES:Regular Church Service
GEO:51.0709798;-2.3318825
X-APPLE-STRUCTURED-LOCATION;VALUE=URI;X-ADDRESS=St.George’s Church Bourton Church Track Bourton Dorset SP8 5BW United Kingdom;X-APPLE-RADIUS=500;X-TITLE=Church Track:geo:-2.3318825,51.0709798
END:VEVENT
BEGIN:VEVENT
DTSTART;TZID=Europe/London:20250629T100000
DTEND;TZID=Europe/London:20250629T110000
DTSTAMP:20260423T161229
CREATED:20250617T130200Z
LAST-MODIFIED:20250617T130200Z
UID:10002908-1751191200-1751194800@upperstour.co.uk
SUMMARY:Parish Communion\, at St Mary's\, Kilmington
DESCRIPTION:
URL:https://upperstour.co.uk/event/parish-communion-at-st-marys-kilmington/
LOCATION:St.Mary’s Church\, Kilmington\, Church Rd\, Kilmington\, Wiltshire\, BA12 6TD\, United Kingdom
CATEGORIES:Regular Church Service
ORGANIZER;CN="Mr Chris Reeves":MAILTO:c.reeves110@btinternet.com
GEO:51.1256794;-2.3247554
X-APPLE-STRUCTURED-LOCATION;VALUE=URI;X-ADDRESS=St.Mary’s Church Kilmington Church Rd Kilmington Wiltshire BA12 6TD United Kingdom;X-APPLE-RADIUS=500;X-TITLE=Church Rd:geo:-2.3247554,51.1256794
END:VEVENT
BEGIN:VEVENT
DTSTART;TZID=Europe/London:20250626T090000
DTEND;TZID=Europe/London:20250626T100000
DTSTAMP:20260423T161229
CREATED:20190915T105842Z
LAST-MODIFIED:20230704T113119Z
UID:10001514-1750928400-1750932000@upperstour.co.uk
SUMMARY:Morning Prayer | St.Mary's church\, Kilmington
DESCRIPTION:
URL:https://upperstour.co.uk/event/morning-prayer-st-marys-church-kilmington-10/2025-06-26/
LOCATION:St.Mary’s Church\, Kilmington\, Church Rd\, Kilmington\, Wiltshire\, BA12 6TD\, United Kingdom
CATEGORIES:Regular Church Service
GEO:51.1256794;-2.3247554
X-APPLE-STRUCTURED-LOCATION;VALUE=URI;X-ADDRESS=St.Mary’s Church Kilmington Church Rd Kilmington Wiltshire BA12 6TD United Kingdom;X-APPLE-RADIUS=500;X-TITLE=Church Rd:geo:-2.3247554,51.1256794
END:VEVENT
BEGIN:VEVENT
DTSTART;TZID=Europe/London:20250625T160000
DTEND;TZID=Europe/London:20250625T170000
DTSTAMP:20260423T161229
CREATED:20191020T105600Z
LAST-MODIFIED:20230704T113559Z
UID:10001739-1750867200-1750870800@upperstour.co.uk
SUMMARY:Midweek Communion | St.Martin's church\, Zeals
DESCRIPTION:
URL:https://upperstour.co.uk/event/parish-prayers-st-martins-church-zeals-6-2020-10-28-2020-11-11-2020-12-09-2021-07-28/2025-06-25/
LOCATION:St.Martin’s Church\, Zeals\, Portnells Lane\, Zeals\, Wiltshire\, BA12 6PG\, United Kingdom
CATEGORIES:Regular Church Service
GEO:51.0849031;-2.3153286
X-APPLE-STRUCTURED-LOCATION;VALUE=URI;X-ADDRESS=St.Martin’s Church Zeals Portnells Lane Zeals Wiltshire BA12 6PG United Kingdom;X-APPLE-RADIUS=500;X-TITLE=Portnells Lane:geo:-2.3153286,51.0849031
END:VEVENT
BEGIN:VEVENT
DTSTART;TZID=Europe/London:20250623T090000
DTEND;TZID=Europe/London:20250623T100000
DTSTAMP:20260423T161229
CREATED:20230704T113930Z
LAST-MODIFIED:20230704T114113Z
UID:10001964-1750669200-1750672800@upperstour.co.uk
SUMMARY:Morning Prayers | St.George's church\, Bourton
DESCRIPTION:
URL:https://upperstour.co.uk/event/morning-prayers-st-georges-church-bourton-2020-11-09-2020-12-07-2/2025-06-23/
LOCATION:St.George’s Church\, Bourton\, Church Track\, Bourton\, Dorset\, SP8 5BW\, United Kingdom
CATEGORIES:Regular Church Service
GEO:51.0709798;-2.3318825
X-APPLE-STRUCTURED-LOCATION;VALUE=URI;X-ADDRESS=St.George’s Church Bourton Church Track Bourton Dorset SP8 5BW United Kingdom;X-APPLE-RADIUS=500;X-TITLE=Church Track:geo:-2.3318825,51.0709798
END:VEVENT
BEGIN:VEVENT
DTSTART;TZID=Europe/London:20250622T100000
DTEND;TZID=Europe/London:20250622T110000
DTSTAMP:20260423T161229
CREATED:20250601T165104Z
LAST-MODIFIED:20250601T165104Z
UID:10002907-1750586400-1750590000@upperstour.co.uk
SUMMARY:Parish Communion\, St Martin's church\, Zeals
DESCRIPTION:
URL:https://upperstour.co.uk/event/parish-communion-st-martins-church-zeals/
LOCATION:St.Martin’s Church\, Zeals\, Portnells Lane\, Zeals\, Wiltshire\, BA12 6PG\, United Kingdom
CATEGORIES:Regular Church Service
ORGANIZER;CN="Mrs Val Rowe":MAILTO:valrowe@btinternet.com
GEO:51.0849031;-2.3153286
X-APPLE-STRUCTURED-LOCATION;VALUE=URI;X-ADDRESS=St.Martin’s Church Zeals Portnells Lane Zeals Wiltshire BA12 6PG United Kingdom;X-APPLE-RADIUS=500;X-TITLE=Portnells Lane:geo:-2.3153286,51.0849031
END:VEVENT
END:VCALENDAR