BEGIN:VCALENDAR
VERSION:2.0
PRODID:-//Parish of Upper Stour - ECPv6.15.20//NONSGML v1.0//EN
CALSCALE:GREGORIAN
METHOD:PUBLISH
X-WR-CALNAME:Parish of Upper Stour
X-ORIGINAL-URL:https://upperstour.co.uk
X-WR-CALDESC:Events for Parish of Upper Stour
REFRESH-INTERVAL;VALUE=DURATION:PT1H
X-Robots-Tag:noindex
X-PUBLISHED-TTL:PT1H
BEGIN:VTIMEZONE
TZID:Europe/London
BEGIN:DAYLIGHT
TZOFFSETFROM:+0000
TZOFFSETTO:+0100
TZNAME:BST
DTSTART:20210328T010000
END:DAYLIGHT
BEGIN:STANDARD
TZOFFSETFROM:+0100
TZOFFSETTO:+0000
TZNAME:GMT
DTSTART:20211031T010000
END:STANDARD
BEGIN:DAYLIGHT
TZOFFSETFROM:+0000
TZOFFSETTO:+0100
TZNAME:BST
DTSTART:20220327T010000
END:DAYLIGHT
BEGIN:STANDARD
TZOFFSETFROM:+0100
TZOFFSETTO:+0000
TZNAME:GMT
DTSTART:20221030T010000
END:STANDARD
BEGIN:DAYLIGHT
TZOFFSETFROM:+0000
TZOFFSETTO:+0100
TZNAME:BST
DTSTART:20230326T010000
END:DAYLIGHT
BEGIN:STANDARD
TZOFFSETFROM:+0100
TZOFFSETTO:+0000
TZNAME:GMT
DTSTART:20231029T010000
END:STANDARD
END:VTIMEZONE
BEGIN:VEVENT
DTSTART;TZID=Europe/London:20221113T100000
DTEND;TZID=Europe/London:20221113T110000
DTSTAMP:20260423T152859
CREATED:20200309T102858Z
LAST-MODIFIED:20220516T145452Z
UID:10000859-1668333600-1668337200@upperstour.co.uk
SUMMARY:10am at Kilmington church\, Remembrance Day Service
DESCRIPTION:
URL:https://upperstour.co.uk/event/parish-communion-kilmington-3-2022-11-13/
LOCATION:St.Mary’s Church\, Kilmington\, Church Rd\, Kilmington\, Wiltshire\, BA12 6TD\, United Kingdom
GEO:51.1256794;-2.3247554
X-APPLE-STRUCTURED-LOCATION;VALUE=URI;X-ADDRESS=St.Mary’s Church Kilmington Church Rd Kilmington Wiltshire BA12 6TD United Kingdom;X-APPLE-RADIUS=500;X-TITLE=Church Rd:geo:-2.3247554,51.1256794
END:VEVENT
BEGIN:VEVENT
DTSTART;TZID=Europe/London:20221110T090000
DTEND;TZID=Europe/London:20221110T100000
DTSTAMP:20260423T152859
CREATED:20190915T105842Z
LAST-MODIFIED:20230704T113119Z
UID:10000393-1668070800-1668074400@upperstour.co.uk
SUMMARY:Morning Prayer | St.Mary's church\, Kilmington
DESCRIPTION:
URL:https://upperstour.co.uk/event/morning-prayer-st-marys-church-kilmington-10/2022-11-10/
LOCATION:St.Mary’s Church\, Kilmington\, Church Rd\, Kilmington\, Wiltshire\, BA12 6TD\, United Kingdom
CATEGORIES:Regular Church Service
GEO:51.1256794;-2.3247554
X-APPLE-STRUCTURED-LOCATION;VALUE=URI;X-ADDRESS=St.Mary’s Church Kilmington Church Rd Kilmington Wiltshire BA12 6TD United Kingdom;X-APPLE-RADIUS=500;X-TITLE=Church Rd:geo:-2.3247554,51.1256794
END:VEVENT
BEGIN:VEVENT
DTSTART;TZID=Europe/London:20221109T160000
DTEND;TZID=Europe/London:20221109T170000
DTSTAMP:20260423T152859
CREATED:20191020T105600Z
LAST-MODIFIED:20230704T110045Z
UID:10000563-1668009600-1668013200@upperstour.co.uk
SUMMARY:Afternoon Prayers | St.Martin's church\, Zeals
DESCRIPTION:
URL:https://upperstour.co.uk/event/parish-prayers-st-martins-church-zeals-6-2020-10-28-2020-11-11-2020-12-09/2022-11-09/
LOCATION:St.Martin’s Church\, Zeals\, Portnells Lane\, Zeals\, Wiltshire\, BA12 6PG\, United Kingdom
CATEGORIES:Regular Church Service
GEO:51.0849031;-2.3153286
X-APPLE-STRUCTURED-LOCATION;VALUE=URI;X-ADDRESS=St.Martin’s Church Zeals Portnells Lane Zeals Wiltshire BA12 6PG United Kingdom;X-APPLE-RADIUS=500;X-TITLE=Portnells Lane:geo:-2.3153286,51.0849031
END:VEVENT
BEGIN:VEVENT
DTSTART;TZID=Europe/London:20221109T160000
DTEND;TZID=Europe/London:20221109T170000
DTSTAMP:20260423T152859
CREATED:20191020T105600Z
LAST-MODIFIED:20230704T113559Z
UID:10000700-1668009600-1668013200@upperstour.co.uk
SUMMARY:Midweek Communion | St.Martin's church\, Zeals
DESCRIPTION:
URL:https://upperstour.co.uk/event/parish-prayers-st-martins-church-zeals-6-2020-10-28-2020-11-11-2020-12-09-2021-07-28/2022-11-09/
LOCATION:St.Martin’s Church\, Zeals\, Portnells Lane\, Zeals\, Wiltshire\, BA12 6PG\, United Kingdom
CATEGORIES:Regular Church Service
GEO:51.0849031;-2.3153286
X-APPLE-STRUCTURED-LOCATION;VALUE=URI;X-ADDRESS=St.Martin’s Church Zeals Portnells Lane Zeals Wiltshire BA12 6PG United Kingdom;X-APPLE-RADIUS=500;X-TITLE=Portnells Lane:geo:-2.3153286,51.0849031
END:VEVENT
BEGIN:VEVENT
DTSTART;TZID=Europe/London:20221107T090000
DTEND;TZID=Europe/London:20221107T100000
DTSTAMP:20260423T152859
CREATED:20190831T110029Z
LAST-MODIFIED:20201102T100603Z
UID:10000158-1667811600-1667815200@upperstour.co.uk
SUMMARY:Morning Prayers | St.George's church\, Bourton
DESCRIPTION:
URL:https://upperstour.co.uk/event/morning-prayers-st-georges-church-bourton-2020-11-09-2020-12-07/2022-11-07/
LOCATION:St.George’s Church\, Bourton\, Church Track\, Bourton\, Dorset\, SP8 5BW\, United Kingdom
GEO:51.0709798;-2.3318825
X-APPLE-STRUCTURED-LOCATION;VALUE=URI;X-ADDRESS=St.George’s Church Bourton Church Track Bourton Dorset SP8 5BW United Kingdom;X-APPLE-RADIUS=500;X-TITLE=Church Track:geo:-2.3318825,51.0709798
END:VEVENT
BEGIN:VEVENT
DTSTART;TZID=Europe/London:20221106T100000
DTEND;TZID=Europe/London:20221106T110000
DTSTAMP:20260423T152859
CREATED:20200309T102703Z
LAST-MODIFIED:20220515T143339Z
UID:10000809-1667728800-1667732400@upperstour.co.uk
SUMMARY:10am Bourton Parish Communion
DESCRIPTION:
URL:https://upperstour.co.uk/event/parish-communion-bourton-3-2022-11-06/
LOCATION:St.George’s Church\, Bourton\, Church Track\, Bourton\, Dorset\, SP8 5BW\, United Kingdom
GEO:51.0709798;-2.3318825
X-APPLE-STRUCTURED-LOCATION;VALUE=URI;X-ADDRESS=St.George’s Church Bourton Church Track Bourton Dorset SP8 5BW United Kingdom;X-APPLE-RADIUS=500;X-TITLE=Church Track:geo:-2.3318825,51.0709798
END:VEVENT
BEGIN:VEVENT
DTSTART;TZID=Europe/London:20221103T090000
DTEND;TZID=Europe/London:20221103T100000
DTSTAMP:20260423T152859
CREATED:20190915T105842Z
LAST-MODIFIED:20230704T113119Z
UID:10000392-1667466000-1667469600@upperstour.co.uk
SUMMARY:Morning Prayer | St.Mary's church\, Kilmington
DESCRIPTION:
URL:https://upperstour.co.uk/event/morning-prayer-st-marys-church-kilmington-10/2022-11-03/
LOCATION:St.Mary’s Church\, Kilmington\, Church Rd\, Kilmington\, Wiltshire\, BA12 6TD\, United Kingdom
CATEGORIES:Regular Church Service
GEO:51.1256794;-2.3247554
X-APPLE-STRUCTURED-LOCATION;VALUE=URI;X-ADDRESS=St.Mary’s Church Kilmington Church Rd Kilmington Wiltshire BA12 6TD United Kingdom;X-APPLE-RADIUS=500;X-TITLE=Church Rd:geo:-2.3247554,51.1256794
END:VEVENT
BEGIN:VEVENT
DTSTART;TZID=Europe/London:20221102T160000
DTEND;TZID=Europe/London:20221102T170000
DTSTAMP:20260423T152859
CREATED:20191020T105600Z
LAST-MODIFIED:20230704T110045Z
UID:10000562-1667404800-1667408400@upperstour.co.uk
SUMMARY:Afternoon Prayers | St.Martin's church\, Zeals
DESCRIPTION:
URL:https://upperstour.co.uk/event/parish-prayers-st-martins-church-zeals-6-2020-10-28-2020-11-11-2020-12-09/2022-11-02/
LOCATION:St.Martin’s Church\, Zeals\, Portnells Lane\, Zeals\, Wiltshire\, BA12 6PG\, United Kingdom
CATEGORIES:Regular Church Service
GEO:51.0849031;-2.3153286
X-APPLE-STRUCTURED-LOCATION;VALUE=URI;X-ADDRESS=St.Martin’s Church Zeals Portnells Lane Zeals Wiltshire BA12 6PG United Kingdom;X-APPLE-RADIUS=500;X-TITLE=Portnells Lane:geo:-2.3153286,51.0849031
END:VEVENT
BEGIN:VEVENT
DTSTART;TZID=Europe/London:20221102T160000
DTEND;TZID=Europe/London:20221102T170000
DTSTAMP:20260423T152859
CREATED:20191020T105600Z
LAST-MODIFIED:20230704T113559Z
UID:10000699-1667404800-1667408400@upperstour.co.uk
SUMMARY:Midweek Communion | St.Martin's church\, Zeals
DESCRIPTION:
URL:https://upperstour.co.uk/event/parish-prayers-st-martins-church-zeals-6-2020-10-28-2020-11-11-2020-12-09-2021-07-28/2022-11-02/
LOCATION:St.Martin’s Church\, Zeals\, Portnells Lane\, Zeals\, Wiltshire\, BA12 6PG\, United Kingdom
CATEGORIES:Regular Church Service
GEO:51.0849031;-2.3153286
X-APPLE-STRUCTURED-LOCATION;VALUE=URI;X-ADDRESS=St.Martin’s Church Zeals Portnells Lane Zeals Wiltshire BA12 6PG United Kingdom;X-APPLE-RADIUS=500;X-TITLE=Portnells Lane:geo:-2.3153286,51.0849031
END:VEVENT
BEGIN:VEVENT
DTSTART;TZID=Europe/London:20221031T090000
DTEND;TZID=Europe/London:20221031T100000
DTSTAMP:20260423T152859
CREATED:20190831T110029Z
LAST-MODIFIED:20201102T100603Z
UID:10000157-1667206800-1667210400@upperstour.co.uk
SUMMARY:Morning Prayers | St.George's church\, Bourton
DESCRIPTION:
URL:https://upperstour.co.uk/event/morning-prayers-st-georges-church-bourton-2020-11-09-2020-12-07/2022-10-31/
LOCATION:St.George’s Church\, Bourton\, Church Track\, Bourton\, Dorset\, SP8 5BW\, United Kingdom
GEO:51.0709798;-2.3318825
X-APPLE-STRUCTURED-LOCATION;VALUE=URI;X-ADDRESS=St.George’s Church Bourton Church Track Bourton Dorset SP8 5BW United Kingdom;X-APPLE-RADIUS=500;X-TITLE=Church Track:geo:-2.3318825,51.0709798
END:VEVENT
BEGIN:VEVENT
DTSTART;TZID=Europe/London:20221030T100000
DTEND;TZID=Europe/London:20221030T170000
DTSTAMP:20260423T152859
CREATED:20220515T144703Z
LAST-MODIFIED:20220516T145232Z
UID:10000947-1667124000-1667149200@upperstour.co.uk
SUMMARY:10am Service @ Kilmington church
DESCRIPTION:
URL:https://upperstour.co.uk/event/10am-service/
LOCATION:St.Mary’s Church\, Kilmington\, Church Rd\, Kilmington\, Wiltshire\, BA12 6TD\, United Kingdom
ORGANIZER;CN="Celia Cotton":MAILTO:celiacotton1@outlook.com
GEO:51.1256794;-2.3247554
X-APPLE-STRUCTURED-LOCATION;VALUE=URI;X-ADDRESS=St.Mary’s Church Kilmington Church Rd Kilmington Wiltshire BA12 6TD United Kingdom;X-APPLE-RADIUS=500;X-TITLE=Church Rd:geo:-2.3247554,51.1256794
END:VEVENT
BEGIN:VEVENT
DTSTART;TZID=Europe/London:20221027T090000
DTEND;TZID=Europe/London:20221027T100000
DTSTAMP:20260423T152859
CREATED:20190915T105842Z
LAST-MODIFIED:20230704T113119Z
UID:10000391-1666861200-1666864800@upperstour.co.uk
SUMMARY:Morning Prayer | St.Mary's church\, Kilmington
DESCRIPTION:
URL:https://upperstour.co.uk/event/morning-prayer-st-marys-church-kilmington-10/2022-10-27/
LOCATION:St.Mary’s Church\, Kilmington\, Church Rd\, Kilmington\, Wiltshire\, BA12 6TD\, United Kingdom
CATEGORIES:Regular Church Service
GEO:51.1256794;-2.3247554
X-APPLE-STRUCTURED-LOCATION;VALUE=URI;X-ADDRESS=St.Mary’s Church Kilmington Church Rd Kilmington Wiltshire BA12 6TD United Kingdom;X-APPLE-RADIUS=500;X-TITLE=Church Rd:geo:-2.3247554,51.1256794
END:VEVENT
BEGIN:VEVENT
DTSTART;TZID=Europe/London:20221026T160000
DTEND;TZID=Europe/London:20221026T170000
DTSTAMP:20260423T152859
CREATED:20191020T105600Z
LAST-MODIFIED:20230704T110045Z
UID:10000561-1666800000-1666803600@upperstour.co.uk
SUMMARY:Afternoon Prayers | St.Martin's church\, Zeals
DESCRIPTION:
URL:https://upperstour.co.uk/event/parish-prayers-st-martins-church-zeals-6-2020-10-28-2020-11-11-2020-12-09/2022-10-26/
LOCATION:St.Martin’s Church\, Zeals\, Portnells Lane\, Zeals\, Wiltshire\, BA12 6PG\, United Kingdom
CATEGORIES:Regular Church Service
GEO:51.0849031;-2.3153286
X-APPLE-STRUCTURED-LOCATION;VALUE=URI;X-ADDRESS=St.Martin’s Church Zeals Portnells Lane Zeals Wiltshire BA12 6PG United Kingdom;X-APPLE-RADIUS=500;X-TITLE=Portnells Lane:geo:-2.3153286,51.0849031
END:VEVENT
BEGIN:VEVENT
DTSTART;TZID=Europe/London:20221026T160000
DTEND;TZID=Europe/London:20221026T170000
DTSTAMP:20260423T152859
CREATED:20191020T105600Z
LAST-MODIFIED:20230704T113559Z
UID:10000698-1666800000-1666803600@upperstour.co.uk
SUMMARY:Midweek Communion | St.Martin's church\, Zeals
DESCRIPTION:
URL:https://upperstour.co.uk/event/parish-prayers-st-martins-church-zeals-6-2020-10-28-2020-11-11-2020-12-09-2021-07-28/2022-10-26/
LOCATION:St.Martin’s Church\, Zeals\, Portnells Lane\, Zeals\, Wiltshire\, BA12 6PG\, United Kingdom
CATEGORIES:Regular Church Service
GEO:51.0849031;-2.3153286
X-APPLE-STRUCTURED-LOCATION;VALUE=URI;X-ADDRESS=St.Martin’s Church Zeals Portnells Lane Zeals Wiltshire BA12 6PG United Kingdom;X-APPLE-RADIUS=500;X-TITLE=Portnells Lane:geo:-2.3153286,51.0849031
END:VEVENT
BEGIN:VEVENT
DTSTART;TZID=Europe/London:20221024T090000
DTEND;TZID=Europe/London:20221024T100000
DTSTAMP:20260423T152859
CREATED:20190831T110029Z
LAST-MODIFIED:20201102T100603Z
UID:10000156-1666602000-1666605600@upperstour.co.uk
SUMMARY:Morning Prayers | St.George's church\, Bourton
DESCRIPTION:
URL:https://upperstour.co.uk/event/morning-prayers-st-georges-church-bourton-2020-11-09-2020-12-07/2022-10-24/
LOCATION:St.George’s Church\, Bourton\, Church Track\, Bourton\, Dorset\, SP8 5BW\, United Kingdom
GEO:51.0709798;-2.3318825
X-APPLE-STRUCTURED-LOCATION;VALUE=URI;X-ADDRESS=St.George’s Church Bourton Church Track Bourton Dorset SP8 5BW United Kingdom;X-APPLE-RADIUS=500;X-TITLE=Church Track:geo:-2.3318825,51.0709798
END:VEVENT
BEGIN:VEVENT
DTSTART;TZID=Europe/London:20221023T100000
DTEND;TZID=Europe/London:20221023T110000
DTSTAMP:20260423T152859
CREATED:20200309T103923Z
LAST-MODIFIED:20220515T144926Z
UID:10000035-1666519200-1666522800@upperstour.co.uk
SUMMARY:10am Zeals Parish Communion
DESCRIPTION:
URL:https://upperstour.co.uk/event/parish-communion-stourton-2-2022-10-23/
LOCATION:St.Martin’s Church\, Zeals\, Portnells Lane\, Zeals\, Wiltshire\, BA12 6PG\, United Kingdom
GEO:51.0849031;-2.3153286
X-APPLE-STRUCTURED-LOCATION;VALUE=URI;X-ADDRESS=St.Martin’s Church Zeals Portnells Lane Zeals Wiltshire BA12 6PG United Kingdom;X-APPLE-RADIUS=500;X-TITLE=Portnells Lane:geo:-2.3153286,51.0849031
END:VEVENT
BEGIN:VEVENT
DTSTART;TZID=Europe/London:20221021T100000
DTEND;TZID=Europe/London:20221023T170000
DTSTAMP:20260423T152859
CREATED:20220607T103048Z
LAST-MODIFIED:20220607T103048Z
UID:10000955-1666346400-1666544400@upperstour.co.uk
SUMMARY:Catering weekend\, fundraising at Stourhead
DESCRIPTION:
URL:https://upperstour.co.uk/event/catering-weekend-fundraising-at-stourhead/
LOCATION:Stourton Memorial Hall\, High Street\, Stourton\, Wilts\, BA12 6QE\, United Kingdom
ORGANIZER;CN="Celia Cotton":MAILTO:celiacotton1@outlook.com
GEO:51.1041924;-2.3220114
X-APPLE-STRUCTURED-LOCATION;VALUE=URI;X-ADDRESS=Stourton Memorial Hall High Street Stourton Wilts BA12 6QE United Kingdom;X-APPLE-RADIUS=500;X-TITLE=High Street:geo:-2.3220114,51.1041924
END:VEVENT
BEGIN:VEVENT
DTSTART;TZID=Europe/London:20221020T090000
DTEND;TZID=Europe/London:20221020T100000
DTSTAMP:20260423T152859
CREATED:20190915T105842Z
LAST-MODIFIED:20230704T113119Z
UID:10000390-1666256400-1666260000@upperstour.co.uk
SUMMARY:Morning Prayer | St.Mary's church\, Kilmington
DESCRIPTION:
URL:https://upperstour.co.uk/event/morning-prayer-st-marys-church-kilmington-10/2022-10-20/
LOCATION:St.Mary’s Church\, Kilmington\, Church Rd\, Kilmington\, Wiltshire\, BA12 6TD\, United Kingdom
CATEGORIES:Regular Church Service
GEO:51.1256794;-2.3247554
X-APPLE-STRUCTURED-LOCATION;VALUE=URI;X-ADDRESS=St.Mary’s Church Kilmington Church Rd Kilmington Wiltshire BA12 6TD United Kingdom;X-APPLE-RADIUS=500;X-TITLE=Church Rd:geo:-2.3247554,51.1256794
END:VEVENT
BEGIN:VEVENT
DTSTART;TZID=Europe/London:20221019T160000
DTEND;TZID=Europe/London:20221019T170000
DTSTAMP:20260423T152859
CREATED:20191020T105600Z
LAST-MODIFIED:20230704T113559Z
UID:10000697-1666195200-1666198800@upperstour.co.uk
SUMMARY:Midweek Communion | St.Martin's church\, Zeals
DESCRIPTION:
URL:https://upperstour.co.uk/event/parish-prayers-st-martins-church-zeals-6-2020-10-28-2020-11-11-2020-12-09-2021-07-28/2022-10-19/
LOCATION:St.Martin’s Church\, Zeals\, Portnells Lane\, Zeals\, Wiltshire\, BA12 6PG\, United Kingdom
CATEGORIES:Regular Church Service
GEO:51.0849031;-2.3153286
X-APPLE-STRUCTURED-LOCATION;VALUE=URI;X-ADDRESS=St.Martin’s Church Zeals Portnells Lane Zeals Wiltshire BA12 6PG United Kingdom;X-APPLE-RADIUS=500;X-TITLE=Portnells Lane:geo:-2.3153286,51.0849031
END:VEVENT
BEGIN:VEVENT
DTSTART;TZID=Europe/London:20221019T160000
DTEND;TZID=Europe/London:20221019T170000
DTSTAMP:20260423T152859
CREATED:20191020T105600Z
LAST-MODIFIED:20230704T110045Z
UID:10000560-1666195200-1666198800@upperstour.co.uk
SUMMARY:Afternoon Prayers | St.Martin's church\, Zeals
DESCRIPTION:
URL:https://upperstour.co.uk/event/parish-prayers-st-martins-church-zeals-6-2020-10-28-2020-11-11-2020-12-09/2022-10-19/
LOCATION:St.Martin’s Church\, Zeals\, Portnells Lane\, Zeals\, Wiltshire\, BA12 6PG\, United Kingdom
CATEGORIES:Regular Church Service
GEO:51.0849031;-2.3153286
X-APPLE-STRUCTURED-LOCATION;VALUE=URI;X-ADDRESS=St.Martin’s Church Zeals Portnells Lane Zeals Wiltshire BA12 6PG United Kingdom;X-APPLE-RADIUS=500;X-TITLE=Portnells Lane:geo:-2.3153286,51.0849031
END:VEVENT
BEGIN:VEVENT
DTSTART;TZID=Europe/London:20221017T090000
DTEND;TZID=Europe/London:20221017T100000
DTSTAMP:20260423T152859
CREATED:20190831T110029Z
LAST-MODIFIED:20201102T100603Z
UID:10000155-1665997200-1666000800@upperstour.co.uk
SUMMARY:Morning Prayers | St.George's church\, Bourton
DESCRIPTION:
URL:https://upperstour.co.uk/event/morning-prayers-st-georges-church-bourton-2020-11-09-2020-12-07/2022-10-17/
LOCATION:St.George’s Church\, Bourton\, Church Track\, Bourton\, Dorset\, SP8 5BW\, United Kingdom
GEO:51.0709798;-2.3318825
X-APPLE-STRUCTURED-LOCATION;VALUE=URI;X-ADDRESS=St.George’s Church Bourton Church Track Bourton Dorset SP8 5BW United Kingdom;X-APPLE-RADIUS=500;X-TITLE=Church Track:geo:-2.3318825,51.0709798
END:VEVENT
BEGIN:VEVENT
DTSTART;TZID=Europe/London:20221016T100000
DTEND;TZID=Europe/London:20221016T110000
DTSTAMP:20260423T152859
CREATED:20200309T103745Z
LAST-MODIFIED:20220515T145041Z
UID:10000897-1665914400-1665918000@upperstour.co.uk
SUMMARY:10am Stourton Parish Communion
DESCRIPTION:
URL:https://upperstour.co.uk/event/parish-communion-zeals-3-2020-11-15-2020-12-20-2022-10-16/
LOCATION:St.Peter’s Church\, Stourton\, Church Lawn\, Stourton\, Wiltshire\, BA126QE\, United Kingdom
GEO:51.1052227;-2.319975
X-APPLE-STRUCTURED-LOCATION;VALUE=URI;X-ADDRESS=St.Peter’s Church Stourton Church Lawn Stourton Wiltshire BA126QE United Kingdom;X-APPLE-RADIUS=500;X-TITLE=Church Lawn:geo:-2.319975,51.1052227
END:VEVENT
BEGIN:VEVENT
DTSTART;TZID=Europe/London:20221013T090000
DTEND;TZID=Europe/London:20221013T100000
DTSTAMP:20260423T152859
CREATED:20190915T105842Z
LAST-MODIFIED:20230704T113119Z
UID:10000389-1665651600-1665655200@upperstour.co.uk
SUMMARY:Morning Prayer | St.Mary's church\, Kilmington
DESCRIPTION:
URL:https://upperstour.co.uk/event/morning-prayer-st-marys-church-kilmington-10/2022-10-13/
LOCATION:St.Mary’s Church\, Kilmington\, Church Rd\, Kilmington\, Wiltshire\, BA12 6TD\, United Kingdom
CATEGORIES:Regular Church Service
GEO:51.1256794;-2.3247554
X-APPLE-STRUCTURED-LOCATION;VALUE=URI;X-ADDRESS=St.Mary’s Church Kilmington Church Rd Kilmington Wiltshire BA12 6TD United Kingdom;X-APPLE-RADIUS=500;X-TITLE=Church Rd:geo:-2.3247554,51.1256794
END:VEVENT
BEGIN:VEVENT
DTSTART;TZID=Europe/London:20221012T160000
DTEND;TZID=Europe/London:20221012T170000
DTSTAMP:20260423T152859
CREATED:20191020T105600Z
LAST-MODIFIED:20230704T113559Z
UID:10000696-1665590400-1665594000@upperstour.co.uk
SUMMARY:Midweek Communion | St.Martin's church\, Zeals
DESCRIPTION:
URL:https://upperstour.co.uk/event/parish-prayers-st-martins-church-zeals-6-2020-10-28-2020-11-11-2020-12-09-2021-07-28/2022-10-12/
LOCATION:St.Martin’s Church\, Zeals\, Portnells Lane\, Zeals\, Wiltshire\, BA12 6PG\, United Kingdom
CATEGORIES:Regular Church Service
GEO:51.0849031;-2.3153286
X-APPLE-STRUCTURED-LOCATION;VALUE=URI;X-ADDRESS=St.Martin’s Church Zeals Portnells Lane Zeals Wiltshire BA12 6PG United Kingdom;X-APPLE-RADIUS=500;X-TITLE=Portnells Lane:geo:-2.3153286,51.0849031
END:VEVENT
BEGIN:VEVENT
DTSTART;TZID=Europe/London:20221012T160000
DTEND;TZID=Europe/London:20221012T170000
DTSTAMP:20260423T152859
CREATED:20191020T105600Z
LAST-MODIFIED:20230704T110045Z
UID:10000559-1665590400-1665594000@upperstour.co.uk
SUMMARY:Afternoon Prayers | St.Martin's church\, Zeals
DESCRIPTION:
URL:https://upperstour.co.uk/event/parish-prayers-st-martins-church-zeals-6-2020-10-28-2020-11-11-2020-12-09/2022-10-12/
LOCATION:St.Martin’s Church\, Zeals\, Portnells Lane\, Zeals\, Wiltshire\, BA12 6PG\, United Kingdom
CATEGORIES:Regular Church Service
GEO:51.0849031;-2.3153286
X-APPLE-STRUCTURED-LOCATION;VALUE=URI;X-ADDRESS=St.Martin’s Church Zeals Portnells Lane Zeals Wiltshire BA12 6PG United Kingdom;X-APPLE-RADIUS=500;X-TITLE=Portnells Lane:geo:-2.3153286,51.0849031
END:VEVENT
BEGIN:VEVENT
DTSTART;TZID=Europe/London:20221010T093000
DTEND;TZID=Europe/London:20221010T110000
DTSTAMP:20260423T152859
CREATED:20220219T162111Z
LAST-MODIFIED:20220219T162111Z
UID:10000056-1665394200-1665399600@upperstour.co.uk
SUMMARY:Ministers meeting in St.Martins church\, Zeals
DESCRIPTION:
URL:https://upperstour.co.uk/event/ministers-meeting-in-st-martins-church-zeals-9/
LOCATION:St.Martin’s Church\, Zeals\, Portnells Lane\, Zeals\, Wiltshire\, BA12 6PG\, United Kingdom
ORGANIZER;CN="Rev. Mike MacCormack":MAILTO:revmac@upperstour.co.uk
GEO:51.0849031;-2.3153286
X-APPLE-STRUCTURED-LOCATION;VALUE=URI;X-ADDRESS=St.Martin’s Church Zeals Portnells Lane Zeals Wiltshire BA12 6PG United Kingdom;X-APPLE-RADIUS=500;X-TITLE=Portnells Lane:geo:-2.3153286,51.0849031
END:VEVENT
BEGIN:VEVENT
DTSTART;TZID=Europe/London:20221010T090000
DTEND;TZID=Europe/London:20221010T100000
DTSTAMP:20260423T152859
CREATED:20190831T110029Z
LAST-MODIFIED:20201102T100603Z
UID:10000154-1665392400-1665396000@upperstour.co.uk
SUMMARY:Morning Prayers | St.George's church\, Bourton
DESCRIPTION:
URL:https://upperstour.co.uk/event/morning-prayers-st-georges-church-bourton-2020-11-09-2020-12-07/2022-10-10/
LOCATION:St.George’s Church\, Bourton\, Church Track\, Bourton\, Dorset\, SP8 5BW\, United Kingdom
GEO:51.0709798;-2.3318825
X-APPLE-STRUCTURED-LOCATION;VALUE=URI;X-ADDRESS=St.George’s Church Bourton Church Track Bourton Dorset SP8 5BW United Kingdom;X-APPLE-RADIUS=500;X-TITLE=Church Track:geo:-2.3318825,51.0709798
END:VEVENT
BEGIN:VEVENT
DTSTART;TZID=Europe/London:20221009T100000
DTEND;TZID=Europe/London:20221009T110000
DTSTAMP:20260423T152859
CREATED:20200309T102858Z
LAST-MODIFIED:20220515T145148Z
UID:10000857-1665309600-1665313200@upperstour.co.uk
SUMMARY:10am Kilmington Parish Communion
DESCRIPTION:
URL:https://upperstour.co.uk/event/parish-communion-kilmington-3-2022-10-09/
LOCATION:St.Mary’s Church\, Kilmington\, Church Rd\, Kilmington\, Wiltshire\, BA12 6TD\, United Kingdom
GEO:51.1256794;-2.3247554
X-APPLE-STRUCTURED-LOCATION;VALUE=URI;X-ADDRESS=St.Mary’s Church Kilmington Church Rd Kilmington Wiltshire BA12 6TD United Kingdom;X-APPLE-RADIUS=500;X-TITLE=Church Rd:geo:-2.3247554,51.1256794
END:VEVENT
BEGIN:VEVENT
DTSTART;TZID=Europe/London:20221006T090000
DTEND;TZID=Europe/London:20221006T100000
DTSTAMP:20260423T152859
CREATED:20190915T105842Z
LAST-MODIFIED:20230704T113119Z
UID:10000388-1665046800-1665050400@upperstour.co.uk
SUMMARY:Morning Prayer | St.Mary's church\, Kilmington
DESCRIPTION:
URL:https://upperstour.co.uk/event/morning-prayer-st-marys-church-kilmington-10/2022-10-06/
LOCATION:St.Mary’s Church\, Kilmington\, Church Rd\, Kilmington\, Wiltshire\, BA12 6TD\, United Kingdom
CATEGORIES:Regular Church Service
GEO:51.1256794;-2.3247554
X-APPLE-STRUCTURED-LOCATION;VALUE=URI;X-ADDRESS=St.Mary’s Church Kilmington Church Rd Kilmington Wiltshire BA12 6TD United Kingdom;X-APPLE-RADIUS=500;X-TITLE=Church Rd:geo:-2.3247554,51.1256794
END:VEVENT
BEGIN:VEVENT
DTSTART;TZID=Europe/London:20221005T160000
DTEND;TZID=Europe/London:20221005T170000
DTSTAMP:20260423T152859
CREATED:20191020T105600Z
LAST-MODIFIED:20230704T110045Z
UID:10000558-1664985600-1664989200@upperstour.co.uk
SUMMARY:Afternoon Prayers | St.Martin's church\, Zeals
DESCRIPTION:
URL:https://upperstour.co.uk/event/parish-prayers-st-martins-church-zeals-6-2020-10-28-2020-11-11-2020-12-09/2022-10-05/
LOCATION:St.Martin’s Church\, Zeals\, Portnells Lane\, Zeals\, Wiltshire\, BA12 6PG\, United Kingdom
CATEGORIES:Regular Church Service
GEO:51.0849031;-2.3153286
X-APPLE-STRUCTURED-LOCATION;VALUE=URI;X-ADDRESS=St.Martin’s Church Zeals Portnells Lane Zeals Wiltshire BA12 6PG United Kingdom;X-APPLE-RADIUS=500;X-TITLE=Portnells Lane:geo:-2.3153286,51.0849031
END:VEVENT
END:VCALENDAR