BEGIN:VCALENDAR
VERSION:2.0
PRODID:-//Parish of Upper Stour - ECPv6.15.20//NONSGML v1.0//EN
CALSCALE:GREGORIAN
METHOD:PUBLISH
X-WR-CALNAME:Parish of Upper Stour
X-ORIGINAL-URL:https://upperstour.co.uk
X-WR-CALDESC:Events for Parish of Upper Stour
REFRESH-INTERVAL;VALUE=DURATION:PT1H
X-Robots-Tag:noindex
X-PUBLISHED-TTL:PT1H
BEGIN:VTIMEZONE
TZID:Europe/London
BEGIN:DAYLIGHT
TZOFFSETFROM:+0000
TZOFFSETTO:+0100
TZNAME:BST
DTSTART:20240331T010000
END:DAYLIGHT
BEGIN:STANDARD
TZOFFSETFROM:+0100
TZOFFSETTO:+0000
TZNAME:GMT
DTSTART:20241027T010000
END:STANDARD
BEGIN:DAYLIGHT
TZOFFSETFROM:+0000
TZOFFSETTO:+0100
TZNAME:BST
DTSTART:20250330T010000
END:DAYLIGHT
BEGIN:STANDARD
TZOFFSETFROM:+0100
TZOFFSETTO:+0000
TZNAME:GMT
DTSTART:20251026T010000
END:STANDARD
BEGIN:DAYLIGHT
TZOFFSETFROM:+0000
TZOFFSETTO:+0100
TZNAME:BST
DTSTART:20260329T010000
END:DAYLIGHT
BEGIN:STANDARD
TZOFFSETFROM:+0100
TZOFFSETTO:+0000
TZNAME:GMT
DTSTART:20261025T010000
END:STANDARD
END:VTIMEZONE
BEGIN:VEVENT
DTSTART;TZID=Europe/London:20251005T110000
DTEND;TZID=Europe/London:20251005T120000
DTSTAMP:20260423T115135
CREATED:20250729T145132Z
LAST-MODIFIED:20251004T074844Z
UID:10002917-1759662000-1759665600@upperstour.co.uk
SUMMARY:Harvest Festival and lunch  (commencing 11am)
DESCRIPTION:
URL:https://upperstour.co.uk/event/harvest-festival-and-lunch/
LOCATION:Home Farm\, Stourton\, Stourton Lane\, Stourton\, Wiltshire\, BA12 6QS\, United Kingdom
CATEGORIES:Community,Regular Church Service
ORGANIZER;CN="Mrs Jane Parker":MAILTO:jane.homefarm@gmail.com
GEO:51.1149132;-2.3221139
X-APPLE-STRUCTURED-LOCATION;VALUE=URI;X-ADDRESS=Home Farm Stourton Stourton Lane Stourton Wiltshire BA12 6QS United Kingdom;X-APPLE-RADIUS=500;X-TITLE=Stourton Lane:geo:-2.3221139,51.1149132
END:VEVENT
BEGIN:VEVENT
DTSTART;TZID=Europe/London:20251005T100000
DTEND;TZID=Europe/London:20251005T110000
DTSTAMP:20260423T115135
CREATED:20241206T143015Z
LAST-MODIFIED:20260218T153344Z
UID:10002565-1759658400-1759662000@upperstour.co.uk
SUMMARY:Bourton Parish Communion
DESCRIPTION:
URL:https://upperstour.co.uk/event/bourton-parish-communion-12/2025-10-05/
LOCATION:St.George’s Church\, Bourton\, Church Track\, Bourton\, Dorset\, SP8 5BW\, United Kingdom
CATEGORIES:Regular Church Service
GEO:51.0709798;-2.3318825
X-APPLE-STRUCTURED-LOCATION;VALUE=URI;X-ADDRESS=St.George’s Church Bourton Church Track Bourton Dorset SP8 5BW United Kingdom;X-APPLE-RADIUS=500;X-TITLE=Church Track:geo:-2.3318825,51.0709798
END:VEVENT
BEGIN:VEVENT
DTSTART;TZID=Europe/London:20251004T140000
DTEND;TZID=Europe/London:20251004T150000
DTSTAMP:20260423T115135
CREATED:20250818T100917Z
LAST-MODIFIED:20250818T100917Z
UID:10002922-1759586400-1759590000@upperstour.co.uk
SUMMARY:Baptism - Bourton
DESCRIPTION:
URL:https://upperstour.co.uk/event/baptism-bourton-8/
LOCATION:St.George’s Church\, Bourton\, Church Track\, Bourton\, Dorset\, SP8 5BW\, United Kingdom
CATEGORIES:Life Events
ORGANIZER;CN="Parish Administrator":MAILTO:parishoffice@upperstour.co.uk
GEO:51.0709798;-2.3318825
X-APPLE-STRUCTURED-LOCATION;VALUE=URI;X-ADDRESS=St.George’s Church Bourton Church Track Bourton Dorset SP8 5BW United Kingdom;X-APPLE-RADIUS=500;X-TITLE=Church Track:geo:-2.3318825,51.0709798
END:VEVENT
BEGIN:VEVENT
DTSTART;TZID=Europe/London:20251002T090000
DTEND;TZID=Europe/London:20251002T100000
DTSTAMP:20260423T115135
CREATED:20190915T105842Z
LAST-MODIFIED:20230704T113119Z
UID:10001528-1759395600-1759399200@upperstour.co.uk
SUMMARY:Morning Prayer | St.Mary's church\, Kilmington
DESCRIPTION:
URL:https://upperstour.co.uk/event/morning-prayer-st-marys-church-kilmington-10/2025-10-02/
LOCATION:St.Mary’s Church\, Kilmington\, Church Rd\, Kilmington\, Wiltshire\, BA12 6TD\, United Kingdom
CATEGORIES:Regular Church Service
GEO:51.1256794;-2.3247554
X-APPLE-STRUCTURED-LOCATION;VALUE=URI;X-ADDRESS=St.Mary’s Church Kilmington Church Rd Kilmington Wiltshire BA12 6TD United Kingdom;X-APPLE-RADIUS=500;X-TITLE=Church Rd:geo:-2.3247554,51.1256794
END:VEVENT
BEGIN:VEVENT
DTSTART;TZID=Europe/London:20251001T160000
DTEND;TZID=Europe/London:20251001T170000
DTSTAMP:20260423T115135
CREATED:20191020T105600Z
LAST-MODIFIED:20230704T113559Z
UID:10001753-1759334400-1759338000@upperstour.co.uk
SUMMARY:Midweek Communion | St.Martin's church\, Zeals
DESCRIPTION:
URL:https://upperstour.co.uk/event/parish-prayers-st-martins-church-zeals-6-2020-10-28-2020-11-11-2020-12-09-2021-07-28/2025-10-01/
LOCATION:St.Martin’s Church\, Zeals\, Portnells Lane\, Zeals\, Wiltshire\, BA12 6PG\, United Kingdom
CATEGORIES:Regular Church Service
GEO:51.0849031;-2.3153286
X-APPLE-STRUCTURED-LOCATION;VALUE=URI;X-ADDRESS=St.Martin’s Church Zeals Portnells Lane Zeals Wiltshire BA12 6PG United Kingdom;X-APPLE-RADIUS=500;X-TITLE=Portnells Lane:geo:-2.3153286,51.0849031
END:VEVENT
BEGIN:VEVENT
DTSTART;TZID=Europe/London:20250929T090000
DTEND;TZID=Europe/London:20250929T100000
DTSTAMP:20260423T115135
CREATED:20230704T113930Z
LAST-MODIFIED:20230704T114113Z
UID:10001978-1759136400-1759140000@upperstour.co.uk
SUMMARY:Morning Prayers | St.George's church\, Bourton
DESCRIPTION:
URL:https://upperstour.co.uk/event/morning-prayers-st-georges-church-bourton-2020-11-09-2020-12-07-2/2025-09-29/
LOCATION:St.George’s Church\, Bourton\, Church Track\, Bourton\, Dorset\, SP8 5BW\, United Kingdom
CATEGORIES:Regular Church Service
GEO:51.0709798;-2.3318825
X-APPLE-STRUCTURED-LOCATION;VALUE=URI;X-ADDRESS=St.George’s Church Bourton Church Track Bourton Dorset SP8 5BW United Kingdom;X-APPLE-RADIUS=500;X-TITLE=Church Track:geo:-2.3318825,51.0709798
END:VEVENT
BEGIN:VEVENT
DTSTART;TZID=Europe/London:20250927T160000
DTEND;TZID=Europe/London:20250927T180000
DTSTAMP:20260423T115135
CREATED:20250729T144947Z
LAST-MODIFIED:20250729T144947Z
UID:10002916-1758988800-1758996000@upperstour.co.uk
SUMMARY:Harvest Workshop
DESCRIPTION:
URL:https://upperstour.co.uk/event/harvest-workshop/
LOCATION:St.Martin’s Church\, Zeals\, Portnells Lane\, Zeals\, Wiltshire\, BA12 6PG\, United Kingdom
CATEGORIES:Community
ORGANIZER;CN="Mrs Val Rowe":MAILTO:valrowe@btinternet.com
GEO:51.0849031;-2.3153286
X-APPLE-STRUCTURED-LOCATION;VALUE=URI;X-ADDRESS=St.Martin’s Church Zeals Portnells Lane Zeals Wiltshire BA12 6PG United Kingdom;X-APPLE-RADIUS=500;X-TITLE=Portnells Lane:geo:-2.3153286,51.0849031
END:VEVENT
BEGIN:VEVENT
DTSTART;TZID=Europe/London:20250926T140000
DTEND;TZID=Europe/London:20250926T150000
DTSTAMP:20260423T115135
CREATED:20250729T144543Z
LAST-MODIFIED:20250729T144543Z
UID:10002915-1758895200-1758898800@upperstour.co.uk
SUMMARY:Harvest Service for Whitesheet School
DESCRIPTION:
URL:https://upperstour.co.uk/event/harvest-service-for-whitesheet-school/
LOCATION:St.Martin’s Church\, Zeals\, Portnells Lane\, Zeals\, Wiltshire\, BA12 6PG\, United Kingdom
CATEGORIES:Community,Schools
GEO:51.0849031;-2.3153286
X-APPLE-STRUCTURED-LOCATION;VALUE=URI;X-ADDRESS=St.Martin’s Church Zeals Portnells Lane Zeals Wiltshire BA12 6PG United Kingdom;X-APPLE-RADIUS=500;X-TITLE=Portnells Lane:geo:-2.3153286,51.0849031
END:VEVENT
BEGIN:VEVENT
DTSTART;TZID=Europe/London:20250925T090000
DTEND;TZID=Europe/London:20250925T100000
DTSTAMP:20260423T115135
CREATED:20190915T105842Z
LAST-MODIFIED:20230704T113119Z
UID:10001527-1758790800-1758794400@upperstour.co.uk
SUMMARY:Morning Prayer | St.Mary's church\, Kilmington
DESCRIPTION:
URL:https://upperstour.co.uk/event/morning-prayer-st-marys-church-kilmington-10/2025-09-25/
LOCATION:St.Mary’s Church\, Kilmington\, Church Rd\, Kilmington\, Wiltshire\, BA12 6TD\, United Kingdom
CATEGORIES:Regular Church Service
GEO:51.1256794;-2.3247554
X-APPLE-STRUCTURED-LOCATION;VALUE=URI;X-ADDRESS=St.Mary’s Church Kilmington Church Rd Kilmington Wiltshire BA12 6TD United Kingdom;X-APPLE-RADIUS=500;X-TITLE=Church Rd:geo:-2.3247554,51.1256794
END:VEVENT
BEGIN:VEVENT
DTSTART;TZID=Europe/London:20250924T160000
DTEND;TZID=Europe/London:20250924T170000
DTSTAMP:20260423T115135
CREATED:20191020T105600Z
LAST-MODIFIED:20230704T113559Z
UID:10001752-1758729600-1758733200@upperstour.co.uk
SUMMARY:Midweek Communion | St.Martin's church\, Zeals
DESCRIPTION:
URL:https://upperstour.co.uk/event/parish-prayers-st-martins-church-zeals-6-2020-10-28-2020-11-11-2020-12-09-2021-07-28/2025-09-24/
LOCATION:St.Martin’s Church\, Zeals\, Portnells Lane\, Zeals\, Wiltshire\, BA12 6PG\, United Kingdom
CATEGORIES:Regular Church Service
GEO:51.0849031;-2.3153286
X-APPLE-STRUCTURED-LOCATION;VALUE=URI;X-ADDRESS=St.Martin’s Church Zeals Portnells Lane Zeals Wiltshire BA12 6PG United Kingdom;X-APPLE-RADIUS=500;X-TITLE=Portnells Lane:geo:-2.3153286,51.0849031
END:VEVENT
BEGIN:VEVENT
DTSTART;TZID=Europe/London:20250922T090000
DTEND;TZID=Europe/London:20250922T100000
DTSTAMP:20260423T115135
CREATED:20230704T113930Z
LAST-MODIFIED:20230704T114113Z
UID:10001977-1758531600-1758535200@upperstour.co.uk
SUMMARY:Morning Prayers | St.George's church\, Bourton
DESCRIPTION:
URL:https://upperstour.co.uk/event/morning-prayers-st-georges-church-bourton-2020-11-09-2020-12-07-2/2025-09-22/
LOCATION:St.George’s Church\, Bourton\, Church Track\, Bourton\, Dorset\, SP8 5BW\, United Kingdom
CATEGORIES:Regular Church Service
GEO:51.0709798;-2.3318825
X-APPLE-STRUCTURED-LOCATION;VALUE=URI;X-ADDRESS=St.George’s Church Bourton Church Track Bourton Dorset SP8 5BW United Kingdom;X-APPLE-RADIUS=500;X-TITLE=Church Track:geo:-2.3318825,51.0709798
END:VEVENT
BEGIN:VEVENT
DTSTART;TZID=Europe/London:20250921T100000
DTEND;TZID=Europe/London:20250921T110000
DTSTAMP:20260423T115135
CREATED:20241206T144157Z
LAST-MODIFIED:20241206T144157Z
UID:10002681-1758448800-1758452400@upperstour.co.uk
SUMMARY:Stourton Parish Communion
DESCRIPTION:
URL:https://upperstour.co.uk/event/stourton-parish-communion-9/2025-09-21/
LOCATION:St.Peter’s Church\, Stourton\, Church Lawn\, Stourton\, Wiltshire\, BA126QE\, United Kingdom
CATEGORIES:Regular Church Service
GEO:51.1052227;-2.319975
X-APPLE-STRUCTURED-LOCATION;VALUE=URI;X-ADDRESS=St.Peter’s Church Stourton Church Lawn Stourton Wiltshire BA126QE United Kingdom;X-APPLE-RADIUS=500;X-TITLE=Church Lawn:geo:-2.319975,51.1052227
END:VEVENT
BEGIN:VEVENT
DTSTART;TZID=Europe/London:20250918T090000
DTEND;TZID=Europe/London:20250918T100000
DTSTAMP:20260423T115135
CREATED:20190915T105842Z
LAST-MODIFIED:20230704T113119Z
UID:10001526-1758186000-1758189600@upperstour.co.uk
SUMMARY:Morning Prayer | St.Mary's church\, Kilmington
DESCRIPTION:
URL:https://upperstour.co.uk/event/morning-prayer-st-marys-church-kilmington-10/2025-09-18/
LOCATION:St.Mary’s Church\, Kilmington\, Church Rd\, Kilmington\, Wiltshire\, BA12 6TD\, United Kingdom
CATEGORIES:Regular Church Service
GEO:51.1256794;-2.3247554
X-APPLE-STRUCTURED-LOCATION;VALUE=URI;X-ADDRESS=St.Mary’s Church Kilmington Church Rd Kilmington Wiltshire BA12 6TD United Kingdom;X-APPLE-RADIUS=500;X-TITLE=Church Rd:geo:-2.3247554,51.1256794
END:VEVENT
BEGIN:VEVENT
DTSTART;TZID=Europe/London:20250917T160000
DTEND;TZID=Europe/London:20250917T170000
DTSTAMP:20260423T115135
CREATED:20191020T105600Z
LAST-MODIFIED:20230704T113559Z
UID:10001751-1758124800-1758128400@upperstour.co.uk
SUMMARY:Midweek Communion | St.Martin's church\, Zeals
DESCRIPTION:
URL:https://upperstour.co.uk/event/parish-prayers-st-martins-church-zeals-6-2020-10-28-2020-11-11-2020-12-09-2021-07-28/2025-09-17/
LOCATION:St.Martin’s Church\, Zeals\, Portnells Lane\, Zeals\, Wiltshire\, BA12 6PG\, United Kingdom
CATEGORIES:Regular Church Service
GEO:51.0849031;-2.3153286
X-APPLE-STRUCTURED-LOCATION;VALUE=URI;X-ADDRESS=St.Martin’s Church Zeals Portnells Lane Zeals Wiltshire BA12 6PG United Kingdom;X-APPLE-RADIUS=500;X-TITLE=Portnells Lane:geo:-2.3153286,51.0849031
END:VEVENT
BEGIN:VEVENT
DTSTART;TZID=Europe/London:20250915T090000
DTEND;TZID=Europe/London:20250915T100000
DTSTAMP:20260423T115135
CREATED:20230704T113930Z
LAST-MODIFIED:20230704T114113Z
UID:10001976-1757926800-1757930400@upperstour.co.uk
SUMMARY:Morning Prayers | St.George's church\, Bourton
DESCRIPTION:
URL:https://upperstour.co.uk/event/morning-prayers-st-georges-church-bourton-2020-11-09-2020-12-07-2/2025-09-15/
LOCATION:St.George’s Church\, Bourton\, Church Track\, Bourton\, Dorset\, SP8 5BW\, United Kingdom
CATEGORIES:Regular Church Service
GEO:51.0709798;-2.3318825
X-APPLE-STRUCTURED-LOCATION;VALUE=URI;X-ADDRESS=St.George’s Church Bourton Church Track Bourton Dorset SP8 5BW United Kingdom;X-APPLE-RADIUS=500;X-TITLE=Church Track:geo:-2.3318825,51.0709798
END:VEVENT
BEGIN:VEVENT
DTSTART;TZID=Europe/London:20250914T100000
DTEND;TZID=Europe/London:20250914T110000
DTSTAMP:20260423T115135
CREATED:20241206T143813Z
LAST-MODIFIED:20241206T143813Z
UID:10002623-1757844000-1757847600@upperstour.co.uk
SUMMARY:Kilmington Parish Communion
DESCRIPTION:
URL:https://upperstour.co.uk/event/kilmington-parish-communion-9/2025-09-14/
CATEGORIES:Regular Church Service
END:VEVENT
BEGIN:VEVENT
DTSTART;TZID=Europe/London:20250911T090000
DTEND;TZID=Europe/London:20250911T100000
DTSTAMP:20260423T115135
CREATED:20190915T105842Z
LAST-MODIFIED:20230704T113119Z
UID:10001525-1757581200-1757584800@upperstour.co.uk
SUMMARY:Morning Prayer | St.Mary's church\, Kilmington
DESCRIPTION:
URL:https://upperstour.co.uk/event/morning-prayer-st-marys-church-kilmington-10/2025-09-11/
LOCATION:St.Mary’s Church\, Kilmington\, Church Rd\, Kilmington\, Wiltshire\, BA12 6TD\, United Kingdom
CATEGORIES:Regular Church Service
GEO:51.1256794;-2.3247554
X-APPLE-STRUCTURED-LOCATION;VALUE=URI;X-ADDRESS=St.Mary’s Church Kilmington Church Rd Kilmington Wiltshire BA12 6TD United Kingdom;X-APPLE-RADIUS=500;X-TITLE=Church Rd:geo:-2.3247554,51.1256794
END:VEVENT
BEGIN:VEVENT
DTSTART;TZID=Europe/London:20250910T160000
DTEND;TZID=Europe/London:20250910T170000
DTSTAMP:20260423T115135
CREATED:20191020T105600Z
LAST-MODIFIED:20230704T113559Z
UID:10001750-1757520000-1757523600@upperstour.co.uk
SUMMARY:Midweek Communion | St.Martin's church\, Zeals
DESCRIPTION:
URL:https://upperstour.co.uk/event/parish-prayers-st-martins-church-zeals-6-2020-10-28-2020-11-11-2020-12-09-2021-07-28/2025-09-10/
LOCATION:St.Martin’s Church\, Zeals\, Portnells Lane\, Zeals\, Wiltshire\, BA12 6PG\, United Kingdom
CATEGORIES:Regular Church Service
GEO:51.0849031;-2.3153286
X-APPLE-STRUCTURED-LOCATION;VALUE=URI;X-ADDRESS=St.Martin’s Church Zeals Portnells Lane Zeals Wiltshire BA12 6PG United Kingdom;X-APPLE-RADIUS=500;X-TITLE=Portnells Lane:geo:-2.3153286,51.0849031
END:VEVENT
BEGIN:VEVENT
DTSTART;TZID=Europe/London:20250908T090000
DTEND;TZID=Europe/London:20250908T100000
DTSTAMP:20260423T115135
CREATED:20230704T113930Z
LAST-MODIFIED:20230704T114113Z
UID:10001975-1757322000-1757325600@upperstour.co.uk
SUMMARY:Morning Prayers | St.George's church\, Bourton
DESCRIPTION:
URL:https://upperstour.co.uk/event/morning-prayers-st-georges-church-bourton-2020-11-09-2020-12-07-2/2025-09-08/
LOCATION:St.George’s Church\, Bourton\, Church Track\, Bourton\, Dorset\, SP8 5BW\, United Kingdom
CATEGORIES:Regular Church Service
GEO:51.0709798;-2.3318825
X-APPLE-STRUCTURED-LOCATION;VALUE=URI;X-ADDRESS=St.George’s Church Bourton Church Track Bourton Dorset SP8 5BW United Kingdom;X-APPLE-RADIUS=500;X-TITLE=Church Track:geo:-2.3318825,51.0709798
END:VEVENT
BEGIN:VEVENT
DTSTART;TZID=Europe/London:20250907T100000
DTEND;TZID=Europe/London:20250907T110000
DTSTAMP:20260423T115135
CREATED:20241206T143015Z
LAST-MODIFIED:20260218T153344Z
UID:10002564-1757239200-1757242800@upperstour.co.uk
SUMMARY:Bourton Parish Communion
DESCRIPTION:
URL:https://upperstour.co.uk/event/bourton-parish-communion-12/2025-09-07/
LOCATION:St.George’s Church\, Bourton\, Church Track\, Bourton\, Dorset\, SP8 5BW\, United Kingdom
CATEGORIES:Regular Church Service
GEO:51.0709798;-2.3318825
X-APPLE-STRUCTURED-LOCATION;VALUE=URI;X-ADDRESS=St.George’s Church Bourton Church Track Bourton Dorset SP8 5BW United Kingdom;X-APPLE-RADIUS=500;X-TITLE=Church Track:geo:-2.3318825,51.0709798
END:VEVENT
BEGIN:VEVENT
DTSTART;TZID=Europe/London:20250906T183000
DTEND;TZID=Europe/London:20250906T220000
DTSTAMP:20260423T115135
CREATED:20250818T110105Z
LAST-MODIFIED:20250818T110105Z
UID:10002923-1757183400-1757196000@upperstour.co.uk
SUMMARY:Stourton Autumn Concert - Saturday Sept 6th @ 7pm
DESCRIPTION:AUTUMN CONCERT IN STOURTON \nSaturday 6th September in St Peter’s \nDoor 6.30 pm Start 7.00 pm \nTickets £10.00 Jane Joyce 01747 840149 \nj-joyce@dircon.co.uk \nRefreshments will be available \nProceeds to St. Peter’s for upkeep
URL:https://upperstour.co.uk/event/stourton-autumn-concert-saturday-sept-6th-7pm/
END:VEVENT
BEGIN:VEVENT
DTSTART;TZID=Europe/London:20250906T180000
DTEND;TZID=Europe/London:20250906T200000
DTSTAMP:20260423T115135
CREATED:20250817T153434Z
LAST-MODIFIED:20250817T153434Z
UID:10002921-1757181600-1757188800@upperstour.co.uk
SUMMARY:Rokit event
DESCRIPTION:
URL:https://upperstour.co.uk/event/rokit-event/
LOCATION:St.Peter’s Church\, Stourton\, Church Lawn\, Stourton\, Wiltshire\, BA126QE\, United Kingdom
ORGANIZER;CN="Mrs Jane Joyce":MAILTO:j-joyce@dircon.co.uk
GEO:51.1052227;-2.319975
X-APPLE-STRUCTURED-LOCATION;VALUE=URI;X-ADDRESS=St.Peter’s Church Stourton Church Lawn Stourton Wiltshire BA126QE United Kingdom;X-APPLE-RADIUS=500;X-TITLE=Church Lawn:geo:-2.319975,51.1052227
END:VEVENT
BEGIN:VEVENT
DTSTART;TZID=Europe/London:20250906T143000
DTEND;TZID=Europe/London:20250906T170000
DTSTAMP:20260423T115135
CREATED:20250729T144410Z
LAST-MODIFIED:20250729T144410Z
UID:10002914-1757169000-1757178000@upperstour.co.uk
SUMMARY:St George's\,    Sept Show
DESCRIPTION:
URL:https://upperstour.co.uk/event/st-georges-sept-show/
LOCATION:Bourton Village Hall\, Primrose Lane\, Bourton\, Dorset\, SP8 5BJ\, United Kingdom
CATEGORIES:Community
GEO:50.9588589;-2.6067009
X-APPLE-STRUCTURED-LOCATION;VALUE=URI;X-ADDRESS=Bourton Village Hall Primrose Lane Bourton Dorset SP8 5BJ United Kingdom;X-APPLE-RADIUS=500;X-TITLE=Primrose Lane:geo:-2.6067009,50.9588589
END:VEVENT
BEGIN:VEVENT
DTSTART;TZID=Europe/London:20250904T090000
DTEND;TZID=Europe/London:20250904T100000
DTSTAMP:20260423T115135
CREATED:20190915T105842Z
LAST-MODIFIED:20230704T113119Z
UID:10001524-1756976400-1756980000@upperstour.co.uk
SUMMARY:Morning Prayer | St.Mary's church\, Kilmington
DESCRIPTION:
URL:https://upperstour.co.uk/event/morning-prayer-st-marys-church-kilmington-10/2025-09-04/
LOCATION:St.Mary’s Church\, Kilmington\, Church Rd\, Kilmington\, Wiltshire\, BA12 6TD\, United Kingdom
CATEGORIES:Regular Church Service
GEO:51.1256794;-2.3247554
X-APPLE-STRUCTURED-LOCATION;VALUE=URI;X-ADDRESS=St.Mary’s Church Kilmington Church Rd Kilmington Wiltshire BA12 6TD United Kingdom;X-APPLE-RADIUS=500;X-TITLE=Church Rd:geo:-2.3247554,51.1256794
END:VEVENT
BEGIN:VEVENT
DTSTART;TZID=Europe/London:20250903T160000
DTEND;TZID=Europe/London:20250903T170000
DTSTAMP:20260423T115135
CREATED:20191020T105600Z
LAST-MODIFIED:20230704T113559Z
UID:10001749-1756915200-1756918800@upperstour.co.uk
SUMMARY:Midweek Communion | St.Martin's church\, Zeals
DESCRIPTION:
URL:https://upperstour.co.uk/event/parish-prayers-st-martins-church-zeals-6-2020-10-28-2020-11-11-2020-12-09-2021-07-28/2025-09-03/
LOCATION:St.Martin’s Church\, Zeals\, Portnells Lane\, Zeals\, Wiltshire\, BA12 6PG\, United Kingdom
CATEGORIES:Regular Church Service
GEO:51.0849031;-2.3153286
X-APPLE-STRUCTURED-LOCATION;VALUE=URI;X-ADDRESS=St.Martin’s Church Zeals Portnells Lane Zeals Wiltshire BA12 6PG United Kingdom;X-APPLE-RADIUS=500;X-TITLE=Portnells Lane:geo:-2.3153286,51.0849031
END:VEVENT
BEGIN:VEVENT
DTSTART;TZID=Europe/London:20250901T090000
DTEND;TZID=Europe/London:20250901T100000
DTSTAMP:20260423T115135
CREATED:20230704T113930Z
LAST-MODIFIED:20230704T114113Z
UID:10001974-1756717200-1756720800@upperstour.co.uk
SUMMARY:Morning Prayers | St.George's church\, Bourton
DESCRIPTION:
URL:https://upperstour.co.uk/event/morning-prayers-st-georges-church-bourton-2020-11-09-2020-12-07-2/2025-09-01/
LOCATION:St.George’s Church\, Bourton\, Church Track\, Bourton\, Dorset\, SP8 5BW\, United Kingdom
CATEGORIES:Regular Church Service
GEO:51.0709798;-2.3318825
X-APPLE-STRUCTURED-LOCATION;VALUE=URI;X-ADDRESS=St.George’s Church Bourton Church Track Bourton Dorset SP8 5BW United Kingdom;X-APPLE-RADIUS=500;X-TITLE=Church Track:geo:-2.3318825,51.0709798
END:VEVENT
BEGIN:VEVENT
DTSTART;TZID=Europe/London:20250831T100000
DTEND;TZID=Europe/London:20250831T110000
DTSTAMP:20260423T115135
CREATED:20250729T144224Z
LAST-MODIFIED:20250729T144224Z
UID:10002913-1756634400-1756638000@upperstour.co.uk
SUMMARY:Benefice Communion
DESCRIPTION:
URL:https://upperstour.co.uk/event/benefice-communion/
LOCATION:St.Peter’s Church\, Stourton\, Church Lawn\, Stourton\, Wiltshire\, BA126QE\, United Kingdom
CATEGORIES:Regular Church Service
GEO:51.1052227;-2.319975
X-APPLE-STRUCTURED-LOCATION;VALUE=URI;X-ADDRESS=St.Peter’s Church Stourton Church Lawn Stourton Wiltshire BA126QE United Kingdom;X-APPLE-RADIUS=500;X-TITLE=Church Lawn:geo:-2.319975,51.1052227
END:VEVENT
BEGIN:VEVENT
DTSTART;TZID=Europe/London:20250828T090000
DTEND;TZID=Europe/London:20250828T100000
DTSTAMP:20260423T115135
CREATED:20190915T105842Z
LAST-MODIFIED:20230704T113119Z
UID:10001523-1756371600-1756375200@upperstour.co.uk
SUMMARY:Morning Prayer | St.Mary's church\, Kilmington
DESCRIPTION:
URL:https://upperstour.co.uk/event/morning-prayer-st-marys-church-kilmington-10/2025-08-28/
LOCATION:St.Mary’s Church\, Kilmington\, Church Rd\, Kilmington\, Wiltshire\, BA12 6TD\, United Kingdom
CATEGORIES:Regular Church Service
GEO:51.1256794;-2.3247554
X-APPLE-STRUCTURED-LOCATION;VALUE=URI;X-ADDRESS=St.Mary’s Church Kilmington Church Rd Kilmington Wiltshire BA12 6TD United Kingdom;X-APPLE-RADIUS=500;X-TITLE=Church Rd:geo:-2.3247554,51.1256794
END:VEVENT
BEGIN:VEVENT
DTSTART;TZID=Europe/London:20250827T160000
DTEND;TZID=Europe/London:20250827T170000
DTSTAMP:20260423T115135
CREATED:20191020T105600Z
LAST-MODIFIED:20230704T113559Z
UID:10001748-1756310400-1756314000@upperstour.co.uk
SUMMARY:Midweek Communion | St.Martin's church\, Zeals
DESCRIPTION:
URL:https://upperstour.co.uk/event/parish-prayers-st-martins-church-zeals-6-2020-10-28-2020-11-11-2020-12-09-2021-07-28/2025-08-27/
LOCATION:St.Martin’s Church\, Zeals\, Portnells Lane\, Zeals\, Wiltshire\, BA12 6PG\, United Kingdom
CATEGORIES:Regular Church Service
GEO:51.0849031;-2.3153286
X-APPLE-STRUCTURED-LOCATION;VALUE=URI;X-ADDRESS=St.Martin’s Church Zeals Portnells Lane Zeals Wiltshire BA12 6PG United Kingdom;X-APPLE-RADIUS=500;X-TITLE=Portnells Lane:geo:-2.3153286,51.0849031
END:VEVENT
BEGIN:VEVENT
DTSTART;TZID=Europe/London:20250825T090000
DTEND;TZID=Europe/London:20250825T100000
DTSTAMP:20260423T115135
CREATED:20230704T113930Z
LAST-MODIFIED:20230704T114113Z
UID:10001973-1756112400-1756116000@upperstour.co.uk
SUMMARY:Morning Prayers | St.George's church\, Bourton
DESCRIPTION:
URL:https://upperstour.co.uk/event/morning-prayers-st-georges-church-bourton-2020-11-09-2020-12-07-2/2025-08-25/
LOCATION:St.George’s Church\, Bourton\, Church Track\, Bourton\, Dorset\, SP8 5BW\, United Kingdom
CATEGORIES:Regular Church Service
GEO:51.0709798;-2.3318825
X-APPLE-STRUCTURED-LOCATION;VALUE=URI;X-ADDRESS=St.George’s Church Bourton Church Track Bourton Dorset SP8 5BW United Kingdom;X-APPLE-RADIUS=500;X-TITLE=Church Track:geo:-2.3318825,51.0709798
END:VEVENT
END:VCALENDAR