BEGIN:VCALENDAR
VERSION:2.0
PRODID:-//Parish of Upper Stour - ECPv6.15.20//NONSGML v1.0//EN
CALSCALE:GREGORIAN
METHOD:PUBLISH
X-WR-CALNAME:Parish of Upper Stour
X-ORIGINAL-URL:https://upperstour.co.uk
X-WR-CALDESC:Events for Parish of Upper Stour
REFRESH-INTERVAL;VALUE=DURATION:PT1H
X-Robots-Tag:noindex
X-PUBLISHED-TTL:PT1H
BEGIN:VTIMEZONE
TZID:Europe/London
BEGIN:DAYLIGHT
TZOFFSETFROM:+0000
TZOFFSETTO:+0100
TZNAME:BST
DTSTART:20240331T010000
END:DAYLIGHT
BEGIN:STANDARD
TZOFFSETFROM:+0100
TZOFFSETTO:+0000
TZNAME:GMT
DTSTART:20241027T010000
END:STANDARD
BEGIN:DAYLIGHT
TZOFFSETFROM:+0000
TZOFFSETTO:+0100
TZNAME:BST
DTSTART:20250330T010000
END:DAYLIGHT
BEGIN:STANDARD
TZOFFSETFROM:+0100
TZOFFSETTO:+0000
TZNAME:GMT
DTSTART:20251026T010000
END:STANDARD
BEGIN:DAYLIGHT
TZOFFSETFROM:+0000
TZOFFSETTO:+0100
TZNAME:BST
DTSTART:20260329T010000
END:DAYLIGHT
BEGIN:STANDARD
TZOFFSETFROM:+0100
TZOFFSETTO:+0000
TZNAME:GMT
DTSTART:20261025T010000
END:STANDARD
END:VTIMEZONE
BEGIN:VEVENT
DTSTART;TZID=Europe/London:20251211T090000
DTEND;TZID=Europe/London:20251211T100000
DTSTAMP:20260423T053948
CREATED:20190915T105842Z
LAST-MODIFIED:20230704T113119Z
UID:10001538-1765443600-1765447200@upperstour.co.uk
SUMMARY:Morning Prayer | St.Mary's church\, Kilmington
DESCRIPTION:
URL:https://upperstour.co.uk/event/morning-prayer-st-marys-church-kilmington-10/2025-12-11/
LOCATION:St.Mary’s Church\, Kilmington\, Church Rd\, Kilmington\, Wiltshire\, BA12 6TD\, United Kingdom
CATEGORIES:Regular Church Service
GEO:51.1256794;-2.3247554
X-APPLE-STRUCTURED-LOCATION;VALUE=URI;X-ADDRESS=St.Mary’s Church Kilmington Church Rd Kilmington Wiltshire BA12 6TD United Kingdom;X-APPLE-RADIUS=500;X-TITLE=Church Rd:geo:-2.3247554,51.1256794
END:VEVENT
BEGIN:VEVENT
DTSTART;TZID=Europe/London:20251210T160000
DTEND;TZID=Europe/London:20251210T170000
DTSTAMP:20260423T053948
CREATED:20191020T105600Z
LAST-MODIFIED:20230704T113559Z
UID:10001763-1765382400-1765386000@upperstour.co.uk
SUMMARY:Midweek Communion | St.Martin's church\, Zeals
DESCRIPTION:
URL:https://upperstour.co.uk/event/parish-prayers-st-martins-church-zeals-6-2020-10-28-2020-11-11-2020-12-09-2021-07-28/2025-12-10/
LOCATION:St.Martin’s Church\, Zeals\, Portnells Lane\, Zeals\, Wiltshire\, BA12 6PG\, United Kingdom
CATEGORIES:Regular Church Service
GEO:51.0849031;-2.3153286
X-APPLE-STRUCTURED-LOCATION;VALUE=URI;X-ADDRESS=St.Martin’s Church Zeals Portnells Lane Zeals Wiltshire BA12 6PG United Kingdom;X-APPLE-RADIUS=500;X-TITLE=Portnells Lane:geo:-2.3153286,51.0849031
END:VEVENT
BEGIN:VEVENT
DTSTART;TZID=Europe/London:20251208T090000
DTEND;TZID=Europe/London:20251208T100000
DTSTAMP:20260423T053948
CREATED:20230704T113930Z
LAST-MODIFIED:20230704T114113Z
UID:10001988-1765184400-1765188000@upperstour.co.uk
SUMMARY:Morning Prayers | St.George's church\, Bourton
DESCRIPTION:
URL:https://upperstour.co.uk/event/morning-prayers-st-georges-church-bourton-2020-11-09-2020-12-07-2/2025-12-08/
LOCATION:St.George’s Church\, Bourton\, Church Track\, Bourton\, Dorset\, SP8 5BW\, United Kingdom
CATEGORIES:Regular Church Service
GEO:51.0709798;-2.3318825
X-APPLE-STRUCTURED-LOCATION;VALUE=URI;X-ADDRESS=St.George’s Church Bourton Church Track Bourton Dorset SP8 5BW United Kingdom;X-APPLE-RADIUS=500;X-TITLE=Church Track:geo:-2.3318825,51.0709798
END:VEVENT
BEGIN:VEVENT
DTSTART;TZID=Europe/London:20251207T100000
DTEND;TZID=Europe/London:20251207T110000
DTSTAMP:20260423T053948
CREATED:20241206T143015Z
LAST-MODIFIED:20260218T153344Z
UID:10002567-1765101600-1765105200@upperstour.co.uk
SUMMARY:Bourton Parish Communion
DESCRIPTION:
URL:https://upperstour.co.uk/event/bourton-parish-communion-12/2025-12-07/
LOCATION:St.George’s Church\, Bourton\, Church Track\, Bourton\, Dorset\, SP8 5BW\, United Kingdom
CATEGORIES:Regular Church Service
GEO:51.0709798;-2.3318825
X-APPLE-STRUCTURED-LOCATION;VALUE=URI;X-ADDRESS=St.George’s Church Bourton Church Track Bourton Dorset SP8 5BW United Kingdom;X-APPLE-RADIUS=500;X-TITLE=Church Track:geo:-2.3318825,51.0709798
END:VEVENT
BEGIN:VEVENT
DTSTART;TZID=Europe/London:20251204T090000
DTEND;TZID=Europe/London:20251204T100000
DTSTAMP:20260423T053948
CREATED:20190915T105842Z
LAST-MODIFIED:20230704T113119Z
UID:10001537-1764838800-1764842400@upperstour.co.uk
SUMMARY:Morning Prayer | St.Mary's church\, Kilmington
DESCRIPTION:
URL:https://upperstour.co.uk/event/morning-prayer-st-marys-church-kilmington-10/2025-12-04/
LOCATION:St.Mary’s Church\, Kilmington\, Church Rd\, Kilmington\, Wiltshire\, BA12 6TD\, United Kingdom
CATEGORIES:Regular Church Service
GEO:51.1256794;-2.3247554
X-APPLE-STRUCTURED-LOCATION;VALUE=URI;X-ADDRESS=St.Mary’s Church Kilmington Church Rd Kilmington Wiltshire BA12 6TD United Kingdom;X-APPLE-RADIUS=500;X-TITLE=Church Rd:geo:-2.3247554,51.1256794
END:VEVENT
BEGIN:VEVENT
DTSTART;TZID=Europe/London:20251203T160000
DTEND;TZID=Europe/London:20251203T170000
DTSTAMP:20260423T053948
CREATED:20191020T105600Z
LAST-MODIFIED:20230704T113559Z
UID:10001762-1764777600-1764781200@upperstour.co.uk
SUMMARY:Midweek Communion | St.Martin's church\, Zeals
DESCRIPTION:
URL:https://upperstour.co.uk/event/parish-prayers-st-martins-church-zeals-6-2020-10-28-2020-11-11-2020-12-09-2021-07-28/2025-12-03/
LOCATION:St.Martin’s Church\, Zeals\, Portnells Lane\, Zeals\, Wiltshire\, BA12 6PG\, United Kingdom
CATEGORIES:Regular Church Service
GEO:51.0849031;-2.3153286
X-APPLE-STRUCTURED-LOCATION;VALUE=URI;X-ADDRESS=St.Martin’s Church Zeals Portnells Lane Zeals Wiltshire BA12 6PG United Kingdom;X-APPLE-RADIUS=500;X-TITLE=Portnells Lane:geo:-2.3153286,51.0849031
END:VEVENT
BEGIN:VEVENT
DTSTART;TZID=Europe/London:20251201T090000
DTEND;TZID=Europe/London:20251201T100000
DTSTAMP:20260423T053948
CREATED:20230704T113930Z
LAST-MODIFIED:20230704T114113Z
UID:10001987-1764579600-1764583200@upperstour.co.uk
SUMMARY:Morning Prayers | St.George's church\, Bourton
DESCRIPTION:
URL:https://upperstour.co.uk/event/morning-prayers-st-georges-church-bourton-2020-11-09-2020-12-07-2/2025-12-01/
LOCATION:St.George’s Church\, Bourton\, Church Track\, Bourton\, Dorset\, SP8 5BW\, United Kingdom
CATEGORIES:Regular Church Service
GEO:51.0709798;-2.3318825
X-APPLE-STRUCTURED-LOCATION;VALUE=URI;X-ADDRESS=St.George’s Church Bourton Church Track Bourton Dorset SP8 5BW United Kingdom;X-APPLE-RADIUS=500;X-TITLE=Church Track:geo:-2.3318825,51.0709798
END:VEVENT
BEGIN:VEVENT
DTSTART;TZID=Europe/London:20251130T100000
DTEND;TZID=Europe/London:20251130T110000
DTSTAMP:20260423T053948
CREATED:20251126T105349Z
LAST-MODIFIED:20251126T105349Z
UID:10003267-1764496800-1764500400@upperstour.co.uk
SUMMARY:Service
DESCRIPTION:
URL:https://upperstour.co.uk/event/service/
LOCATION:All Saints Church\, B3092 in Maiden Bradley\, Maiden Bradley\, Wiltshire\, BA12 7HP\, United Kingdom
CATEGORIES:Community
END:VEVENT
BEGIN:VEVENT
DTSTART;TZID=Europe/London:20251127T090000
DTEND;TZID=Europe/London:20251127T100000
DTSTAMP:20260423T053948
CREATED:20190915T105842Z
LAST-MODIFIED:20230704T113119Z
UID:10001536-1764234000-1764237600@upperstour.co.uk
SUMMARY:Morning Prayer | St.Mary's church\, Kilmington
DESCRIPTION:
URL:https://upperstour.co.uk/event/morning-prayer-st-marys-church-kilmington-10/2025-11-27/
LOCATION:St.Mary’s Church\, Kilmington\, Church Rd\, Kilmington\, Wiltshire\, BA12 6TD\, United Kingdom
CATEGORIES:Regular Church Service
GEO:51.1256794;-2.3247554
X-APPLE-STRUCTURED-LOCATION;VALUE=URI;X-ADDRESS=St.Mary’s Church Kilmington Church Rd Kilmington Wiltshire BA12 6TD United Kingdom;X-APPLE-RADIUS=500;X-TITLE=Church Rd:geo:-2.3247554,51.1256794
END:VEVENT
BEGIN:VEVENT
DTSTART;TZID=Europe/London:20251126T160000
DTEND;TZID=Europe/London:20251126T170000
DTSTAMP:20260423T053948
CREATED:20191020T105600Z
LAST-MODIFIED:20230704T113559Z
UID:10001761-1764172800-1764176400@upperstour.co.uk
SUMMARY:Midweek Communion | St.Martin's church\, Zeals
DESCRIPTION:
URL:https://upperstour.co.uk/event/parish-prayers-st-martins-church-zeals-6-2020-10-28-2020-11-11-2020-12-09-2021-07-28/2025-11-26/
LOCATION:St.Martin’s Church\, Zeals\, Portnells Lane\, Zeals\, Wiltshire\, BA12 6PG\, United Kingdom
CATEGORIES:Regular Church Service
GEO:51.0849031;-2.3153286
X-APPLE-STRUCTURED-LOCATION;VALUE=URI;X-ADDRESS=St.Martin’s Church Zeals Portnells Lane Zeals Wiltshire BA12 6PG United Kingdom;X-APPLE-RADIUS=500;X-TITLE=Portnells Lane:geo:-2.3153286,51.0849031
END:VEVENT
BEGIN:VEVENT
DTSTART;TZID=Europe/London:20251126T120000
DTEND;TZID=Europe/London:20251126T130000
DTSTAMP:20260423T053948
CREATED:20251107T174508Z
LAST-MODIFIED:20251107T174508Z
UID:10003261-1764158400-1764162000@upperstour.co.uk
SUMMARY:Funeral - Zeals
DESCRIPTION:
URL:https://upperstour.co.uk/event/funeral-zeals-3/
LOCATION:St.Martin’s Church\, Zeals\, Portnells Lane\, Zeals\, Wiltshire\, BA12 6PG\, United Kingdom
CATEGORIES:Life Events
GEO:51.0849031;-2.3153286
X-APPLE-STRUCTURED-LOCATION;VALUE=URI;X-ADDRESS=St.Martin’s Church Zeals Portnells Lane Zeals Wiltshire BA12 6PG United Kingdom;X-APPLE-RADIUS=500;X-TITLE=Portnells Lane:geo:-2.3153286,51.0849031
END:VEVENT
BEGIN:VEVENT
DTSTART;TZID=Europe/London:20251124T190000
DTEND;TZID=Europe/London:20251124T200000
DTSTAMP:20260423T053948
CREATED:20251023T084827Z
LAST-MODIFIED:20251023T085157Z
UID:10002937-1764010800-1764014400@upperstour.co.uk
SUMMARY:Rector's Nicene Creed course (6 weeks)
DESCRIPTION:
URL:https://upperstour.co.uk/event/rectors-nicene-creed-course-6-weeks/2025-11-24/
LOCATION:Parish Room\, within St Martin's church\, ZEALS\, Wiltshire\, BA12 6PG\, United Kingdom
CATEGORIES:Community
END:VEVENT
BEGIN:VEVENT
DTSTART;TZID=Europe/London:20251124T090000
DTEND;TZID=Europe/London:20251124T100000
DTSTAMP:20260423T053948
CREATED:20230704T113930Z
LAST-MODIFIED:20230704T114113Z
UID:10001986-1763974800-1763978400@upperstour.co.uk
SUMMARY:Morning Prayers | St.George's church\, Bourton
DESCRIPTION:
URL:https://upperstour.co.uk/event/morning-prayers-st-georges-church-bourton-2020-11-09-2020-12-07-2/2025-11-24/
LOCATION:St.George’s Church\, Bourton\, Church Track\, Bourton\, Dorset\, SP8 5BW\, United Kingdom
CATEGORIES:Regular Church Service
GEO:51.0709798;-2.3318825
X-APPLE-STRUCTURED-LOCATION;VALUE=URI;X-ADDRESS=St.George’s Church Bourton Church Track Bourton Dorset SP8 5BW United Kingdom;X-APPLE-RADIUS=500;X-TITLE=Church Track:geo:-2.3318825,51.0709798
END:VEVENT
BEGIN:VEVENT
DTSTART;TZID=Europe/London:20251123T100000
DTEND;TZID=Europe/London:20251123T110000
DTSTAMP:20260423T053948
CREATED:20251019T140755Z
LAST-MODIFIED:20251019T140755Z
UID:10002929-1763892000-1763895600@upperstour.co.uk
SUMMARY:Parish Communion
DESCRIPTION:
URL:https://upperstour.co.uk/event/parish-communion-2/
LOCATION:St.Martin’s Church\, Zeals\, Portnells Lane\, Zeals\, Wiltshire\, BA12 6PG\, United Kingdom
CATEGORIES:Regular Church Service
GEO:51.0849031;-2.3153286
X-APPLE-STRUCTURED-LOCATION;VALUE=URI;X-ADDRESS=St.Martin’s Church Zeals Portnells Lane Zeals Wiltshire BA12 6PG United Kingdom;X-APPLE-RADIUS=500;X-TITLE=Portnells Lane:geo:-2.3153286,51.0849031
END:VEVENT
BEGIN:VEVENT
DTSTART;TZID=Europe/London:20251120T090000
DTEND;TZID=Europe/London:20251120T100000
DTSTAMP:20260423T053948
CREATED:20190915T105842Z
LAST-MODIFIED:20230704T113119Z
UID:10001535-1763629200-1763632800@upperstour.co.uk
SUMMARY:Morning Prayer | St.Mary's church\, Kilmington
DESCRIPTION:
URL:https://upperstour.co.uk/event/morning-prayer-st-marys-church-kilmington-10/2025-11-20/
LOCATION:St.Mary’s Church\, Kilmington\, Church Rd\, Kilmington\, Wiltshire\, BA12 6TD\, United Kingdom
CATEGORIES:Regular Church Service
GEO:51.1256794;-2.3247554
X-APPLE-STRUCTURED-LOCATION;VALUE=URI;X-ADDRESS=St.Mary’s Church Kilmington Church Rd Kilmington Wiltshire BA12 6TD United Kingdom;X-APPLE-RADIUS=500;X-TITLE=Church Rd:geo:-2.3247554,51.1256794
END:VEVENT
BEGIN:VEVENT
DTSTART;TZID=Europe/London:20251119T160000
DTEND;TZID=Europe/London:20251119T170000
DTSTAMP:20260423T053948
CREATED:20191020T105600Z
LAST-MODIFIED:20230704T113559Z
UID:10001760-1763568000-1763571600@upperstour.co.uk
SUMMARY:Midweek Communion | St.Martin's church\, Zeals
DESCRIPTION:
URL:https://upperstour.co.uk/event/parish-prayers-st-martins-church-zeals-6-2020-10-28-2020-11-11-2020-12-09-2021-07-28/2025-11-19/
LOCATION:St.Martin’s Church\, Zeals\, Portnells Lane\, Zeals\, Wiltshire\, BA12 6PG\, United Kingdom
CATEGORIES:Regular Church Service
GEO:51.0849031;-2.3153286
X-APPLE-STRUCTURED-LOCATION;VALUE=URI;X-ADDRESS=St.Martin’s Church Zeals Portnells Lane Zeals Wiltshire BA12 6PG United Kingdom;X-APPLE-RADIUS=500;X-TITLE=Portnells Lane:geo:-2.3153286,51.0849031
END:VEVENT
BEGIN:VEVENT
DTSTART;TZID=Europe/London:20251117T190000
DTEND;TZID=Europe/London:20251117T200000
DTSTAMP:20260423T053948
CREATED:20251023T084827Z
LAST-MODIFIED:20251023T085157Z
UID:10002936-1763406000-1763409600@upperstour.co.uk
SUMMARY:Rector's Nicene Creed course (6 weeks)
DESCRIPTION:
URL:https://upperstour.co.uk/event/rectors-nicene-creed-course-6-weeks/2025-11-17/
LOCATION:Parish Room\, within St Martin's church\, ZEALS\, Wiltshire\, BA12 6PG\, United Kingdom
CATEGORIES:Community
END:VEVENT
BEGIN:VEVENT
DTSTART;TZID=Europe/London:20251117T090000
DTEND;TZID=Europe/London:20251117T100000
DTSTAMP:20260423T053948
CREATED:20230704T113930Z
LAST-MODIFIED:20230704T114113Z
UID:10001985-1763370000-1763373600@upperstour.co.uk
SUMMARY:Morning Prayers | St.George's church\, Bourton
DESCRIPTION:
URL:https://upperstour.co.uk/event/morning-prayers-st-georges-church-bourton-2020-11-09-2020-12-07-2/2025-11-17/
LOCATION:St.George’s Church\, Bourton\, Church Track\, Bourton\, Dorset\, SP8 5BW\, United Kingdom
CATEGORIES:Regular Church Service
GEO:51.0709798;-2.3318825
X-APPLE-STRUCTURED-LOCATION;VALUE=URI;X-ADDRESS=St.George’s Church Bourton Church Track Bourton Dorset SP8 5BW United Kingdom;X-APPLE-RADIUS=500;X-TITLE=Church Track:geo:-2.3318825,51.0709798
END:VEVENT
BEGIN:VEVENT
DTSTART;TZID=Europe/London:20251116T100000
DTEND;TZID=Europe/London:20251116T110000
DTSTAMP:20260423T053948
CREATED:20251019T140644Z
LAST-MODIFIED:20251019T140644Z
UID:10002928-1763287200-1763290800@upperstour.co.uk
SUMMARY:Parish Communion
DESCRIPTION:
URL:https://upperstour.co.uk/event/parish-communion/
LOCATION:St.Peter’s Church\, Stourton\, Church Lawn\, Stourton\, Wiltshire\, BA126QE\, United Kingdom
CATEGORIES:Regular Church Service
GEO:51.1052227;-2.319975
X-APPLE-STRUCTURED-LOCATION;VALUE=URI;X-ADDRESS=St.Peter’s Church Stourton Church Lawn Stourton Wiltshire BA126QE United Kingdom;X-APPLE-RADIUS=500;X-TITLE=Church Lawn:geo:-2.319975,51.1052227
END:VEVENT
BEGIN:VEVENT
DTSTART;TZID=Europe/London:20251116T100000
DTEND;TZID=Europe/London:20251116T110000
DTSTAMP:20260423T053948
CREATED:20241206T144157Z
LAST-MODIFIED:20241206T144157Z
UID:10002683-1763287200-1763290800@upperstour.co.uk
SUMMARY:Stourton Parish Communion
DESCRIPTION:
URL:https://upperstour.co.uk/event/stourton-parish-communion-9/2025-11-16/
LOCATION:St.Peter’s Church\, Stourton\, Church Lawn\, Stourton\, Wiltshire\, BA126QE\, United Kingdom
CATEGORIES:Regular Church Service
GEO:51.1052227;-2.319975
X-APPLE-STRUCTURED-LOCATION;VALUE=URI;X-ADDRESS=St.Peter’s Church Stourton Church Lawn Stourton Wiltshire BA126QE United Kingdom;X-APPLE-RADIUS=500;X-TITLE=Church Lawn:geo:-2.319975,51.1052227
END:VEVENT
BEGIN:VEVENT
DTSTART;TZID=Europe/London:20251113T120000
DTEND;TZID=Europe/London:20251113T130000
DTSTAMP:20260423T053948
CREATED:20251107T174824Z
LAST-MODIFIED:20251107T174824Z
UID:10003262-1763035200-1763038800@upperstour.co.uk
SUMMARY:Funeral - Bourton
DESCRIPTION:
URL:https://upperstour.co.uk/event/funeral-bourton-3/
LOCATION:St.George’s Church\, Bourton\, Church Track\, Bourton\, Dorset\, SP8 5BW\, United Kingdom
CATEGORIES:Life Events
GEO:51.0709798;-2.3318825
X-APPLE-STRUCTURED-LOCATION;VALUE=URI;X-ADDRESS=St.George’s Church Bourton Church Track Bourton Dorset SP8 5BW United Kingdom;X-APPLE-RADIUS=500;X-TITLE=Church Track:geo:-2.3318825,51.0709798
END:VEVENT
BEGIN:VEVENT
DTSTART;TZID=Europe/London:20251113T090000
DTEND;TZID=Europe/London:20251113T100000
DTSTAMP:20260423T053948
CREATED:20190915T105842Z
LAST-MODIFIED:20230704T113119Z
UID:10001534-1763024400-1763028000@upperstour.co.uk
SUMMARY:Morning Prayer | St.Mary's church\, Kilmington
DESCRIPTION:
URL:https://upperstour.co.uk/event/morning-prayer-st-marys-church-kilmington-10/2025-11-13/
LOCATION:St.Mary’s Church\, Kilmington\, Church Rd\, Kilmington\, Wiltshire\, BA12 6TD\, United Kingdom
CATEGORIES:Regular Church Service
GEO:51.1256794;-2.3247554
X-APPLE-STRUCTURED-LOCATION;VALUE=URI;X-ADDRESS=St.Mary’s Church Kilmington Church Rd Kilmington Wiltshire BA12 6TD United Kingdom;X-APPLE-RADIUS=500;X-TITLE=Church Rd:geo:-2.3247554,51.1256794
END:VEVENT
BEGIN:VEVENT
DTSTART;TZID=Europe/London:20251112T160000
DTEND;TZID=Europe/London:20251112T170000
DTSTAMP:20260423T053948
CREATED:20191020T105600Z
LAST-MODIFIED:20230704T113559Z
UID:10001759-1762963200-1762966800@upperstour.co.uk
SUMMARY:Midweek Communion | St.Martin's church\, Zeals
DESCRIPTION:
URL:https://upperstour.co.uk/event/parish-prayers-st-martins-church-zeals-6-2020-10-28-2020-11-11-2020-12-09-2021-07-28/2025-11-12/
LOCATION:St.Martin’s Church\, Zeals\, Portnells Lane\, Zeals\, Wiltshire\, BA12 6PG\, United Kingdom
CATEGORIES:Regular Church Service
GEO:51.0849031;-2.3153286
X-APPLE-STRUCTURED-LOCATION;VALUE=URI;X-ADDRESS=St.Martin’s Church Zeals Portnells Lane Zeals Wiltshire BA12 6PG United Kingdom;X-APPLE-RADIUS=500;X-TITLE=Portnells Lane:geo:-2.3153286,51.0849031
END:VEVENT
BEGIN:VEVENT
DTSTART;TZID=Europe/London:20251110T190000
DTEND;TZID=Europe/London:20251110T200000
DTSTAMP:20260423T053948
CREATED:20251023T084827Z
LAST-MODIFIED:20251023T085157Z
UID:10002935-1762801200-1762804800@upperstour.co.uk
SUMMARY:Rector's Nicene Creed course (6 weeks)
DESCRIPTION:
URL:https://upperstour.co.uk/event/rectors-nicene-creed-course-6-weeks/2025-11-10/
LOCATION:Parish Room\, within St Martin's church\, ZEALS\, Wiltshire\, BA12 6PG\, United Kingdom
CATEGORIES:Community
END:VEVENT
BEGIN:VEVENT
DTSTART;TZID=Europe/London:20251110T090000
DTEND;TZID=Europe/London:20251110T100000
DTSTAMP:20260423T053948
CREATED:20230704T113930Z
LAST-MODIFIED:20230704T114113Z
UID:10001984-1762765200-1762768800@upperstour.co.uk
SUMMARY:Morning Prayers | St.George's church\, Bourton
DESCRIPTION:
URL:https://upperstour.co.uk/event/morning-prayers-st-georges-church-bourton-2020-11-09-2020-12-07-2/2025-11-10/
LOCATION:St.George’s Church\, Bourton\, Church Track\, Bourton\, Dorset\, SP8 5BW\, United Kingdom
CATEGORIES:Regular Church Service
GEO:51.0709798;-2.3318825
X-APPLE-STRUCTURED-LOCATION;VALUE=URI;X-ADDRESS=St.George’s Church Bourton Church Track Bourton Dorset SP8 5BW United Kingdom;X-APPLE-RADIUS=500;X-TITLE=Church Track:geo:-2.3318825,51.0709798
END:VEVENT
BEGIN:VEVENT
DTSTART;TZID=Europe/London:20251109T104500
DTEND;TZID=Europe/London:20251109T120000
DTSTAMP:20260423T053948
CREATED:20251023T091745Z
LAST-MODIFIED:20251106T182454Z
UID:10002993-1762685100-1762689600@upperstour.co.uk
SUMMARY:Remembrance Service (commencing at Bourton War Memorial)
DESCRIPTION:
URL:https://upperstour.co.uk/event/remembrance-service-commencing-at-the-war-memorial/
LOCATION:St.George’s Church\, Bourton\, Church Track\, Bourton\, Dorset\, SP8 5BW\, United Kingdom
CATEGORIES:Community
ORGANIZER;CN="Ms Mona Tyler":MAILTO:monatyler@hotmail.co.uk
GEO:51.0709798;-2.3318825
X-APPLE-STRUCTURED-LOCATION;VALUE=URI;X-ADDRESS=St.George’s Church Bourton Church Track Bourton Dorset SP8 5BW United Kingdom;X-APPLE-RADIUS=500;X-TITLE=Church Track:geo:-2.3318825,51.0709798
END:VEVENT
BEGIN:VEVENT
DTSTART;TZID=Europe/London:20251109T100000
DTEND;TZID=Europe/London:20251109T110000
DTSTAMP:20260423T053948
CREATED:20251106T183305Z
LAST-MODIFIED:20260218T155305Z
UID:10002625-1762682400-1762686000@upperstour.co.uk
SUMMARY:Kilmington Parish Communion
DESCRIPTION:
URL:https://upperstour.co.uk/event/kilmington-parish-communion-9-2/2025-11-09/
LOCATION:Wiltshire
CATEGORIES:Regular Church Service
END:VEVENT
BEGIN:VEVENT
DTSTART;TZID=Europe/London:20251106T090000
DTEND;TZID=Europe/London:20251106T100000
DTSTAMP:20260423T053948
CREATED:20190915T105842Z
LAST-MODIFIED:20230704T113119Z
UID:10001533-1762419600-1762423200@upperstour.co.uk
SUMMARY:Morning Prayer | St.Mary's church\, Kilmington
DESCRIPTION:
URL:https://upperstour.co.uk/event/morning-prayer-st-marys-church-kilmington-10/2025-11-06/
LOCATION:St.Mary’s Church\, Kilmington\, Church Rd\, Kilmington\, Wiltshire\, BA12 6TD\, United Kingdom
CATEGORIES:Regular Church Service
GEO:51.1256794;-2.3247554
X-APPLE-STRUCTURED-LOCATION;VALUE=URI;X-ADDRESS=St.Mary’s Church Kilmington Church Rd Kilmington Wiltshire BA12 6TD United Kingdom;X-APPLE-RADIUS=500;X-TITLE=Church Rd:geo:-2.3247554,51.1256794
END:VEVENT
BEGIN:VEVENT
DTSTART;TZID=Europe/London:20251105T160000
DTEND;TZID=Europe/London:20251105T170000
DTSTAMP:20260423T053948
CREATED:20191020T105600Z
LAST-MODIFIED:20230704T113559Z
UID:10001758-1762358400-1762362000@upperstour.co.uk
SUMMARY:Midweek Communion | St.Martin's church\, Zeals
DESCRIPTION:
URL:https://upperstour.co.uk/event/parish-prayers-st-martins-church-zeals-6-2020-10-28-2020-11-11-2020-12-09-2021-07-28/2025-11-05/
LOCATION:St.Martin’s Church\, Zeals\, Portnells Lane\, Zeals\, Wiltshire\, BA12 6PG\, United Kingdom
CATEGORIES:Regular Church Service
GEO:51.0849031;-2.3153286
X-APPLE-STRUCTURED-LOCATION;VALUE=URI;X-ADDRESS=St.Martin’s Church Zeals Portnells Lane Zeals Wiltshire BA12 6PG United Kingdom;X-APPLE-RADIUS=500;X-TITLE=Portnells Lane:geo:-2.3153286,51.0849031
END:VEVENT
BEGIN:VEVENT
DTSTART;TZID=Europe/London:20251103T190000
DTEND;TZID=Europe/London:20251103T200000
DTSTAMP:20260423T053948
CREATED:20251023T084827Z
LAST-MODIFIED:20251023T085157Z
UID:10002934-1762196400-1762200000@upperstour.co.uk
SUMMARY:Rector's Nicene Creed course (6 weeks)
DESCRIPTION:
URL:https://upperstour.co.uk/event/rectors-nicene-creed-course-6-weeks/2025-11-03/
LOCATION:Parish Room\, within St Martin's church\, ZEALS\, Wiltshire\, BA12 6PG\, United Kingdom
CATEGORIES:Community
END:VEVENT
END:VCALENDAR