BEGIN:VCALENDAR
VERSION:2.0
PRODID:-//Parish of Upper Stour - ECPv6.15.20//NONSGML v1.0//EN
CALSCALE:GREGORIAN
METHOD:PUBLISH
X-WR-CALNAME:Parish of Upper Stour
X-ORIGINAL-URL:https://upperstour.co.uk
X-WR-CALDESC:Events for Parish of Upper Stour
REFRESH-INTERVAL;VALUE=DURATION:PT1H
X-Robots-Tag:noindex
X-PUBLISHED-TTL:PT1H
BEGIN:VTIMEZONE
TZID:Europe/London
BEGIN:DAYLIGHT
TZOFFSETFROM:+0000
TZOFFSETTO:+0100
TZNAME:BST
DTSTART:20260329T010000
END:DAYLIGHT
BEGIN:STANDARD
TZOFFSETFROM:+0100
TZOFFSETTO:+0000
TZNAME:GMT
DTSTART:20261025T010000
END:STANDARD
BEGIN:DAYLIGHT
TZOFFSETFROM:+0000
TZOFFSETTO:+0100
TZNAME:BST
DTSTART:20270328T010000
END:DAYLIGHT
BEGIN:STANDARD
TZOFFSETFROM:+0100
TZOFFSETTO:+0000
TZNAME:GMT
DTSTART:20271031T010000
END:STANDARD
BEGIN:DAYLIGHT
TZOFFSETFROM:+0000
TZOFFSETTO:+0100
TZNAME:BST
DTSTART:20280326T010000
END:DAYLIGHT
BEGIN:STANDARD
TZOFFSETFROM:+0100
TZOFFSETTO:+0000
TZNAME:GMT
DTSTART:20281029T010000
END:STANDARD
END:VTIMEZONE
BEGIN:VEVENT
DTSTART;TZID=Europe/London:20271021T090000
DTEND;TZID=Europe/London:20271021T100000
DTSTAMP:20260422T225300
CREATED:20190915T105842Z
LAST-MODIFIED:20230704T113119Z
UID:10001635-1824109200-1824112800@upperstour.co.uk
SUMMARY:Morning Prayer | St.Mary's church\, Kilmington
DESCRIPTION:
URL:https://upperstour.co.uk/event/morning-prayer-st-marys-church-kilmington-10/2027-10-21/
LOCATION:St.Mary’s Church\, Kilmington\, Church Rd\, Kilmington\, Wiltshire\, BA12 6TD\, United Kingdom
CATEGORIES:Regular Church Service
GEO:51.1256794;-2.3247554
X-APPLE-STRUCTURED-LOCATION;VALUE=URI;X-ADDRESS=St.Mary’s Church Kilmington Church Rd Kilmington Wiltshire BA12 6TD United Kingdom;X-APPLE-RADIUS=500;X-TITLE=Church Rd:geo:-2.3247554,51.1256794
END:VEVENT
BEGIN:VEVENT
DTSTART;TZID=Europe/London:20271025T090000
DTEND;TZID=Europe/London:20271025T100000
DTSTAMP:20260422T225300
CREATED:20230704T113930Z
LAST-MODIFIED:20230704T114113Z
UID:10002086-1824454800-1824458400@upperstour.co.uk
SUMMARY:Morning Prayers | St.George's church\, Bourton
DESCRIPTION:
URL:https://upperstour.co.uk/event/morning-prayers-st-georges-church-bourton-2020-11-09-2020-12-07-2/2027-10-25/
LOCATION:St.George’s Church\, Bourton\, Church Track\, Bourton\, Dorset\, SP8 5BW\, United Kingdom
CATEGORIES:Regular Church Service
GEO:51.0709798;-2.3318825
X-APPLE-STRUCTURED-LOCATION;VALUE=URI;X-ADDRESS=St.George’s Church Bourton Church Track Bourton Dorset SP8 5BW United Kingdom;X-APPLE-RADIUS=500;X-TITLE=Church Track:geo:-2.3318825,51.0709798
END:VEVENT
BEGIN:VEVENT
DTSTART;TZID=Europe/London:20271027T160000
DTEND;TZID=Europe/London:20271027T170000
DTSTAMP:20260422T225300
CREATED:20191020T105600Z
LAST-MODIFIED:20230704T113559Z
UID:10001861-1824652800-1824656400@upperstour.co.uk
SUMMARY:Midweek Communion | St.Martin's church\, Zeals
DESCRIPTION:
URL:https://upperstour.co.uk/event/parish-prayers-st-martins-church-zeals-6-2020-10-28-2020-11-11-2020-12-09-2021-07-28/2027-10-27/
LOCATION:St.Martin’s Church\, Zeals\, Portnells Lane\, Zeals\, Wiltshire\, BA12 6PG\, United Kingdom
CATEGORIES:Regular Church Service
GEO:51.0849031;-2.3153286
X-APPLE-STRUCTURED-LOCATION;VALUE=URI;X-ADDRESS=St.Martin’s Church Zeals Portnells Lane Zeals Wiltshire BA12 6PG United Kingdom;X-APPLE-RADIUS=500;X-TITLE=Portnells Lane:geo:-2.3153286,51.0849031
END:VEVENT
BEGIN:VEVENT
DTSTART;TZID=Europe/London:20271028T090000
DTEND;TZID=Europe/London:20271028T100000
DTSTAMP:20260422T225300
CREATED:20190915T105842Z
LAST-MODIFIED:20230704T113119Z
UID:10001636-1824714000-1824717600@upperstour.co.uk
SUMMARY:Morning Prayer | St.Mary's church\, Kilmington
DESCRIPTION:
URL:https://upperstour.co.uk/event/morning-prayer-st-marys-church-kilmington-10/2027-10-28/
LOCATION:St.Mary’s Church\, Kilmington\, Church Rd\, Kilmington\, Wiltshire\, BA12 6TD\, United Kingdom
CATEGORIES:Regular Church Service
GEO:51.1256794;-2.3247554
X-APPLE-STRUCTURED-LOCATION;VALUE=URI;X-ADDRESS=St.Mary’s Church Kilmington Church Rd Kilmington Wiltshire BA12 6TD United Kingdom;X-APPLE-RADIUS=500;X-TITLE=Church Rd:geo:-2.3247554,51.1256794
END:VEVENT
BEGIN:VEVENT
DTSTART;TZID=Europe/London:20271101T090000
DTEND;TZID=Europe/London:20271101T100000
DTSTAMP:20260422T225300
CREATED:20230704T113930Z
LAST-MODIFIED:20230704T114113Z
UID:10002087-1825059600-1825063200@upperstour.co.uk
SUMMARY:Morning Prayers | St.George's church\, Bourton
DESCRIPTION:
URL:https://upperstour.co.uk/event/morning-prayers-st-georges-church-bourton-2020-11-09-2020-12-07-2/2027-11-01/
LOCATION:St.George’s Church\, Bourton\, Church Track\, Bourton\, Dorset\, SP8 5BW\, United Kingdom
CATEGORIES:Regular Church Service
GEO:51.0709798;-2.3318825
X-APPLE-STRUCTURED-LOCATION;VALUE=URI;X-ADDRESS=St.George’s Church Bourton Church Track Bourton Dorset SP8 5BW United Kingdom;X-APPLE-RADIUS=500;X-TITLE=Church Track:geo:-2.3318825,51.0709798
END:VEVENT
BEGIN:VEVENT
DTSTART;TZID=Europe/London:20271103T160000
DTEND;TZID=Europe/London:20271103T170000
DTSTAMP:20260422T225300
CREATED:20191020T105600Z
LAST-MODIFIED:20230704T113559Z
UID:10001862-1825257600-1825261200@upperstour.co.uk
SUMMARY:Midweek Communion | St.Martin's church\, Zeals
DESCRIPTION:
URL:https://upperstour.co.uk/event/parish-prayers-st-martins-church-zeals-6-2020-10-28-2020-11-11-2020-12-09-2021-07-28/2027-11-03/
LOCATION:St.Martin’s Church\, Zeals\, Portnells Lane\, Zeals\, Wiltshire\, BA12 6PG\, United Kingdom
CATEGORIES:Regular Church Service
GEO:51.0849031;-2.3153286
X-APPLE-STRUCTURED-LOCATION;VALUE=URI;X-ADDRESS=St.Martin’s Church Zeals Portnells Lane Zeals Wiltshire BA12 6PG United Kingdom;X-APPLE-RADIUS=500;X-TITLE=Portnells Lane:geo:-2.3153286,51.0849031
END:VEVENT
BEGIN:VEVENT
DTSTART;TZID=Europe/London:20271104T090000
DTEND;TZID=Europe/London:20271104T100000
DTSTAMP:20260422T225300
CREATED:20190915T105842Z
LAST-MODIFIED:20230704T113119Z
UID:10001637-1825318800-1825322400@upperstour.co.uk
SUMMARY:Morning Prayer | St.Mary's church\, Kilmington
DESCRIPTION:
URL:https://upperstour.co.uk/event/morning-prayer-st-marys-church-kilmington-10/2027-11-04/
LOCATION:St.Mary’s Church\, Kilmington\, Church Rd\, Kilmington\, Wiltshire\, BA12 6TD\, United Kingdom
CATEGORIES:Regular Church Service
GEO:51.1256794;-2.3247554
X-APPLE-STRUCTURED-LOCATION;VALUE=URI;X-ADDRESS=St.Mary’s Church Kilmington Church Rd Kilmington Wiltshire BA12 6TD United Kingdom;X-APPLE-RADIUS=500;X-TITLE=Church Rd:geo:-2.3247554,51.1256794
END:VEVENT
BEGIN:VEVENT
DTSTART;TZID=Europe/London:20271108T090000
DTEND;TZID=Europe/London:20271108T100000
DTSTAMP:20260422T225300
CREATED:20230704T113930Z
LAST-MODIFIED:20230704T114113Z
UID:10002088-1825664400-1825668000@upperstour.co.uk
SUMMARY:Morning Prayers | St.George's church\, Bourton
DESCRIPTION:
URL:https://upperstour.co.uk/event/morning-prayers-st-georges-church-bourton-2020-11-09-2020-12-07-2/2027-11-08/
LOCATION:St.George’s Church\, Bourton\, Church Track\, Bourton\, Dorset\, SP8 5BW\, United Kingdom
CATEGORIES:Regular Church Service
GEO:51.0709798;-2.3318825
X-APPLE-STRUCTURED-LOCATION;VALUE=URI;X-ADDRESS=St.George’s Church Bourton Church Track Bourton Dorset SP8 5BW United Kingdom;X-APPLE-RADIUS=500;X-TITLE=Church Track:geo:-2.3318825,51.0709798
END:VEVENT
BEGIN:VEVENT
DTSTART;TZID=Europe/London:20271110T160000
DTEND;TZID=Europe/London:20271110T170000
DTSTAMP:20260422T225300
CREATED:20191020T105600Z
LAST-MODIFIED:20230704T113559Z
UID:10001863-1825862400-1825866000@upperstour.co.uk
SUMMARY:Midweek Communion | St.Martin's church\, Zeals
DESCRIPTION:
URL:https://upperstour.co.uk/event/parish-prayers-st-martins-church-zeals-6-2020-10-28-2020-11-11-2020-12-09-2021-07-28/2027-11-10/
LOCATION:St.Martin’s Church\, Zeals\, Portnells Lane\, Zeals\, Wiltshire\, BA12 6PG\, United Kingdom
CATEGORIES:Regular Church Service
GEO:51.0849031;-2.3153286
X-APPLE-STRUCTURED-LOCATION;VALUE=URI;X-ADDRESS=St.Martin’s Church Zeals Portnells Lane Zeals Wiltshire BA12 6PG United Kingdom;X-APPLE-RADIUS=500;X-TITLE=Portnells Lane:geo:-2.3153286,51.0849031
END:VEVENT
BEGIN:VEVENT
DTSTART;TZID=Europe/London:20271111T090000
DTEND;TZID=Europe/London:20271111T100000
DTSTAMP:20260422T225300
CREATED:20190915T105842Z
LAST-MODIFIED:20230704T113119Z
UID:10001638-1825923600-1825927200@upperstour.co.uk
SUMMARY:Morning Prayer | St.Mary's church\, Kilmington
DESCRIPTION:
URL:https://upperstour.co.uk/event/morning-prayer-st-marys-church-kilmington-10/2027-11-11/
LOCATION:St.Mary’s Church\, Kilmington\, Church Rd\, Kilmington\, Wiltshire\, BA12 6TD\, United Kingdom
CATEGORIES:Regular Church Service
GEO:51.1256794;-2.3247554
X-APPLE-STRUCTURED-LOCATION;VALUE=URI;X-ADDRESS=St.Mary’s Church Kilmington Church Rd Kilmington Wiltshire BA12 6TD United Kingdom;X-APPLE-RADIUS=500;X-TITLE=Church Rd:geo:-2.3247554,51.1256794
END:VEVENT
BEGIN:VEVENT
DTSTART;TZID=Europe/London:20271115T090000
DTEND;TZID=Europe/London:20271115T100000
DTSTAMP:20260422T225300
CREATED:20230704T113930Z
LAST-MODIFIED:20230704T114113Z
UID:10002089-1826269200-1826272800@upperstour.co.uk
SUMMARY:Morning Prayers | St.George's church\, Bourton
DESCRIPTION:
URL:https://upperstour.co.uk/event/morning-prayers-st-georges-church-bourton-2020-11-09-2020-12-07-2/2027-11-15/
LOCATION:St.George’s Church\, Bourton\, Church Track\, Bourton\, Dorset\, SP8 5BW\, United Kingdom
CATEGORIES:Regular Church Service
GEO:51.0709798;-2.3318825
X-APPLE-STRUCTURED-LOCATION;VALUE=URI;X-ADDRESS=St.George’s Church Bourton Church Track Bourton Dorset SP8 5BW United Kingdom;X-APPLE-RADIUS=500;X-TITLE=Church Track:geo:-2.3318825,51.0709798
END:VEVENT
BEGIN:VEVENT
DTSTART;TZID=Europe/London:20271117T160000
DTEND;TZID=Europe/London:20271117T170000
DTSTAMP:20260422T225300
CREATED:20191020T105600Z
LAST-MODIFIED:20230704T113559Z
UID:10001864-1826467200-1826470800@upperstour.co.uk
SUMMARY:Midweek Communion | St.Martin's church\, Zeals
DESCRIPTION:
URL:https://upperstour.co.uk/event/parish-prayers-st-martins-church-zeals-6-2020-10-28-2020-11-11-2020-12-09-2021-07-28/2027-11-17/
LOCATION:St.Martin’s Church\, Zeals\, Portnells Lane\, Zeals\, Wiltshire\, BA12 6PG\, United Kingdom
CATEGORIES:Regular Church Service
GEO:51.0849031;-2.3153286
X-APPLE-STRUCTURED-LOCATION;VALUE=URI;X-ADDRESS=St.Martin’s Church Zeals Portnells Lane Zeals Wiltshire BA12 6PG United Kingdom;X-APPLE-RADIUS=500;X-TITLE=Portnells Lane:geo:-2.3153286,51.0849031
END:VEVENT
BEGIN:VEVENT
DTSTART;TZID=Europe/London:20271118T090000
DTEND;TZID=Europe/London:20271118T100000
DTSTAMP:20260422T225300
CREATED:20190915T105842Z
LAST-MODIFIED:20230704T113119Z
UID:10001639-1826528400-1826532000@upperstour.co.uk
SUMMARY:Morning Prayer | St.Mary's church\, Kilmington
DESCRIPTION:
URL:https://upperstour.co.uk/event/morning-prayer-st-marys-church-kilmington-10/2027-11-18/
LOCATION:St.Mary’s Church\, Kilmington\, Church Rd\, Kilmington\, Wiltshire\, BA12 6TD\, United Kingdom
CATEGORIES:Regular Church Service
GEO:51.1256794;-2.3247554
X-APPLE-STRUCTURED-LOCATION;VALUE=URI;X-ADDRESS=St.Mary’s Church Kilmington Church Rd Kilmington Wiltshire BA12 6TD United Kingdom;X-APPLE-RADIUS=500;X-TITLE=Church Rd:geo:-2.3247554,51.1256794
END:VEVENT
BEGIN:VEVENT
DTSTART;TZID=Europe/London:20271122T090000
DTEND;TZID=Europe/London:20271122T100000
DTSTAMP:20260422T225300
CREATED:20230704T113930Z
LAST-MODIFIED:20230704T114113Z
UID:10002090-1826874000-1826877600@upperstour.co.uk
SUMMARY:Morning Prayers | St.George's church\, Bourton
DESCRIPTION:
URL:https://upperstour.co.uk/event/morning-prayers-st-georges-church-bourton-2020-11-09-2020-12-07-2/2027-11-22/
LOCATION:St.George’s Church\, Bourton\, Church Track\, Bourton\, Dorset\, SP8 5BW\, United Kingdom
CATEGORIES:Regular Church Service
GEO:51.0709798;-2.3318825
X-APPLE-STRUCTURED-LOCATION;VALUE=URI;X-ADDRESS=St.George’s Church Bourton Church Track Bourton Dorset SP8 5BW United Kingdom;X-APPLE-RADIUS=500;X-TITLE=Church Track:geo:-2.3318825,51.0709798
END:VEVENT
BEGIN:VEVENT
DTSTART;TZID=Europe/London:20271124T160000
DTEND;TZID=Europe/London:20271124T170000
DTSTAMP:20260422T225300
CREATED:20191020T105600Z
LAST-MODIFIED:20230704T113559Z
UID:10001865-1827072000-1827075600@upperstour.co.uk
SUMMARY:Midweek Communion | St.Martin's church\, Zeals
DESCRIPTION:
URL:https://upperstour.co.uk/event/parish-prayers-st-martins-church-zeals-6-2020-10-28-2020-11-11-2020-12-09-2021-07-28/2027-11-24/
LOCATION:St.Martin’s Church\, Zeals\, Portnells Lane\, Zeals\, Wiltshire\, BA12 6PG\, United Kingdom
CATEGORIES:Regular Church Service
GEO:51.0849031;-2.3153286
X-APPLE-STRUCTURED-LOCATION;VALUE=URI;X-ADDRESS=St.Martin’s Church Zeals Portnells Lane Zeals Wiltshire BA12 6PG United Kingdom;X-APPLE-RADIUS=500;X-TITLE=Portnells Lane:geo:-2.3153286,51.0849031
END:VEVENT
BEGIN:VEVENT
DTSTART;TZID=Europe/London:20271125T090000
DTEND;TZID=Europe/London:20271125T100000
DTSTAMP:20260422T225300
CREATED:20190915T105842Z
LAST-MODIFIED:20230704T113119Z
UID:10001640-1827133200-1827136800@upperstour.co.uk
SUMMARY:Morning Prayer | St.Mary's church\, Kilmington
DESCRIPTION:
URL:https://upperstour.co.uk/event/morning-prayer-st-marys-church-kilmington-10/2027-11-25/
LOCATION:St.Mary’s Church\, Kilmington\, Church Rd\, Kilmington\, Wiltshire\, BA12 6TD\, United Kingdom
CATEGORIES:Regular Church Service
GEO:51.1256794;-2.3247554
X-APPLE-STRUCTURED-LOCATION;VALUE=URI;X-ADDRESS=St.Mary’s Church Kilmington Church Rd Kilmington Wiltshire BA12 6TD United Kingdom;X-APPLE-RADIUS=500;X-TITLE=Church Rd:geo:-2.3247554,51.1256794
END:VEVENT
BEGIN:VEVENT
DTSTART;TZID=Europe/London:20271129T090000
DTEND;TZID=Europe/London:20271129T100000
DTSTAMP:20260422T225300
CREATED:20230704T113930Z
LAST-MODIFIED:20230704T114113Z
UID:10002091-1827478800-1827482400@upperstour.co.uk
SUMMARY:Morning Prayers | St.George's church\, Bourton
DESCRIPTION:
URL:https://upperstour.co.uk/event/morning-prayers-st-georges-church-bourton-2020-11-09-2020-12-07-2/2027-11-29/
LOCATION:St.George’s Church\, Bourton\, Church Track\, Bourton\, Dorset\, SP8 5BW\, United Kingdom
CATEGORIES:Regular Church Service
GEO:51.0709798;-2.3318825
X-APPLE-STRUCTURED-LOCATION;VALUE=URI;X-ADDRESS=St.George’s Church Bourton Church Track Bourton Dorset SP8 5BW United Kingdom;X-APPLE-RADIUS=500;X-TITLE=Church Track:geo:-2.3318825,51.0709798
END:VEVENT
BEGIN:VEVENT
DTSTART;TZID=Europe/London:20271201T160000
DTEND;TZID=Europe/London:20271201T170000
DTSTAMP:20260422T225300
CREATED:20191020T105600Z
LAST-MODIFIED:20230704T113559Z
UID:10001866-1827676800-1827680400@upperstour.co.uk
SUMMARY:Midweek Communion | St.Martin's church\, Zeals
DESCRIPTION:
URL:https://upperstour.co.uk/event/parish-prayers-st-martins-church-zeals-6-2020-10-28-2020-11-11-2020-12-09-2021-07-28/2027-12-01/
LOCATION:St.Martin’s Church\, Zeals\, Portnells Lane\, Zeals\, Wiltshire\, BA12 6PG\, United Kingdom
CATEGORIES:Regular Church Service
GEO:51.0849031;-2.3153286
X-APPLE-STRUCTURED-LOCATION;VALUE=URI;X-ADDRESS=St.Martin’s Church Zeals Portnells Lane Zeals Wiltshire BA12 6PG United Kingdom;X-APPLE-RADIUS=500;X-TITLE=Portnells Lane:geo:-2.3153286,51.0849031
END:VEVENT
BEGIN:VEVENT
DTSTART;TZID=Europe/London:20271202T090000
DTEND;TZID=Europe/London:20271202T100000
DTSTAMP:20260422T225300
CREATED:20190915T105842Z
LAST-MODIFIED:20230704T113119Z
UID:10001641-1827738000-1827741600@upperstour.co.uk
SUMMARY:Morning Prayer | St.Mary's church\, Kilmington
DESCRIPTION:
URL:https://upperstour.co.uk/event/morning-prayer-st-marys-church-kilmington-10/2027-12-02/
LOCATION:St.Mary’s Church\, Kilmington\, Church Rd\, Kilmington\, Wiltshire\, BA12 6TD\, United Kingdom
CATEGORIES:Regular Church Service
GEO:51.1256794;-2.3247554
X-APPLE-STRUCTURED-LOCATION;VALUE=URI;X-ADDRESS=St.Mary’s Church Kilmington Church Rd Kilmington Wiltshire BA12 6TD United Kingdom;X-APPLE-RADIUS=500;X-TITLE=Church Rd:geo:-2.3247554,51.1256794
END:VEVENT
BEGIN:VEVENT
DTSTART;TZID=Europe/London:20271206T090000
DTEND;TZID=Europe/London:20271206T100000
DTSTAMP:20260422T225300
CREATED:20230704T113930Z
LAST-MODIFIED:20230704T114113Z
UID:10002092-1828083600-1828087200@upperstour.co.uk
SUMMARY:Morning Prayers | St.George's church\, Bourton
DESCRIPTION:
URL:https://upperstour.co.uk/event/morning-prayers-st-georges-church-bourton-2020-11-09-2020-12-07-2/2027-12-06/
LOCATION:St.George’s Church\, Bourton\, Church Track\, Bourton\, Dorset\, SP8 5BW\, United Kingdom
CATEGORIES:Regular Church Service
GEO:51.0709798;-2.3318825
X-APPLE-STRUCTURED-LOCATION;VALUE=URI;X-ADDRESS=St.George’s Church Bourton Church Track Bourton Dorset SP8 5BW United Kingdom;X-APPLE-RADIUS=500;X-TITLE=Church Track:geo:-2.3318825,51.0709798
END:VEVENT
BEGIN:VEVENT
DTSTART;TZID=Europe/London:20271208T160000
DTEND;TZID=Europe/London:20271208T170000
DTSTAMP:20260422T225300
CREATED:20191020T105600Z
LAST-MODIFIED:20230704T113559Z
UID:10001867-1828281600-1828285200@upperstour.co.uk
SUMMARY:Midweek Communion | St.Martin's church\, Zeals
DESCRIPTION:
URL:https://upperstour.co.uk/event/parish-prayers-st-martins-church-zeals-6-2020-10-28-2020-11-11-2020-12-09-2021-07-28/2027-12-08/
LOCATION:St.Martin’s Church\, Zeals\, Portnells Lane\, Zeals\, Wiltshire\, BA12 6PG\, United Kingdom
CATEGORIES:Regular Church Service
GEO:51.0849031;-2.3153286
X-APPLE-STRUCTURED-LOCATION;VALUE=URI;X-ADDRESS=St.Martin’s Church Zeals Portnells Lane Zeals Wiltshire BA12 6PG United Kingdom;X-APPLE-RADIUS=500;X-TITLE=Portnells Lane:geo:-2.3153286,51.0849031
END:VEVENT
BEGIN:VEVENT
DTSTART;TZID=Europe/London:20271209T090000
DTEND;TZID=Europe/London:20271209T100000
DTSTAMP:20260422T225300
CREATED:20190915T105842Z
LAST-MODIFIED:20230704T113119Z
UID:10001642-1828342800-1828346400@upperstour.co.uk
SUMMARY:Morning Prayer | St.Mary's church\, Kilmington
DESCRIPTION:
URL:https://upperstour.co.uk/event/morning-prayer-st-marys-church-kilmington-10/2027-12-09/
LOCATION:St.Mary’s Church\, Kilmington\, Church Rd\, Kilmington\, Wiltshire\, BA12 6TD\, United Kingdom
CATEGORIES:Regular Church Service
GEO:51.1256794;-2.3247554
X-APPLE-STRUCTURED-LOCATION;VALUE=URI;X-ADDRESS=St.Mary’s Church Kilmington Church Rd Kilmington Wiltshire BA12 6TD United Kingdom;X-APPLE-RADIUS=500;X-TITLE=Church Rd:geo:-2.3247554,51.1256794
END:VEVENT
BEGIN:VEVENT
DTSTART;TZID=Europe/London:20271213T090000
DTEND;TZID=Europe/London:20271213T100000
DTSTAMP:20260422T225300
CREATED:20230704T113930Z
LAST-MODIFIED:20230704T114113Z
UID:10002093-1828688400-1828692000@upperstour.co.uk
SUMMARY:Morning Prayers | St.George's church\, Bourton
DESCRIPTION:
URL:https://upperstour.co.uk/event/morning-prayers-st-georges-church-bourton-2020-11-09-2020-12-07-2/2027-12-13/
LOCATION:St.George’s Church\, Bourton\, Church Track\, Bourton\, Dorset\, SP8 5BW\, United Kingdom
CATEGORIES:Regular Church Service
GEO:51.0709798;-2.3318825
X-APPLE-STRUCTURED-LOCATION;VALUE=URI;X-ADDRESS=St.George’s Church Bourton Church Track Bourton Dorset SP8 5BW United Kingdom;X-APPLE-RADIUS=500;X-TITLE=Church Track:geo:-2.3318825,51.0709798
END:VEVENT
BEGIN:VEVENT
DTSTART;TZID=Europe/London:20271215T160000
DTEND;TZID=Europe/London:20271215T170000
DTSTAMP:20260422T225300
CREATED:20191020T105600Z
LAST-MODIFIED:20230704T113559Z
UID:10001868-1828886400-1828890000@upperstour.co.uk
SUMMARY:Midweek Communion | St.Martin's church\, Zeals
DESCRIPTION:
URL:https://upperstour.co.uk/event/parish-prayers-st-martins-church-zeals-6-2020-10-28-2020-11-11-2020-12-09-2021-07-28/2027-12-15/
LOCATION:St.Martin’s Church\, Zeals\, Portnells Lane\, Zeals\, Wiltshire\, BA12 6PG\, United Kingdom
CATEGORIES:Regular Church Service
GEO:51.0849031;-2.3153286
X-APPLE-STRUCTURED-LOCATION;VALUE=URI;X-ADDRESS=St.Martin’s Church Zeals Portnells Lane Zeals Wiltshire BA12 6PG United Kingdom;X-APPLE-RADIUS=500;X-TITLE=Portnells Lane:geo:-2.3153286,51.0849031
END:VEVENT
BEGIN:VEVENT
DTSTART;TZID=Europe/London:20271216T090000
DTEND;TZID=Europe/London:20271216T100000
DTSTAMP:20260422T225300
CREATED:20190915T105842Z
LAST-MODIFIED:20230704T113119Z
UID:10001643-1828947600-1828951200@upperstour.co.uk
SUMMARY:Morning Prayer | St.Mary's church\, Kilmington
DESCRIPTION:
URL:https://upperstour.co.uk/event/morning-prayer-st-marys-church-kilmington-10/2027-12-16/
LOCATION:St.Mary’s Church\, Kilmington\, Church Rd\, Kilmington\, Wiltshire\, BA12 6TD\, United Kingdom
CATEGORIES:Regular Church Service
GEO:51.1256794;-2.3247554
X-APPLE-STRUCTURED-LOCATION;VALUE=URI;X-ADDRESS=St.Mary’s Church Kilmington Church Rd Kilmington Wiltshire BA12 6TD United Kingdom;X-APPLE-RADIUS=500;X-TITLE=Church Rd:geo:-2.3247554,51.1256794
END:VEVENT
BEGIN:VEVENT
DTSTART;TZID=Europe/London:20271220T090000
DTEND;TZID=Europe/London:20271220T100000
DTSTAMP:20260422T225300
CREATED:20230704T113930Z
LAST-MODIFIED:20230704T114113Z
UID:10002094-1829293200-1829296800@upperstour.co.uk
SUMMARY:Morning Prayers | St.George's church\, Bourton
DESCRIPTION:
URL:https://upperstour.co.uk/event/morning-prayers-st-georges-church-bourton-2020-11-09-2020-12-07-2/2027-12-20/
LOCATION:St.George’s Church\, Bourton\, Church Track\, Bourton\, Dorset\, SP8 5BW\, United Kingdom
CATEGORIES:Regular Church Service
GEO:51.0709798;-2.3318825
X-APPLE-STRUCTURED-LOCATION;VALUE=URI;X-ADDRESS=St.George’s Church Bourton Church Track Bourton Dorset SP8 5BW United Kingdom;X-APPLE-RADIUS=500;X-TITLE=Church Track:geo:-2.3318825,51.0709798
END:VEVENT
BEGIN:VEVENT
DTSTART;TZID=Europe/London:20271222T160000
DTEND;TZID=Europe/London:20271222T170000
DTSTAMP:20260422T225300
CREATED:20191020T105600Z
LAST-MODIFIED:20230704T113559Z
UID:10001869-1829491200-1829494800@upperstour.co.uk
SUMMARY:Midweek Communion | St.Martin's church\, Zeals
DESCRIPTION:
URL:https://upperstour.co.uk/event/parish-prayers-st-martins-church-zeals-6-2020-10-28-2020-11-11-2020-12-09-2021-07-28/2027-12-22/
LOCATION:St.Martin’s Church\, Zeals\, Portnells Lane\, Zeals\, Wiltshire\, BA12 6PG\, United Kingdom
CATEGORIES:Regular Church Service
GEO:51.0849031;-2.3153286
X-APPLE-STRUCTURED-LOCATION;VALUE=URI;X-ADDRESS=St.Martin’s Church Zeals Portnells Lane Zeals Wiltshire BA12 6PG United Kingdom;X-APPLE-RADIUS=500;X-TITLE=Portnells Lane:geo:-2.3153286,51.0849031
END:VEVENT
BEGIN:VEVENT
DTSTART;TZID=Europe/London:20271223T090000
DTEND;TZID=Europe/London:20271223T100000
DTSTAMP:20260422T225300
CREATED:20190915T105842Z
LAST-MODIFIED:20230704T113119Z
UID:10001644-1829552400-1829556000@upperstour.co.uk
SUMMARY:Morning Prayer | St.Mary's church\, Kilmington
DESCRIPTION:
URL:https://upperstour.co.uk/event/morning-prayer-st-marys-church-kilmington-10/2027-12-23/
LOCATION:St.Mary’s Church\, Kilmington\, Church Rd\, Kilmington\, Wiltshire\, BA12 6TD\, United Kingdom
CATEGORIES:Regular Church Service
GEO:51.1256794;-2.3247554
X-APPLE-STRUCTURED-LOCATION;VALUE=URI;X-ADDRESS=St.Mary’s Church Kilmington Church Rd Kilmington Wiltshire BA12 6TD United Kingdom;X-APPLE-RADIUS=500;X-TITLE=Church Rd:geo:-2.3247554,51.1256794
END:VEVENT
BEGIN:VEVENT
DTSTART;TZID=Europe/London:20271224T140000
DTEND;TZID=Europe/London:20271224T150000
DTSTAMP:20260422T225300
CREATED:20260324T171732Z
LAST-MODIFIED:20260324T171733Z
UID:10003322-1829656800-1829660400@upperstour.co.uk
SUMMARY:Whitesheet School Carols
DESCRIPTION:
URL:https://upperstour.co.uk/event/whitesheet-school-carols-3/2027-12-24/
LOCATION:St.Martin’s Church\, Zeals\, Portnells Lane\, Zeals\, Wiltshire\, BA12 6PG\, United Kingdom
CATEGORIES:Community
GEO:51.0849031;-2.3153286
X-APPLE-STRUCTURED-LOCATION;VALUE=URI;X-ADDRESS=St.Martin’s Church Zeals Portnells Lane Zeals Wiltshire BA12 6PG United Kingdom;X-APPLE-RADIUS=500;X-TITLE=Portnells Lane:geo:-2.3153286,51.0849031
END:VEVENT
BEGIN:VEVENT
DTSTART;TZID=Europe/London:20271227T090000
DTEND;TZID=Europe/London:20271227T100000
DTSTAMP:20260422T225300
CREATED:20230704T113930Z
LAST-MODIFIED:20230704T114113Z
UID:10002095-1829898000-1829901600@upperstour.co.uk
SUMMARY:Morning Prayers | St.George's church\, Bourton
DESCRIPTION:
URL:https://upperstour.co.uk/event/morning-prayers-st-georges-church-bourton-2020-11-09-2020-12-07-2/2027-12-27/
LOCATION:St.George’s Church\, Bourton\, Church Track\, Bourton\, Dorset\, SP8 5BW\, United Kingdom
CATEGORIES:Regular Church Service
GEO:51.0709798;-2.3318825
X-APPLE-STRUCTURED-LOCATION;VALUE=URI;X-ADDRESS=St.George’s Church Bourton Church Track Bourton Dorset SP8 5BW United Kingdom;X-APPLE-RADIUS=500;X-TITLE=Church Track:geo:-2.3318825,51.0709798
END:VEVENT
END:VCALENDAR